{"text_format":"1","workbook":"xlsx","n_sheets":7,"sheets":["Tabla de Homologación y Notas","Revisión BDD","PE MOP","Hoja1","BDD","Datos","Hoja2"],"not_rendered":{"charts":0,"images":1,"macros":1,"external_links":0,"defined_names":22,"comments":3,"pivot_tables":0},"unopened":[],"bounds":{"document_bytes":16777216,"sheet_cells":100000,"rows_first":2000,"rows_last":500,"rows_between":2000,"halvings":0,"cell_chars":16384,"cell_head_chars":4096},"cells_cut":0,"cells_raw":0,"read":"whole","date_system":"1900"}

{"sheet":"Tabla de Homologación y Notas","index":0,"n_rows":50,"n_cols":5,"rows_kept":50,"cut":false,"hidden":false,"merged":[[37,1,37,3],[16,3,17,3],[41,1,41,3],[20,3,21,3],[40,1,40,3],[7,1,7,3],[5,2,5,6],[26,1,35,1],[27,2,29,2],[30,2,35,2],[45,1,45,3],[47,1,47,3],[49,1,49,3],[43,1,43,3],[39,1,39,3]]}
["LOGO"]
[]
[]
[null,"Numerador \nN° de reclamos respondidos en el año t","Denominador \nTotal de reclamos recibidos al año t","Valor efectivo","Meta 2022"]
[null,{"$f":"COUNTIF(BDD!G4:G134, \"respondido\")-CONTARCOLOR('Tabla de Homologación y Notas'!B22,BDD!G4:G137)","v":29},{"$f":"COUNTA(BDD!D4:D39)-COUNTIF(BDD!G4:G137,\"RESPONDIDO (DERIVADO EXTERNO)\")- (CONTARCOLOR('Tabla de Homologación y Notas'!B22,BDD!G4:G137))","v":29},{"$f":"B5/C5","v":1},0.98]
[]
[]
[null,"TABLA HOMOLOGACIÓN"]
[null,"COLUMNA","NOMBRE ORIGINAL EN BASE DE DATOS","HOMOLOGACIÓN MV DS N°465 / 2021"]
[null,"COLUMNA B","NÚMERO DE SOLICITUD*","CÓDIGO UNICO DE IDENTIFICACIÓN (ID) DEL RECLAMO"]
[null,"COLUMNA C","PRODUCTO ESTRATÉGICO","ACTUACIONES, ATENCIONES O PRODUCTOS (BIEN O SERVICIO) QUE APLICA. "]
[null,"COLUMNA D","FECHA INGRESO FORMULARIO","FECHA DE INGRESO"]
[null,"COLUMNA E","FECHA ENVÍO DE RESPUESTA","FECHA DE RESPUESTA\n "]
[null,"COLUMNA F","NÚMERO DE SOLICITUD*","N° DE OFICIO O IDENTIFICACIÓN DEL DOCUMENTO EN QUE SE CONTIENE LA RESPUESTA "]
[null,"COLUMNA G","ESTADO","ESTADO DEL RECLAMO"]
[null," Subcategoría Columna G","INGRESADO","INGRESADO"]
[null,null,"POR RESPONDER","EN ANÁLISIS"]
[null,null,"SUBSANACIÓN"]
[null,null,"RESPONDIDO","RESPONDIDO"]
[null,null,"DESISTIDO","DESISTIDO"]
[null,null,"RESPONDIDO (DERIVADO EXTERNO)","DERIVADO "]
[null,null,"RESPONDIDO (con color verde)**"]
[]
[]
[null,"La columna C, se completa manualmente con las siguientes categorías y subcategorías:"]
[null,"COLUMNA","CATEGORÍA","SUBCATEGORÍA"]
[null,"COLUMNA C","ACTUACIÓN","Otros"]
[null,null,"ATENCIONES","ATENCIÓN TELEFÓNICA"]
[null,null,null,"ATENCIÓN PRESENCIAL"]
[null,null,null,"ATENCIÓN DIGITAL"]
[null,null,"PRODUCTOS ESTRATÉGICOS","ASESORÍA JURÍDICA PARA LA TOMA DE DECISIONES DE LAS AUTORIDADES DEL MINISTERIO"]
[null,null,null,"POLÍTICAS, PLANES Y PROGRAMAS EN EL ÁMBITO DESARROLLO Y GESTIÓN DE LAS PERSONAS A NIVEL MOP."]
[null,null,null,"POLÍTICA Y GESTIÓN DEL GASTO CORRIENTE, ABASTECIMIENTO DE BIENES Y SERVICIOS Y RECURSOS FÍSICOS A NIVEL MOP"]
[null,null,null,"INSTRUMENTOS DE COMUNICACIÓN INTERNA Y EXTERNA"]
[null,null,null,"SISTEMA DE PLANIFICACIÓN, MONITOREO Y CONTROL DE GESTIÓN MINISTERIAL"]
[null,null,null,"SISTEMA INTEGRAL DE INFRAESTRUCTURA COMPUTACIONAL, INFORMÁTICA Y TELECOMUNICACIONES DEL MOP"]
[]
[null,"*Nota 1: el Ministerio de Obras Públicas de la base de datos que extrae de su sistema de gestión de reclamos, no genera un ID distinto para la emisión de la respuesta al ciudadano que permita completar la información del campo “n° de oficio o identificación del documento que se contiene la respuesta”. Por tanto para completar los campos solicitados en los requisitos técnicos del indicador, se replicará el campo denominado \"número de solicitud\" de la base de datos como identificador de la respuesta. Lo anterior considerando que este ID permite identificar el reclamo y su respectiva respuesta en el sistema de gestión de reclamos del MOP y en el historial de la solicitud."]
[]
[null,"**Nota 2:  Para los reclamos derivados existen 2 tipos de estados: Los Respondidos (derivados externos), que son aquellos derivados internamente a la institución  que corresponde y los Respondidos marcados con color verde, que son aquellos que se responden al ciudadano para que se dirija al organismo o institución que corresponmda. Ambos son excluidos de la medición por tratarse de reclamos derivados. "]
[null,"*Nota 3: Para los reclamos derivados, el campo de Categoría se completa con \"No es competencia del Servicio\""]
[null,"*Nota 4: En esta base de datos no se incluyeron los reclamos inadmisibles  debido a que no cumplen con los requisitos minimos para ser un reclamo respondido por el Servicio y de acuerdo al art. 40 de la ley 19.880 esta categoría de solicitudes si concluyen el procedimiento."]
[]
[null,"*Nota 5: La subcategoría de Atenciones se refiere a la clasificación de un reclamo proveniente de una mala atención telefónica, presencial o digital por parte de un funcionario del Servicio."]
[]
[null,"*Nota 6: El Servicio no tiene reclamos pendientes por responder correspondientes a años anteriores. "]
[]
[null,"*Nota 7: En la pestaña \"Datos\" la contabilización mes a mes de los reclamos ingresados y respondidos es acumulativa conforme a la guía metodologica de la red de experto."]
[]
[null,"*Nota 8: El Servicio no tiene reclamos desistidos a la fecha. "]

{"sheet":"Revisión BDD","index":1,"n_rows":1785,"n_cols":43,"rows_kept":1785,"cut":false,"hidden":true,"merged":[[0,7,0,9],[1,2,1,3]]}
[null,null,null,null,null,null,null,"REVISIÓN DE CONSISTENCIA"]
[null,null,"SERVICIO",null,"DCYF",null,null,"Revisa si los ID son iguales","Revisa que la fecha de envío sea posterior a la fecha de respuesta","Revisa que no existan ID repetidos"]
["N° CORRELATIVO ","NÚMERO DE SOLICITUD","PRODUCTO ESTRATÉGICO","FECHA INGRESO FORMULARIO","FECHA ENVÍO DE RESPUESTA","NÚMERO DE SOLICITUD","ESTADO"]
[null,null,null,null,null,null,null,{"$f":"IF(F4=\"\",\"\",IF(B4=F4,\"Son iguales\",\"Hay error en los números de solicitud\"))","v":""},{"$f":"IF(E4=\"\",\"\",IF(E4<D4,\"Error entre fechas\",\"Fechas correctas\"))","v":""},{"$f":"IF(B4=\"\",\"\",IF(COUNTIF($B$4:$B1273,B4)=1,\"ID Único OK\",\"ID repetido\"))","v":""}]
[null,null,null,null,null,null,null,{"$f":"IF(F5=\"\",\"\",IF(B5=F5,\"Son iguales\",\"Hay error en los números de solicitud\"))","v":""},{"$f":"IF(E5=\"\",\"\",IF(E5<D5,\"Error entre fechas\",\"Fechas correctas\"))","v":""},{"$f":"IF(B5=\"\",\"\",IF(COUNTIF($B$4:$B1274,B5)=1,\"ID Único OK\",\"ID repetido\"))","v":""}]
[null,null,null,null,null,null,null,"","",{"$f":"IF(B6=\"\",\"\",IF(COUNTIF($B$4:$B1275,B6)=1,\"ID Único OK\",\"ID repetido\"))","v":""}]
[null,null,null,null,null,null,null,"","",{"$f":"IF(B7=\"\",\"\",IF(COUNTIF($B$4:$B1276,B7)=1,\"ID Único OK\",\"ID repetido\"))","v":""},null,null,null,null,null,null,null,null,null,null,null,null,null,null,null,null,null,null,null,null,null,null,null,null,null,null,null,null,null,null,null,null,"INGRESADO"]
[null,null,null,null,null,null,null,"","",{"$f":"IF(B8=\"\",\"\",IF(COUNTIF($B$4:$B1277,B8)=1,\"ID Único OK\",\"ID repetido\"))","v":""},null,null,null,null,null,null,null,null,null,null,null,null,null,null,null,null,null,null,null,null,null,null,null,null,null,null,null,null,null,null,null,null,"EN ANÁLISIS"]
[null,null,null,null,null,null,null,"","",{"$f":"IF(B9=\"\",\"\",IF(COUNTIF($B$4:$B1278,B9)=1,\"ID Único OK\",\"ID repetido\"))","v":""},null,null,null,null,null,null,null,null,null,null,null,null,null,null,null,null,null,null,null,null,null,null,null,null,null,null,null,null,null,null,null,null,"RESPONDIDO"]
[null,null,null,null,null,null,null,"","",{"$f":"IF(B10=\"\",\"\",IF(COUNTIF($B$4:$B1279,B10)=1,\"ID Único OK\",\"ID repetido\"))","v":""}]
[null,null,null,null,null,null,null,"","",{"$f":"IF(B11=\"\",\"\",IF(COUNTIF($B$4:$B1280,B11)=1,\"ID Único OK\",\"ID repetido\"))","v":""}]
[null,null,null,null,null,null,null,"","",{"$f":"IF(B12=\"\",\"\",IF(COUNTIF($B$4:$B1281,B12)=1,\"ID Único OK\",\"ID repetido\"))","v":""}]
[null,null,null,null,null,null,null,"","",{"$f":"IF(B13=\"\",\"\",IF(COUNTIF($B$4:$B1282,B13)=1,\"ID Único OK\",\"ID repetido\"))","v":""}]
[null,null,null,null,null,null,null,"","",{"$f":"IF(B14=\"\",\"\",IF(COUNTIF($B$4:$B1283,B14)=1,\"ID Único OK\",\"ID repetido\"))","v":""}]
[null,null,null,null,null,null,null,"","",{"$f":"IF(B15=\"\",\"\",IF(COUNTIF($B$4:$B1284,B15)=1,\"ID Único OK\",\"ID repetido\"))","v":""}]
[null,null,null,null,null,null,null,"","",{"$f":"IF(B16=\"\",\"\",IF(COUNTIF($B$4:$B1285,B16)=1,\"ID Único OK\",\"ID repetido\"))","v":""}]
[null,null,null,null,null,null,null,"","",{"$f":"IF(B17=\"\",\"\",IF(COUNTIF($B$4:$B1286,B17)=1,\"ID Único OK\",\"ID repetido\"))","v":""}]
[null,null,null,null,null,null,null,"","",{"$f":"IF(B18=\"\",\"\",IF(COUNTIF($B$4:$B1287,B18)=1,\"ID Único OK\",\"ID repetido\"))","v":""}]
[null,null,null,null,null,null,null,"","",{"$f":"IF(B19=\"\",\"\",IF(COUNTIF($B$4:$B1288,B19)=1,\"ID Único OK\",\"ID repetido\"))","v":""}]
[null,null,null,null,null,null,null,"","",{"$f":"IF(B20=\"\",\"\",IF(COUNTIF($B$4:$B1289,B20)=1,\"ID Único OK\",\"ID repetido\"))","v":""}]
[null,null,null,null,null,null,null,"","",{"$f":"IF(B21=\"\",\"\",IF(COUNTIF($B$4:$B1290,B21)=1,\"ID Único OK\",\"ID repetido\"))","v":""}]
[null,null,null,null,null,null,null,"","",{"$f":"IF(B22=\"\",\"\",IF(COUNTIF($B$4:$B1291,B22)=1,\"ID Único OK\",\"ID repetido\"))","v":""}]
[null,null,null,null,null,null,null,"","",{"$f":"IF(B23=\"\",\"\",IF(COUNTIF($B$4:$B1292,B23)=1,\"ID Único OK\",\"ID repetido\"))","v":""}]
[null,null,null,null,null,null,null,"","",{"$f":"IF(B24=\"\",\"\",IF(COUNTIF($B$4:$B1293,B24)=1,\"ID Único OK\",\"ID repetido\"))","v":""}]
[null,null,null,null,null,null,null,"","",{"$f":"IF(B25=\"\",\"\",IF(COUNTIF($B$4:$B1294,B25)=1,\"ID Único OK\",\"ID repetido\"))","v":""}]
[null,null,null,null,null,null,null,"","",{"$f":"IF(B26=\"\",\"\",IF(COUNTIF($B$4:$B1295,B26)=1,\"ID Único OK\",\"ID repetido\"))","v":""}]
[null,null,null,null,null,null,null,"","",{"$f":"IF(B27=\"\",\"\",IF(COUNTIF($B$4:$B1296,B27)=1,\"ID Único OK\",\"ID repetido\"))","v":""}]
[null,null,null,null,null,null,null,"","",{"$f":"IF(B28=\"\",\"\",IF(COUNTIF($B$4:$B1297,B28)=1,\"ID Único OK\",\"ID repetido\"))","v":""}]
[null,null,null,null,null,null,null,"","",{"$f":"IF(B29=\"\",\"\",IF(COUNTIF($B$4:$B1298,B29)=1,\"ID Único OK\",\"ID repetido\"))","v":""}]
[null,null,null,null,null,null,null,"","",{"$f":"IF(B30=\"\",\"\",IF(COUNTIF($B$4:$B1299,B30)=1,\"ID Único OK\",\"ID repetido\"))","v":""}]
[null,null,null,null,null,null,null,"","",{"$f":"IF(B31=\"\",\"\",IF(COUNTIF($B$4:$B1300,B31)=1,\"ID Único OK\",\"ID repetido\"))","v":""}]
[null,null,null,null,null,null,null,"","",{"$f":"IF(B32=\"\",\"\",IF(COUNTIF($B$4:$B1301,B32)=1,\"ID Único OK\",\"ID repetido\"))","v":""}]
[null,null,null,null,null,null,null,"","",{"$f":"IF(B33=\"\",\"\",IF(COUNTIF($B$4:$B1302,B33)=1,\"ID Único OK\",\"ID repetido\"))","v":""}]
[null,null,null,null,null,null,null,"","",{"$f":"IF(B34=\"\",\"\",IF(COUNTIF($B$4:$B1303,B34)=1,\"ID Único OK\",\"ID repetido\"))","v":""}]
[null,null,null,null,null,null,null,"","",{"$f":"IF(B35=\"\",\"\",IF(COUNTIF($B$4:$B1304,B35)=1,\"ID Único OK\",\"ID repetido\"))","v":""}]
[null,null,null,null,null,null,null,"","",{"$f":"IF(B36=\"\",\"\",IF(COUNTIF($B$4:$B1305,B36)=1,\"ID Único OK\",\"ID repetido\"))","v":""}]
[null,null,null,null,null,null,null,"","",{"$f":"IF(B37=\"\",\"\",IF(COUNTIF($B$4:$B1306,B37)=1,\"ID Único OK\",\"ID repetido\"))","v":""}]
[null,null,null,null,null,null,null,"","",{"$f":"IF(B38=\"\",\"\",IF(COUNTIF($B$4:$B1307,B38)=1,\"ID Único OK\",\"ID repetido\"))","v":""}]
[null,null,null,null,null,null,null,"","",{"$f":"IF(B39=\"\",\"\",IF(COUNTIF($B$4:$B1308,B39)=1,\"ID Único OK\",\"ID repetido\"))","v":""}]
[null,null,null,null,null,null,null,"","",{"$f":"IF(B40=\"\",\"\",IF(COUNTIF($B$4:$B1309,B40)=1,\"ID Único OK\",\"ID repetido\"))","v":""}]
[null,null,null,null,null,null,null,"","",{"$f":"IF(B41=\"\",\"\",IF(COUNTIF($B$4:$B1310,B41)=1,\"ID Único OK\",\"ID repetido\"))","v":""}]
[null,null,null,null,null,null,null,"","",{"$f":"IF(B42=\"\",\"\",IF(COUNTIF($B$4:$B1311,B42)=1,\"ID Único OK\",\"ID repetido\"))","v":""}]
[null,null,null,null,null,null,null,"","",{"$f":"IF(B43=\"\",\"\",IF(COUNTIF($B$4:$B1312,B43)=1,\"ID Único OK\",\"ID repetido\"))","v":""}]
[null,null,null,null,null,null,null,"","",{"$f":"IF(B44=\"\",\"\",IF(COUNTIF($B$4:$B1313,B44)=1,\"ID Único OK\",\"ID repetido\"))","v":""}]
[null,null,null,null,null,null,null,"","",{"$f":"IF(B45=\"\",\"\",IF(COUNTIF($B$4:$B1314,B45)=1,\"ID Único OK\",\"ID repetido\"))","v":""}]
[null,null,null,null,null,null,null,"","",{"$f":"IF(B46=\"\",\"\",IF(COUNTIF($B$4:$B1315,B46)=1,\"ID Único OK\",\"ID repetido\"))","v":""}]
[null,null,null,null,null,null,null,"","",{"$f":"IF(B47=\"\",\"\",IF(COUNTIF($B$4:$B1316,B47)=1,\"ID Único OK\",\"ID repetido\"))","v":""}]
[null,null,null,null,null,null,null,"","",{"$f":"IF(B48=\"\",\"\",IF(COUNTIF($B$4:$B1317,B48)=1,\"ID Único OK\",\"ID repetido\"))","v":""}]
[null,null,null,null,null,null,null,"","",{"$f":"IF(B49=\"\",\"\",IF(COUNTIF($B$4:$B1318,B49)=1,\"ID Único OK\",\"ID repetido\"))","v":""}]
[null,null,null,null,null,null,null,"","",{"$f":"IF(B50=\"\",\"\",IF(COUNTIF($B$4:$B1319,B50)=1,\"ID Único OK\",\"ID repetido\"))","v":""}]
[null,null,null,null,null,null,null,"","",{"$f":"IF(B51=\"\",\"\",IF(COUNTIF($B$4:$B1320,B51)=1,\"ID Único OK\",\"ID repetido\"))","v":""}]
[null,null,null,null,null,null,null,"","",{"$f":"IF(B52=\"\",\"\",IF(COUNTIF($B$4:$B1321,B52)=1,\"ID Único OK\",\"ID repetido\"))","v":""}]
[null,null,null,null,null,null,null,"","",{"$f":"IF(B53=\"\",\"\",IF(COUNTIF($B$4:$B1322,B53)=1,\"ID Único OK\",\"ID repetido\"))","v":""}]
[null,null,null,null,null,null,null,"","",{"$f":"IF(B54=\"\",\"\",IF(COUNTIF($B$4:$B1323,B54)=1,\"ID Único OK\",\"ID repetido\"))","v":""}]
[null,null,null,null,null,null,null,"","",{"$f":"IF(B55=\"\",\"\",IF(COUNTIF($B$4:$B1324,B55)=1,\"ID Único OK\",\"ID repetido\"))","v":""}]
[null,null,null,null,null,null,null,"","",{"$f":"IF(B56=\"\",\"\",IF(COUNTIF($B$4:$B1325,B56)=1,\"ID Único OK\",\"ID repetido\"))","v":""}]
[null,null,null,null,null,null,null,"","",{"$f":"IF(B57=\"\",\"\",IF(COUNTIF($B$4:$B1326,B57)=1,\"ID Único OK\",\"ID repetido\"))","v":""}]
[null,null,null,null,null,null,null,"","",{"$f":"IF(B58=\"\",\"\",IF(COUNTIF($B$4:$B1327,B58)=1,\"ID Único OK\",\"ID repetido\"))","v":""}]
[null,null,null,null,null,null,null,"","",{"$f":"IF(B59=\"\",\"\",IF(COUNTIF($B$4:$B1328,B59)=1,\"ID Único OK\",\"ID repetido\"))","v":""}]
[null,null,null,null,null,null,null,"","",{"$f":"IF(B60=\"\",\"\",IF(COUNTIF($B$4:$B1329,B60)=1,\"ID Único OK\",\"ID repetido\"))","v":""}]
[null,null,null,null,null,null,null,"","",{"$f":"IF(B61=\"\",\"\",IF(COUNTIF($B$4:$B1330,B61)=1,\"ID Único OK\",\"ID repetido\"))","v":""}]
[null,null,null,null,null,null,null,"","",{"$f":"IF(B62=\"\",\"\",IF(COUNTIF($B$4:$B1331,B62)=1,\"ID Único OK\",\"ID repetido\"))","v":""}]
[null,null,null,null,null,null,null,"","",{"$f":"IF(B63=\"\",\"\",IF(COUNTIF($B$4:$B1332,B63)=1,\"ID Único OK\",\"ID repetido\"))","v":""}]
[null,null,null,null,null,null,null,"","",{"$f":"IF(B64=\"\",\"\",IF(COUNTIF($B$4:$B1333,B64)=1,\"ID Único OK\",\"ID repetido\"))","v":""}]
[null,null,null,null,null,null,null,"","",{"$f":"IF(B65=\"\",\"\",IF(COUNTIF($B$4:$B1334,B65)=1,\"ID Único OK\",\"ID repetido\"))","v":""}]
[null,null,null,null,null,null,null,"","",{"$f":"IF(B66=\"\",\"\",IF(COUNTIF($B$4:$B1335,B66)=1,\"ID Único OK\",\"ID repetido\"))","v":""}]
[null,null,null,null,null,null,null,"","",{"$f":"IF(B67=\"\",\"\",IF(COUNTIF($B$4:$B1336,B67)=1,\"ID Único OK\",\"ID repetido\"))","v":""}]
[null,null,null,null,null,null,null,"","",{"$f":"IF(B68=\"\",\"\",IF(COUNTIF($B$4:$B1337,B68)=1,\"ID Único OK\",\"ID repetido\"))","v":""}]
[null,null,null,null,null,null,null,{"$f":"IF(F69=\"\",\"\",IF(B69=F69,\"Son iguales\",\"Hay error en los números de solicitud\"))","v":""},{"$f":"IF(E69=\"\",\"\",IF(E69<D69,\"Error entre fechas\",\"Fechas correctas\"))","v":""},{"$f":"IF(B69=\"\",\"\",IF(COUNTIF($B$4:$B1338,B69)=1,\"ID Único OK\",\"ID repetido\"))","v":""}]
[null,null,null,null,null,null,null,"","",{"$f":"IF(B70=\"\",\"\",IF(COUNTIF($B$4:$B1339,B70)=1,\"ID Único OK\",\"ID repetido\"))","v":""}]
[null,null,null,null,null,null,null,"","",{"$f":"IF(B71=\"\",\"\",IF(COUNTIF($B$4:$B1340,B71)=1,\"ID Único OK\",\"ID repetido\"))","v":""}]
[null,null,null,null,null,null,null,"","",{"$f":"IF(B72=\"\",\"\",IF(COUNTIF($B$4:$B1341,B72)=1,\"ID Único OK\",\"ID repetido\"))","v":""}]
[null,null,null,null,null,null,null,"","",{"$f":"IF(B73=\"\",\"\",IF(COUNTIF($B$4:$B1342,B73)=1,\"ID Único OK\",\"ID repetido\"))","v":""}]
[null,null,null,null,null,null,null,"","",{"$f":"IF(B74=\"\",\"\",IF(COUNTIF($B$4:$B1343,B74)=1,\"ID Único OK\",\"ID repetido\"))","v":""}]
[null,null,null,null,null,null,null,"","",{"$f":"IF(B75=\"\",\"\",IF(COUNTIF($B$4:$B1344,B75)=1,\"ID Único OK\",\"ID repetido\"))","v":""}]
[null,null,null,null,null,null,null,"","",{"$f":"IF(B76=\"\",\"\",IF(COUNTIF($B$4:$B1345,B76)=1,\"ID Único OK\",\"ID repetido\"))","v":""}]
[null,null,null,null,null,null,null,"","",{"$f":"IF(B77=\"\",\"\",IF(COUNTIF($B$4:$B1346,B77)=1,\"ID Único OK\",\"ID repetido\"))","v":""}]
[null,null,null,null,null,null,null,"","",{"$f":"IF(B78=\"\",\"\",IF(COUNTIF($B$4:$B1347,B78)=1,\"ID Único OK\",\"ID repetido\"))","v":""}]
[null,null,null,null,null,null,null,"","",{"$f":"IF(B79=\"\",\"\",IF(COUNTIF($B$4:$B1348,B79)=1,\"ID Único OK\",\"ID repetido\"))","v":""}]
[null,null,null,null,null,null,null,"","",{"$f":"IF(B80=\"\",\"\",IF(COUNTIF($B$4:$B1349,B80)=1,\"ID Único OK\",\"ID repetido\"))","v":""}]
[null,null,null,null,null,null,null,"","",{"$f":"IF(B81=\"\",\"\",IF(COUNTIF($B$4:$B1350,B81)=1,\"ID Único OK\",\"ID repetido\"))","v":""}]
[null,null,null,null,null,null,null,"","",{"$f":"IF(B82=\"\",\"\",IF(COUNTIF($B$4:$B1351,B82)=1,\"ID Único OK\",\"ID repetido\"))","v":""}]
[null,null,null,null,null,null,null,"","",{"$f":"IF(B83=\"\",\"\",IF(COUNTIF($B$4:$B1352,B83)=1,\"ID Único OK\",\"ID repetido\"))","v":""}]
[null,null,null,null,null,null,null,"","",{"$f":"IF(B84=\"\",\"\",IF(COUNTIF($B$4:$B1353,B84)=1,\"ID Único OK\",\"ID repetido\"))","v":""}]
[null,null,null,null,null,null,null,"","",{"$f":"IF(B85=\"\",\"\",IF(COUNTIF($B$4:$B1354,B85)=1,\"ID Único OK\",\"ID repetido\"))","v":""}]
[null,null,null,null,null,null,null,"","",{"$f":"IF(B86=\"\",\"\",IF(COUNTIF($B$4:$B1355,B86)=1,\"ID Único OK\",\"ID repetido\"))","v":""}]
[null,null,null,null,null,null,null,"","",{"$f":"IF(B87=\"\",\"\",IF(COUNTIF($B$4:$B1356,B87)=1,\"ID Único OK\",\"ID repetido\"))","v":""}]
[null,null,null,null,null,null,null,"","",{"$f":"IF(B88=\"\",\"\",IF(COUNTIF($B$4:$B1357,B88)=1,\"ID Único OK\",\"ID repetido\"))","v":""}]
[null,null,null,null,null,null,null,"","",{"$f":"IF(B89=\"\",\"\",IF(COUNTIF($B$4:$B1358,B89)=1,\"ID Único OK\",\"ID repetido\"))","v":""}]
[null,null,null,null,null,null,null,"","",{"$f":"IF(B90=\"\",\"\",IF(COUNTIF($B$4:$B1359,B90)=1,\"ID Único OK\",\"ID repetido\"))","v":""}]
[null,null,null,null,null,null,null,"","",{"$f":"IF(B91=\"\",\"\",IF(COUNTIF($B$4:$B1360,B91)=1,\"ID Único OK\",\"ID repetido\"))","v":""}]
[null,null,null,null,null,null,null,"","",{"$f":"IF(B92=\"\",\"\",IF(COUNTIF($B$4:$B1361,B92)=1,\"ID Único OK\",\"ID repetido\"))","v":""}]
[null,null,null,null,null,null,null,"","",{"$f":"IF(B93=\"\",\"\",IF(COUNTIF($B$4:$B1362,B93)=1,\"ID Único OK\",\"ID repetido\"))","v":""}]
[null,null,null,null,null,null,null,"","",{"$f":"IF(B94=\"\",\"\",IF(COUNTIF($B$4:$B1363,B94)=1,\"ID Único OK\",\"ID repetido\"))","v":""}]
[null,null,null,null,null,null,null,"","",{"$f":"IF(B95=\"\",\"\",IF(COUNTIF($B$4:$B1364,B95)=1,\"ID Único OK\",\"ID repetido\"))","v":""}]
[null,null,null,null,null,null,null,"","",{"$f":"IF(B96=\"\",\"\",IF(COUNTIF($B$4:$B1365,B96)=1,\"ID Único OK\",\"ID repetido\"))","v":""}]
[null,null,null,null,null,null,null,"","",{"$f":"IF(B97=\"\",\"\",IF(COUNTIF($B$4:$B1366,B97)=1,\"ID Único OK\",\"ID repetido\"))","v":""}]
[null,null,null,null,null,null,null,"","",{"$f":"IF(B98=\"\",\"\",IF(COUNTIF($B$4:$B1367,B98)=1,\"ID Único OK\",\"ID repetido\"))","v":""}]
[null,null,null,null,null,null,null,"","",{"$f":"IF(B99=\"\",\"\",IF(COUNTIF($B$4:$B1368,B99)=1,\"ID Único OK\",\"ID repetido\"))","v":""}]
[null,null,null,null,null,null,null,"","",{"$f":"IF(B100=\"\",\"\",IF(COUNTIF($B$4:$B1369,B100)=1,\"ID Único OK\",\"ID repetido\"))","v":""}]
[null,null,null,null,null,null,null,"","",{"$f":"IF(B101=\"\",\"\",IF(COUNTIF($B$4:$B1370,B101)=1,\"ID Único OK\",\"ID repetido\"))","v":""}]
[null,null,null,null,null,null,null,"","",{"$f":"IF(B102=\"\",\"\",IF(COUNTIF($B$4:$B1371,B102)=1,\"ID Único OK\",\"ID repetido\"))","v":""}]
[null,null,null,null,null,null,null,"","",{"$f":"IF(B103=\"\",\"\",IF(COUNTIF($B$4:$B1372,B103)=1,\"ID Único OK\",\"ID repetido\"))","v":""}]
[null,null,null,null,null,null,null,"","",{"$f":"IF(B104=\"\",\"\",IF(COUNTIF($B$4:$B1373,B104)=1,\"ID Único OK\",\"ID repetido\"))","v":""}]
[null,null,null,null,null,null,null,"","",{"$f":"IF(B105=\"\",\"\",IF(COUNTIF($B$4:$B1374,B105)=1,\"ID Único OK\",\"ID repetido\"))","v":""}]
[null,null,null,null,null,null,null,"","",{"$f":"IF(B106=\"\",\"\",IF(COUNTIF($B$4:$B1375,B106)=1,\"ID Único OK\",\"ID repetido\"))","v":""}]
[null,null,null,null,null,null,null,"","",{"$f":"IF(B107=\"\",\"\",IF(COUNTIF($B$4:$B1376,B107)=1,\"ID Único OK\",\"ID repetido\"))","v":""}]
[null,null,null,null,null,null,null,"","",{"$f":"IF(B108=\"\",\"\",IF(COUNTIF($B$4:$B1377,B108)=1,\"ID Único OK\",\"ID repetido\"))","v":""}]
[null,null,null,null,null,null,null,"","",{"$f":"IF(B109=\"\",\"\",IF(COUNTIF($B$4:$B1378,B109)=1,\"ID Único OK\",\"ID repetido\"))","v":""}]
[null,null,null,null,null,null,null,"","",{"$f":"IF(B110=\"\",\"\",IF(COUNTIF($B$4:$B1379,B110)=1,\"ID Único OK\",\"ID repetido\"))","v":""}]
[null,null,null,null,null,null,null,"","",{"$f":"IF(B111=\"\",\"\",IF(COUNTIF($B$4:$B1380,B111)=1,\"ID Único OK\",\"ID repetido\"))","v":""}]
[null,null,null,null,null,null,null,"","",{"$f":"IF(B112=\"\",\"\",IF(COUNTIF($B$4:$B1381,B112)=1,\"ID Único OK\",\"ID repetido\"))","v":""}]
[null,null,null,null,null,null,null,"","",{"$f":"IF(B113=\"\",\"\",IF(COUNTIF($B$4:$B1382,B113)=1,\"ID Único OK\",\"ID repetido\"))","v":""}]
[null,null,null,null,null,null,null,"","",{"$f":"IF(B114=\"\",\"\",IF(COUNTIF($B$4:$B1383,B114)=1,\"ID Único OK\",\"ID repetido\"))","v":""}]
[null,null,null,null,null,null,null,"","",{"$f":"IF(B115=\"\",\"\",IF(COUNTIF($B$4:$B1384,B115)=1,\"ID Único OK\",\"ID repetido\"))","v":""}]
[null,null,null,null,null,null,null,"","",{"$f":"IF(B116=\"\",\"\",IF(COUNTIF($B$4:$B1385,B116)=1,\"ID Único OK\",\"ID repetido\"))","v":""}]
[null,null,null,null,null,null,null,"","",{"$f":"IF(B117=\"\",\"\",IF(COUNTIF($B$4:$B1386,B117)=1,\"ID Único OK\",\"ID repetido\"))","v":""}]
[null,null,null,null,null,null,null,"","",{"$f":"IF(B118=\"\",\"\",IF(COUNTIF($B$4:$B1387,B118)=1,\"ID Único OK\",\"ID repetido\"))","v":""}]
[null,null,null,null,null,null,null,"","",{"$f":"IF(B119=\"\",\"\",IF(COUNTIF($B$4:$B1388,B119)=1,\"ID Único OK\",\"ID repetido\"))","v":""}]
[null,null,null,null,null,null,null,"","",{"$f":"IF(B120=\"\",\"\",IF(COUNTIF($B$4:$B1389,B120)=1,\"ID Único OK\",\"ID repetido\"))","v":""}]
[null,null,null,null,null,null,null,"","",{"$f":"IF(B121=\"\",\"\",IF(COUNTIF($B$4:$B1390,B121)=1,\"ID Único OK\",\"ID repetido\"))","v":""}]
[null,null,null,null,null,null,null,"","",{"$f":"IF(B122=\"\",\"\",IF(COUNTIF($B$4:$B1391,B122)=1,\"ID Único OK\",\"ID repetido\"))","v":""}]
[null,null,null,null,null,null,null,"","",{"$f":"IF(B123=\"\",\"\",IF(COUNTIF($B$4:$B1392,B123)=1,\"ID Único OK\",\"ID repetido\"))","v":""}]
[null,null,null,null,null,null,null,"","",{"$f":"IF(B124=\"\",\"\",IF(COUNTIF($B$4:$B1393,B124)=1,\"ID Único OK\",\"ID repetido\"))","v":""}]
[null,null,null,null,null,null,null,"","",{"$f":"IF(B125=\"\",\"\",IF(COUNTIF($B$4:$B1394,B125)=1,\"ID Único OK\",\"ID repetido\"))","v":""}]
[null,null,null,null,null,null,null,"","",{"$f":"IF(B126=\"\",\"\",IF(COUNTIF($B$4:$B1395,B126)=1,\"ID Único OK\",\"ID repetido\"))","v":""}]
[null,null,null,null,null,null,null,"","",{"$f":"IF(B127=\"\",\"\",IF(COUNTIF($B$4:$B1396,B127)=1,\"ID Único OK\",\"ID repetido\"))","v":""}]
[null,null,null,null,null,null,null,"","",{"$f":"IF(B128=\"\",\"\",IF(COUNTIF($B$4:$B1397,B128)=1,\"ID Único OK\",\"ID repetido\"))","v":""}]
[null,null,null,null,null,null,null,"","",{"$f":"IF(B129=\"\",\"\",IF(COUNTIF($B$4:$B1398,B129)=1,\"ID Único OK\",\"ID repetido\"))","v":""}]
[null,null,null,null,null,null,null,"","",{"$f":"IF(B130=\"\",\"\",IF(COUNTIF($B$4:$B1399,B130)=1,\"ID Único OK\",\"ID repetido\"))","v":""}]
[null,null,null,null,null,null,null,"","",{"$f":"IF(B131=\"\",\"\",IF(COUNTIF($B$4:$B1400,B131)=1,\"ID Único OK\",\"ID repetido\"))","v":""}]
[null,null,null,null,null,null,null,"","",{"$f":"IF(B132=\"\",\"\",IF(COUNTIF($B$4:$B1401,B132)=1,\"ID Único OK\",\"ID repetido\"))","v":""}]
[null,null,null,null,null,null,null,{"$f":"IF(F133=\"\",\"\",IF(B133=F133,\"Son iguales\",\"Hay error en los números de solicitud\"))","v":""},{"$f":"IF(E133=\"\",\"\",IF(E133<D133,\"Error entre fechas\",\"Fechas correctas\"))","v":""},{"$f":"IF(B133=\"\",\"\",IF(COUNTIF($B$4:$B1402,B133)=1,\"ID Único OK\",\"ID repetido\"))","v":""}]
[null,null,null,null,null,null,null,"","",{"$f":"IF(B134=\"\",\"\",IF(COUNTIF($B$4:$B1403,B134)=1,\"ID Único OK\",\"ID repetido\"))","v":""}]
[null,null,null,null,null,null,null,"","",{"$f":"IF(B135=\"\",\"\",IF(COUNTIF($B$4:$B1404,B135)=1,\"ID Único OK\",\"ID repetido\"))","v":""}]
[null,null,null,null,null,null,null,"","",{"$f":"IF(B136=\"\",\"\",IF(COUNTIF($B$4:$B1405,B136)=1,\"ID Único OK\",\"ID repetido\"))","v":""}]
[null,null,null,null,null,null,null,"","",{"$f":"IF(B137=\"\",\"\",IF(COUNTIF($B$4:$B1406,B137)=1,\"ID Único OK\",\"ID repetido\"))","v":""}]
[null,null,null,null,null,null,null,"","",{"$f":"IF(B138=\"\",\"\",IF(COUNTIF($B$4:$B1407,B138)=1,\"ID Único OK\",\"ID repetido\"))","v":""}]
[null,null,null,null,null,null,null,"","",{"$f":"IF(B139=\"\",\"\",IF(COUNTIF($B$4:$B1408,B139)=1,\"ID Único OK\",\"ID repetido\"))","v":""}]
[null,null,null,null,null,null,null,"","",{"$f":"IF(B140=\"\",\"\",IF(COUNTIF($B$4:$B1409,B140)=1,\"ID Único OK\",\"ID repetido\"))","v":""}]
[null,null,null,null,null,null,null,"","",{"$f":"IF(B141=\"\",\"\",IF(COUNTIF($B$4:$B1410,B141)=1,\"ID Único OK\",\"ID repetido\"))","v":""}]
[null,null,null,null,null,null,null,"","",{"$f":"IF(B142=\"\",\"\",IF(COUNTIF($B$4:$B1411,B142)=1,\"ID Único OK\",\"ID repetido\"))","v":""}]
[null,null,null,null,null,null,null,"","",{"$f":"IF(B143=\"\",\"\",IF(COUNTIF($B$4:$B1412,B143)=1,\"ID Único OK\",\"ID repetido\"))","v":""}]
[null,null,null,null,null,null,null,"","",{"$f":"IF(B144=\"\",\"\",IF(COUNTIF($B$4:$B1413,B144)=1,\"ID Único OK\",\"ID repetido\"))","v":""}]
[null,null,null,null,null,null,null,"","",{"$f":"IF(B145=\"\",\"\",IF(COUNTIF($B$4:$B1414,B145)=1,\"ID Único OK\",\"ID repetido\"))","v":""}]
[null,null,null,null,null,null,null,"","",{"$f":"IF(B146=\"\",\"\",IF(COUNTIF($B$4:$B1415,B146)=1,\"ID Único OK\",\"ID repetido\"))","v":""}]
[null,null,null,null,null,null,null,"","",{"$f":"IF(B147=\"\",\"\",IF(COUNTIF($B$4:$B1416,B147)=1,\"ID Único OK\",\"ID repetido\"))","v":""}]
[null,null,null,null,null,null,null,"","",{"$f":"IF(B148=\"\",\"\",IF(COUNTIF($B$4:$B1417,B148)=1,\"ID Único OK\",\"ID repetido\"))","v":""}]
[null,null,null,null,null,null,null,"","",{"$f":"IF(B149=\"\",\"\",IF(COUNTIF($B$4:$B1418,B149)=1,\"ID Único OK\",\"ID repetido\"))","v":""}]
[null,null,null,null,null,null,null,"","",{"$f":"IF(B150=\"\",\"\",IF(COUNTIF($B$4:$B1419,B150)=1,\"ID Único OK\",\"ID repetido\"))","v":""}]
[null,null,null,null,null,null,null,"","",{"$f":"IF(B151=\"\",\"\",IF(COUNTIF($B$4:$B1420,B151)=1,\"ID Único OK\",\"ID repetido\"))","v":""}]
[null,null,null,null,null,null,null,"","",{"$f":"IF(B152=\"\",\"\",IF(COUNTIF($B$4:$B1421,B152)=1,\"ID Único OK\",\"ID repetido\"))","v":""}]
[null,null,null,null,null,null,null,"","",{"$f":"IF(B153=\"\",\"\",IF(COUNTIF($B$4:$B1422,B153)=1,\"ID Único OK\",\"ID repetido\"))","v":""}]
[null,null,null,null,null,null,null,"","",{"$f":"IF(B154=\"\",\"\",IF(COUNTIF($B$4:$B1423,B154)=1,\"ID Único OK\",\"ID repetido\"))","v":""}]
[null,null,null,null,null,null,null,"","",{"$f":"IF(B155=\"\",\"\",IF(COUNTIF($B$4:$B1424,B155)=1,\"ID Único OK\",\"ID repetido\"))","v":""}]
[null,null,null,null,null,null,null,"","",{"$f":"IF(B156=\"\",\"\",IF(COUNTIF($B$4:$B1425,B156)=1,\"ID Único OK\",\"ID repetido\"))","v":""}]
[null,null,null,null,null,null,null,"","",{"$f":"IF(B157=\"\",\"\",IF(COUNTIF($B$4:$B1426,B157)=1,\"ID Único OK\",\"ID repetido\"))","v":""}]
[null,null,null,null,null,null,null,"","",{"$f":"IF(B158=\"\",\"\",IF(COUNTIF($B$4:$B1427,B158)=1,\"ID Único OK\",\"ID repetido\"))","v":""}]
[null,null,null,null,null,null,null,"","",{"$f":"IF(B159=\"\",\"\",IF(COUNTIF($B$4:$B1428,B159)=1,\"ID Único OK\",\"ID repetido\"))","v":""}]
[null,null,null,null,null,null,null,"","",{"$f":"IF(B160=\"\",\"\",IF(COUNTIF($B$4:$B1429,B160)=1,\"ID Único OK\",\"ID repetido\"))","v":""}]
[null,null,null,null,null,null,null,"","",{"$f":"IF(B161=\"\",\"\",IF(COUNTIF($B$4:$B1430,B161)=1,\"ID Único OK\",\"ID repetido\"))","v":""}]
[null,null,null,null,null,null,null,"","",{"$f":"IF(B162=\"\",\"\",IF(COUNTIF($B$4:$B1431,B162)=1,\"ID Único OK\",\"ID repetido\"))","v":""}]
[null,null,null,null,null,null,null,"","",{"$f":"IF(B163=\"\",\"\",IF(COUNTIF($B$4:$B1432,B163)=1,\"ID Único OK\",\"ID repetido\"))","v":""}]
[null,null,null,null,null,null,null,"","",{"$f":"IF(B164=\"\",\"\",IF(COUNTIF($B$4:$B1433,B164)=1,\"ID Único OK\",\"ID repetido\"))","v":""}]
[null,null,null,null,null,null,null,"","",{"$f":"IF(B165=\"\",\"\",IF(COUNTIF($B$4:$B1434,B165)=1,\"ID Único OK\",\"ID repetido\"))","v":""}]
[null,null,null,null,null,null,null,"","",{"$f":"IF(B166=\"\",\"\",IF(COUNTIF($B$4:$B1435,B166)=1,\"ID Único OK\",\"ID repetido\"))","v":""}]
[null,null,null,null,null,null,null,"","",{"$f":"IF(B167=\"\",\"\",IF(COUNTIF($B$4:$B1436,B167)=1,\"ID Único OK\",\"ID repetido\"))","v":""}]
[null,null,null,null,null,null,null,"","",{"$f":"IF(B168=\"\",\"\",IF(COUNTIF($B$4:$B1437,B168)=1,\"ID Único OK\",\"ID repetido\"))","v":""}]
[null,null,null,null,null,null,null,"","",{"$f":"IF(B169=\"\",\"\",IF(COUNTIF($B$4:$B1438,B169)=1,\"ID Único OK\",\"ID repetido\"))","v":""}]
[null,null,null,null,null,null,null,"","",{"$f":"IF(B170=\"\",\"\",IF(COUNTIF($B$4:$B1439,B170)=1,\"ID Único OK\",\"ID repetido\"))","v":""}]
[null,null,null,null,null,null,null,"","",{"$f":"IF(B171=\"\",\"\",IF(COUNTIF($B$4:$B1440,B171)=1,\"ID Único OK\",\"ID repetido\"))","v":""}]
[null,null,null,null,null,null,null,"","",{"$f":"IF(B172=\"\",\"\",IF(COUNTIF($B$4:$B1441,B172)=1,\"ID Único OK\",\"ID repetido\"))","v":""}]
[null,null,null,null,null,null,null,"","",{"$f":"IF(B173=\"\",\"\",IF(COUNTIF($B$4:$B1442,B173)=1,\"ID Único OK\",\"ID repetido\"))","v":""}]
[null,null,null,null,null,null,null,"","",{"$f":"IF(B174=\"\",\"\",IF(COUNTIF($B$4:$B1443,B174)=1,\"ID Único OK\",\"ID repetido\"))","v":""}]
[null,null,null,null,null,null,null,"","",{"$f":"IF(B175=\"\",\"\",IF(COUNTIF($B$4:$B1444,B175)=1,\"ID Único OK\",\"ID repetido\"))","v":""}]
[null,null,null,null,null,null,null,"","",{"$f":"IF(B176=\"\",\"\",IF(COUNTIF($B$4:$B1445,B176)=1,\"ID Único OK\",\"ID repetido\"))","v":""}]
[null,null,null,null,null,null,null,"","",{"$f":"IF(B177=\"\",\"\",IF(COUNTIF($B$4:$B1446,B177)=1,\"ID Único OK\",\"ID repetido\"))","v":""}]
[null,null,null,null,null,null,null,"","",{"$f":"IF(B178=\"\",\"\",IF(COUNTIF($B$4:$B1447,B178)=1,\"ID Único OK\",\"ID repetido\"))","v":""}]
[null,null,null,null,null,null,null,"","",{"$f":"IF(B179=\"\",\"\",IF(COUNTIF($B$4:$B1448,B179)=1,\"ID Único OK\",\"ID repetido\"))","v":""}]
[null,null,null,null,null,null,null,"","",{"$f":"IF(B180=\"\",\"\",IF(COUNTIF($B$4:$B1449,B180)=1,\"ID Único OK\",\"ID repetido\"))","v":""}]
[null,null,null,null,null,null,null,"","",{"$f":"IF(B181=\"\",\"\",IF(COUNTIF($B$4:$B1450,B181)=1,\"ID Único OK\",\"ID repetido\"))","v":""}]
[null,null,null,null,null,null,null,"","",{"$f":"IF(B182=\"\",\"\",IF(COUNTIF($B$4:$B1451,B182)=1,\"ID Único OK\",\"ID repetido\"))","v":""}]
[null,null,null,null,null,null,null,"","",{"$f":"IF(B183=\"\",\"\",IF(COUNTIF($B$4:$B1452,B183)=1,\"ID Único OK\",\"ID repetido\"))","v":""}]
[null,null,null,null,null,null,null,"","",{"$f":"IF(B184=\"\",\"\",IF(COUNTIF($B$4:$B1453,B184)=1,\"ID Único OK\",\"ID repetido\"))","v":""}]
[null,null,null,null,null,null,null,"","",{"$f":"IF(B185=\"\",\"\",IF(COUNTIF($B$4:$B1454,B185)=1,\"ID Único OK\",\"ID repetido\"))","v":""}]
[null,null,null,null,null,null,null,"","",{"$f":"IF(B186=\"\",\"\",IF(COUNTIF($B$4:$B1455,B186)=1,\"ID Único OK\",\"ID repetido\"))","v":""}]
[null,null,null,null,null,null,null,"","",{"$f":"IF(B187=\"\",\"\",IF(COUNTIF($B$4:$B1456,B187)=1,\"ID Único OK\",\"ID repetido\"))","v":""}]
[null,null,null,null,null,null,null,"","",{"$f":"IF(B188=\"\",\"\",IF(COUNTIF($B$4:$B1457,B188)=1,\"ID Único OK\",\"ID repetido\"))","v":""}]
[null,null,null,null,null,null,null,"","",{"$f":"IF(B189=\"\",\"\",IF(COUNTIF($B$4:$B1458,B189)=1,\"ID Único OK\",\"ID repetido\"))","v":""}]
[null,null,null,null,null,null,null,"","",{"$f":"IF(B190=\"\",\"\",IF(COUNTIF($B$4:$B1459,B190)=1,\"ID Único OK\",\"ID repetido\"))","v":""}]
[null,null,null,null,null,null,null,"","",{"$f":"IF(B191=\"\",\"\",IF(COUNTIF($B$4:$B1460,B191)=1,\"ID Único OK\",\"ID repetido\"))","v":""}]
[null,null,null,null,null,null,null,"","",{"$f":"IF(B192=\"\",\"\",IF(COUNTIF($B$4:$B1461,B192)=1,\"ID Único OK\",\"ID repetido\"))","v":""}]
[null,null,null,null,null,null,null,"","",{"$f":"IF(B193=\"\",\"\",IF(COUNTIF($B$4:$B1462,B193)=1,\"ID Único OK\",\"ID repetido\"))","v":""}]
[null,null,null,null,null,null,null,"","",{"$f":"IF(B194=\"\",\"\",IF(COUNTIF($B$4:$B1463,B194)=1,\"ID Único OK\",\"ID repetido\"))","v":""}]
[null,null,null,null,null,null,null,"","",{"$f":"IF(B195=\"\",\"\",IF(COUNTIF($B$4:$B1464,B195)=1,\"ID Único OK\",\"ID repetido\"))","v":""}]
[null,null,null,null,null,null,null,"","",{"$f":"IF(B196=\"\",\"\",IF(COUNTIF($B$4:$B1465,B196)=1,\"ID Único OK\",\"ID repetido\"))","v":""}]
[null,null,null,null,null,null,null,{"$f":"IF(F197=\"\",\"\",IF(B197=F197,\"Son iguales\",\"Hay error en los números de solicitud\"))","v":""},{"$f":"IF(E197=\"\",\"\",IF(E197<D197,\"Error entre fechas\",\"Fechas correctas\"))","v":""},{"$f":"IF(B197=\"\",\"\",IF(COUNTIF($B$4:$B1466,B197)=1,\"ID Único OK\",\"ID repetido\"))","v":""}]
[null,null,null,null,null,null,null,"","",{"$f":"IF(B198=\"\",\"\",IF(COUNTIF($B$4:$B1467,B198)=1,\"ID Único OK\",\"ID repetido\"))","v":""}]
[null,null,null,null,null,null,null,"","",{"$f":"IF(B199=\"\",\"\",IF(COUNTIF($B$4:$B1468,B199)=1,\"ID Único OK\",\"ID repetido\"))","v":""}]
[null,null,null,null,null,null,null,"","",{"$f":"IF(B200=\"\",\"\",IF(COUNTIF($B$4:$B1469,B200)=1,\"ID Único OK\",\"ID repetido\"))","v":""}]
[null,null,null,null,null,null,null,"","",{"$f":"IF(B201=\"\",\"\",IF(COUNTIF($B$4:$B1470,B201)=1,\"ID Único OK\",\"ID repetido\"))","v":""}]
[null,null,null,null,null,null,null,"","",{"$f":"IF(B202=\"\",\"\",IF(COUNTIF($B$4:$B1471,B202)=1,\"ID Único OK\",\"ID repetido\"))","v":""}]
[null,null,null,null,null,null,null,"","",{"$f":"IF(B203=\"\",\"\",IF(COUNTIF($B$4:$B1472,B203)=1,\"ID Único OK\",\"ID repetido\"))","v":""}]
[null,null,null,null,null,null,null,"","",{"$f":"IF(B204=\"\",\"\",IF(COUNTIF($B$4:$B1473,B204)=1,\"ID Único OK\",\"ID repetido\"))","v":""}]
[null,null,null,null,null,null,null,"","",{"$f":"IF(B205=\"\",\"\",IF(COUNTIF($B$4:$B1474,B205)=1,\"ID Único OK\",\"ID repetido\"))","v":""}]
[null,null,null,null,null,null,null,"","",{"$f":"IF(B206=\"\",\"\",IF(COUNTIF($B$4:$B1475,B206)=1,\"ID Único OK\",\"ID repetido\"))","v":""}]
[null,null,null,null,null,null,null,"","",{"$f":"IF(B207=\"\",\"\",IF(COUNTIF($B$4:$B1476,B207)=1,\"ID Único OK\",\"ID repetido\"))","v":""}]
[null,null,null,null,null,null,null,"","",{"$f":"IF(B208=\"\",\"\",IF(COUNTIF($B$4:$B1477,B208)=1,\"ID Único OK\",\"ID repetido\"))","v":""}]
[null,null,null,null,null,null,null,"","",{"$f":"IF(B209=\"\",\"\",IF(COUNTIF($B$4:$B1478,B209)=1,\"ID Único OK\",\"ID repetido\"))","v":""}]
[null,null,null,null,null,null,null,"","",{"$f":"IF(B210=\"\",\"\",IF(COUNTIF($B$4:$B1479,B210)=1,\"ID Único OK\",\"ID repetido\"))","v":""}]
[null,null,null,null,null,null,null,"","",{"$f":"IF(B211=\"\",\"\",IF(COUNTIF($B$4:$B1480,B211)=1,\"ID Único OK\",\"ID repetido\"))","v":""}]
[null,null,null,null,null,null,null,"","",{"$f":"IF(B212=\"\",\"\",IF(COUNTIF($B$4:$B1481,B212)=1,\"ID Único OK\",\"ID repetido\"))","v":""}]
[null,null,null,null,null,null,null,"","",{"$f":"IF(B213=\"\",\"\",IF(COUNTIF($B$4:$B1482,B213)=1,\"ID Único OK\",\"ID repetido\"))","v":""}]
[null,null,null,null,null,null,null,"","",{"$f":"IF(B214=\"\",\"\",IF(COUNTIF($B$4:$B1483,B214)=1,\"ID Único OK\",\"ID repetido\"))","v":""}]
[null,null,null,null,null,null,null,"","",{"$f":"IF(B215=\"\",\"\",IF(COUNTIF($B$4:$B1484,B215)=1,\"ID Único OK\",\"ID repetido\"))","v":""}]
[null,null,null,null,null,null,null,"","",{"$f":"IF(B216=\"\",\"\",IF(COUNTIF($B$4:$B1485,B216)=1,\"ID Único OK\",\"ID repetido\"))","v":""}]
[null,null,null,null,null,null,null,"","",{"$f":"IF(B217=\"\",\"\",IF(COUNTIF($B$4:$B1486,B217)=1,\"ID Único OK\",\"ID repetido\"))","v":""}]
[null,null,null,null,null,null,null,"","",{"$f":"IF(B218=\"\",\"\",IF(COUNTIF($B$4:$B1487,B218)=1,\"ID Único OK\",\"ID repetido\"))","v":""}]
[null,null,null,null,null,null,null,"","",{"$f":"IF(B219=\"\",\"\",IF(COUNTIF($B$4:$B1488,B219)=1,\"ID Único OK\",\"ID repetido\"))","v":""}]
[null,null,null,null,null,null,null,"","",{"$f":"IF(B220=\"\",\"\",IF(COUNTIF($B$4:$B1489,B220)=1,\"ID Único OK\",\"ID repetido\"))","v":""}]
[null,null,null,null,null,null,null,"","",{"$f":"IF(B221=\"\",\"\",IF(COUNTIF($B$4:$B1490,B221)=1,\"ID Único OK\",\"ID repetido\"))","v":""}]
[null,null,null,null,null,null,null,"","",{"$f":"IF(B222=\"\",\"\",IF(COUNTIF($B$4:$B1491,B222)=1,\"ID Único OK\",\"ID repetido\"))","v":""}]
[null,null,null,null,null,null,null,"","",{"$f":"IF(B223=\"\",\"\",IF(COUNTIF($B$4:$B1492,B223)=1,\"ID Único OK\",\"ID repetido\"))","v":""}]
[null,null,null,null,null,null,null,"","",{"$f":"IF(B224=\"\",\"\",IF(COUNTIF($B$4:$B1493,B224)=1,\"ID Único OK\",\"ID repetido\"))","v":""}]
[null,null,null,null,null,null,null,"","",{"$f":"IF(B225=\"\",\"\",IF(COUNTIF($B$4:$B1494,B225)=1,\"ID Único OK\",\"ID repetido\"))","v":""}]
[null,null,null,null,null,null,null,"","",{"$f":"IF(B226=\"\",\"\",IF(COUNTIF($B$4:$B1495,B226)=1,\"ID Único OK\",\"ID repetido\"))","v":""}]
[null,null,null,null,null,null,null,"","",{"$f":"IF(B227=\"\",\"\",IF(COUNTIF($B$4:$B1496,B227)=1,\"ID Único OK\",\"ID repetido\"))","v":""}]
[null,null,null,null,null,null,null,"","",{"$f":"IF(B228=\"\",\"\",IF(COUNTIF($B$4:$B1497,B228)=1,\"ID Único OK\",\"ID repetido\"))","v":""}]
[null,null,null,null,null,null,null,"","",{"$f":"IF(B229=\"\",\"\",IF(COUNTIF($B$4:$B1498,B229)=1,\"ID Único OK\",\"ID repetido\"))","v":""}]
[null,null,null,null,null,null,null,"","",{"$f":"IF(B230=\"\",\"\",IF(COUNTIF($B$4:$B1499,B230)=1,\"ID Único OK\",\"ID repetido\"))","v":""}]
[null,null,null,null,null,null,null,"","",{"$f":"IF(B231=\"\",\"\",IF(COUNTIF($B$4:$B1500,B231)=1,\"ID Único OK\",\"ID repetido\"))","v":""}]
[null,null,null,null,null,null,null,"","",{"$f":"IF(B232=\"\",\"\",IF(COUNTIF($B$4:$B1501,B232)=1,\"ID Único OK\",\"ID repetido\"))","v":""}]
[null,null,null,null,null,null,null,"","",{"$f":"IF(B233=\"\",\"\",IF(COUNTIF($B$4:$B1502,B233)=1,\"ID Único OK\",\"ID repetido\"))","v":""}]
[null,null,null,null,null,null,null,"","",{"$f":"IF(B234=\"\",\"\",IF(COUNTIF($B$4:$B1503,B234)=1,\"ID Único OK\",\"ID repetido\"))","v":""}]
[null,null,null,null,null,null,null,"","",{"$f":"IF(B235=\"\",\"\",IF(COUNTIF($B$4:$B1504,B235)=1,\"ID Único OK\",\"ID repetido\"))","v":""}]
[null,null,null,null,null,null,null,"","",{"$f":"IF(B236=\"\",\"\",IF(COUNTIF($B$4:$B1505,B236)=1,\"ID Único OK\",\"ID repetido\"))","v":""}]
[null,null,null,null,null,null,null,"","",{"$f":"IF(B237=\"\",\"\",IF(COUNTIF($B$4:$B1506,B237)=1,\"ID Único OK\",\"ID repetido\"))","v":""}]
[null,null,null,null,null,null,null,"","",{"$f":"IF(B238=\"\",\"\",IF(COUNTIF($B$4:$B1507,B238)=1,\"ID Único OK\",\"ID repetido\"))","v":""}]
[null,null,null,null,null,null,null,"","",{"$f":"IF(B239=\"\",\"\",IF(COUNTIF($B$4:$B1508,B239)=1,\"ID Único OK\",\"ID repetido\"))","v":""}]
[null,null,null,null,null,null,null,"","",{"$f":"IF(B240=\"\",\"\",IF(COUNTIF($B$4:$B1509,B240)=1,\"ID Único OK\",\"ID repetido\"))","v":""}]
[null,null,null,null,null,null,null,"","",{"$f":"IF(B241=\"\",\"\",IF(COUNTIF($B$4:$B1510,B241)=1,\"ID Único OK\",\"ID repetido\"))","v":""}]
[null,null,null,null,null,null,null,"","",{"$f":"IF(B242=\"\",\"\",IF(COUNTIF($B$4:$B1511,B242)=1,\"ID Único OK\",\"ID repetido\"))","v":""}]
[null,null,null,null,null,null,null,"","",{"$f":"IF(B243=\"\",\"\",IF(COUNTIF($B$4:$B1512,B243)=1,\"ID Único OK\",\"ID repetido\"))","v":""}]
[null,null,null,null,null,null,null,"","",{"$f":"IF(B244=\"\",\"\",IF(COUNTIF($B$4:$B1513,B244)=1,\"ID Único OK\",\"ID repetido\"))","v":""}]
[null,null,null,null,null,null,null,"","",{"$f":"IF(B245=\"\",\"\",IF(COUNTIF($B$4:$B1514,B245)=1,\"ID Único OK\",\"ID repetido\"))","v":""}]
[null,null,null,null,null,null,null,"","",{"$f":"IF(B246=\"\",\"\",IF(COUNTIF($B$4:$B1515,B246)=1,\"ID Único OK\",\"ID repetido\"))","v":""}]
[null,null,null,null,null,null,null,"","",{"$f":"IF(B247=\"\",\"\",IF(COUNTIF($B$4:$B1516,B247)=1,\"ID Único OK\",\"ID repetido\"))","v":""}]
[null,null,null,null,null,null,null,"","",{"$f":"IF(B248=\"\",\"\",IF(COUNTIF($B$4:$B1517,B248)=1,\"ID Único OK\",\"ID repetido\"))","v":""}]
[null,null,null,null,null,null,null,"","",{"$f":"IF(B249=\"\",\"\",IF(COUNTIF($B$4:$B1518,B249)=1,\"ID Único OK\",\"ID repetido\"))","v":""}]
[null,null,null,null,null,null,null,"","",{"$f":"IF(B250=\"\",\"\",IF(COUNTIF($B$4:$B1519,B250)=1,\"ID Único OK\",\"ID repetido\"))","v":""}]
[null,null,null,null,null,null,null,"","",{"$f":"IF(B251=\"\",\"\",IF(COUNTIF($B$4:$B1520,B251)=1,\"ID Único OK\",\"ID repetido\"))","v":""}]
[null,null,null,null,null,null,null,"","",{"$f":"IF(B252=\"\",\"\",IF(COUNTIF($B$4:$B1521,B252)=1,\"ID Único OK\",\"ID repetido\"))","v":""}]
[null,null,null,null,null,null,null,"","",{"$f":"IF(B253=\"\",\"\",IF(COUNTIF($B$4:$B1522,B253)=1,\"ID Único OK\",\"ID repetido\"))","v":""}]
[null,null,null,null,null,null,null,"","",{"$f":"IF(B254=\"\",\"\",IF(COUNTIF($B$4:$B1523,B254)=1,\"ID Único OK\",\"ID repetido\"))","v":""}]
[null,null,null,null,null,null,null,"","",{"$f":"IF(B255=\"\",\"\",IF(COUNTIF($B$4:$B1524,B255)=1,\"ID Único OK\",\"ID repetido\"))","v":""}]
[null,null,null,null,null,null,null,"","",{"$f":"IF(B256=\"\",\"\",IF(COUNTIF($B$4:$B1525,B256)=1,\"ID Único OK\",\"ID repetido\"))","v":""}]
[null,null,null,null,null,null,null,"","",{"$f":"IF(B257=\"\",\"\",IF(COUNTIF($B$4:$B1526,B257)=1,\"ID Único OK\",\"ID repetido\"))","v":""}]
[null,null,null,null,null,null,null,"","",{"$f":"IF(B258=\"\",\"\",IF(COUNTIF($B$4:$B1527,B258)=1,\"ID Único OK\",\"ID repetido\"))","v":""}]
[null,null,null,null,null,null,null,"","",{"$f":"IF(B259=\"\",\"\",IF(COUNTIF($B$4:$B1528,B259)=1,\"ID Único OK\",\"ID repetido\"))","v":""}]
[null,null,null,null,null,null,null,"","",{"$f":"IF(B260=\"\",\"\",IF(COUNTIF($B$4:$B1529,B260)=1,\"ID Único OK\",\"ID repetido\"))","v":""}]
[null,null,null,null,null,null,null,{"$f":"IF(F261=\"\",\"\",IF(B261=F261,\"Son iguales\",\"Hay error en los números de solicitud\"))","v":""},{"$f":"IF(E261=\"\",\"\",IF(E261<D261,\"Error entre fechas\",\"Fechas correctas\"))","v":""},{"$f":"IF(B261=\"\",\"\",IF(COUNTIF($B$4:$B1530,B261)=1,\"ID Único OK\",\"ID repetido\"))","v":""}]
[null,null,null,null,null,null,null,"","",{"$f":"IF(B262=\"\",\"\",IF(COUNTIF($B$4:$B1531,B262)=1,\"ID Único OK\",\"ID repetido\"))","v":""}]
[null,null,null,null,null,null,null,"","",{"$f":"IF(B263=\"\",\"\",IF(COUNTIF($B$4:$B1532,B263)=1,\"ID Único OK\",\"ID repetido\"))","v":""}]
[null,null,null,null,null,null,null,"","",{"$f":"IF(B264=\"\",\"\",IF(COUNTIF($B$4:$B1533,B264)=1,\"ID Único OK\",\"ID repetido\"))","v":""}]
[null,null,null,null,null,null,null,"","",{"$f":"IF(B265=\"\",\"\",IF(COUNTIF($B$4:$B1534,B265)=1,\"ID Único OK\",\"ID repetido\"))","v":""}]
[null,null,null,null,null,null,null,"","",{"$f":"IF(B266=\"\",\"\",IF(COUNTIF($B$4:$B1535,B266)=1,\"ID Único OK\",\"ID repetido\"))","v":""}]
[null,null,null,null,null,null,null,"","",{"$f":"IF(B267=\"\",\"\",IF(COUNTIF($B$4:$B1536,B267)=1,\"ID Único OK\",\"ID repetido\"))","v":""}]
[null,null,null,null,null,null,null,"","",{"$f":"IF(B268=\"\",\"\",IF(COUNTIF($B$4:$B1537,B268)=1,\"ID Único OK\",\"ID repetido\"))","v":""}]
[null,null,null,null,null,null,null,"","",{"$f":"IF(B269=\"\",\"\",IF(COUNTIF($B$4:$B1538,B269)=1,\"ID Único OK\",\"ID repetido\"))","v":""}]
[null,null,null,null,null,null,null,"","",{"$f":"IF(B270=\"\",\"\",IF(COUNTIF($B$4:$B1539,B270)=1,\"ID Único OK\",\"ID repetido\"))","v":""}]
[null,null,null,null,null,null,null,"","",{"$f":"IF(B271=\"\",\"\",IF(COUNTIF($B$4:$B1540,B271)=1,\"ID Único OK\",\"ID repetido\"))","v":""}]
[null,null,null,null,null,null,null,"","",{"$f":"IF(B272=\"\",\"\",IF(COUNTIF($B$4:$B1541,B272)=1,\"ID Único OK\",\"ID repetido\"))","v":""}]
[null,null,null,null,null,null,null,"","",{"$f":"IF(B273=\"\",\"\",IF(COUNTIF($B$4:$B1542,B273)=1,\"ID Único OK\",\"ID repetido\"))","v":""}]
[null,null,null,null,null,null,null,"","",{"$f":"IF(B274=\"\",\"\",IF(COUNTIF($B$4:$B1543,B274)=1,\"ID Único OK\",\"ID repetido\"))","v":""}]
[null,null,null,null,null,null,null,"","",{"$f":"IF(B275=\"\",\"\",IF(COUNTIF($B$4:$B1544,B275)=1,\"ID Único OK\",\"ID repetido\"))","v":""}]
[null,null,null,null,null,null,null,"","",{"$f":"IF(B276=\"\",\"\",IF(COUNTIF($B$4:$B1545,B276)=1,\"ID Único OK\",\"ID repetido\"))","v":""}]
[null,null,null,null,null,null,null,"","",{"$f":"IF(B277=\"\",\"\",IF(COUNTIF($B$4:$B1546,B277)=1,\"ID Único OK\",\"ID repetido\"))","v":""}]
[null,null,null,null,null,null,null,"","",{"$f":"IF(B278=\"\",\"\",IF(COUNTIF($B$4:$B1547,B278)=1,\"ID Único OK\",\"ID repetido\"))","v":""}]
[null,null,null,null,null,null,null,"","",{"$f":"IF(B279=\"\",\"\",IF(COUNTIF($B$4:$B1548,B279)=1,\"ID Único OK\",\"ID repetido\"))","v":""}]
[null,null,null,null,null,null,null,"","",{"$f":"IF(B280=\"\",\"\",IF(COUNTIF($B$4:$B1549,B280)=1,\"ID Único OK\",\"ID repetido\"))","v":""}]
[null,null,null,null,null,null,null,"","",{"$f":"IF(B281=\"\",\"\",IF(COUNTIF($B$4:$B1550,B281)=1,\"ID Único OK\",\"ID repetido\"))","v":""}]
[null,null,null,null,null,null,null,"","",{"$f":"IF(B282=\"\",\"\",IF(COUNTIF($B$4:$B1551,B282)=1,\"ID Único OK\",\"ID repetido\"))","v":""}]
[null,null,null,null,null,null,null,"","",{"$f":"IF(B283=\"\",\"\",IF(COUNTIF($B$4:$B1552,B283)=1,\"ID Único OK\",\"ID repetido\"))","v":""}]
[null,null,null,null,null,null,null,"","",{"$f":"IF(B284=\"\",\"\",IF(COUNTIF($B$4:$B1553,B284)=1,\"ID Único OK\",\"ID repetido\"))","v":""}]
[null,null,null,null,null,null,null,"","",{"$f":"IF(B285=\"\",\"\",IF(COUNTIF($B$4:$B1554,B285)=1,\"ID Único OK\",\"ID repetido\"))","v":""}]
[null,null,null,null,null,null,null,"","",{"$f":"IF(B286=\"\",\"\",IF(COUNTIF($B$4:$B1555,B286)=1,\"ID Único OK\",\"ID repetido\"))","v":""}]
[null,null,null,null,null,null,null,"","",{"$f":"IF(B287=\"\",\"\",IF(COUNTIF($B$4:$B1556,B287)=1,\"ID Único OK\",\"ID repetido\"))","v":""}]
[null,null,null,null,null,null,null,"","",{"$f":"IF(B288=\"\",\"\",IF(COUNTIF($B$4:$B1557,B288)=1,\"ID Único OK\",\"ID repetido\"))","v":""}]
[null,null,null,null,null,null,null,"","",{"$f":"IF(B289=\"\",\"\",IF(COUNTIF($B$4:$B1558,B289)=1,\"ID Único OK\",\"ID repetido\"))","v":""}]
[null,null,null,null,null,null,null,"","",{"$f":"IF(B290=\"\",\"\",IF(COUNTIF($B$4:$B1559,B290)=1,\"ID Único OK\",\"ID repetido\"))","v":""}]
[null,null,null,null,null,null,null,"","",{"$f":"IF(B291=\"\",\"\",IF(COUNTIF($B$4:$B1560,B291)=1,\"ID Único OK\",\"ID repetido\"))","v":""}]
[null,null,null,null,null,null,null,"","",{"$f":"IF(B292=\"\",\"\",IF(COUNTIF($B$4:$B1561,B292)=1,\"ID Único OK\",\"ID repetido\"))","v":""}]
[null,null,null,null,null,null,null,"","",{"$f":"IF(B293=\"\",\"\",IF(COUNTIF($B$4:$B1562,B293)=1,\"ID Único OK\",\"ID repetido\"))","v":""}]
[null,null,null,null,null,null,null,"","",{"$f":"IF(B294=\"\",\"\",IF(COUNTIF($B$4:$B1563,B294)=1,\"ID Único OK\",\"ID repetido\"))","v":""}]
[null,null,null,null,null,null,null,"","",{"$f":"IF(B295=\"\",\"\",IF(COUNTIF($B$4:$B1564,B295)=1,\"ID Único OK\",\"ID repetido\"))","v":""}]
[null,null,null,null,null,null,null,"","",{"$f":"IF(B296=\"\",\"\",IF(COUNTIF($B$4:$B1565,B296)=1,\"ID Único OK\",\"ID repetido\"))","v":""}]
[null,null,null,null,null,null,null,"","",{"$f":"IF(B297=\"\",\"\",IF(COUNTIF($B$4:$B1566,B297)=1,\"ID Único OK\",\"ID repetido\"))","v":""}]
[null,null,null,null,null,null,null,"","",{"$f":"IF(B298=\"\",\"\",IF(COUNTIF($B$4:$B1567,B298)=1,\"ID Único OK\",\"ID repetido\"))","v":""}]
[null,null,null,null,null,null,null,"","",{"$f":"IF(B299=\"\",\"\",IF(COUNTIF($B$4:$B1568,B299)=1,\"ID Único OK\",\"ID repetido\"))","v":""}]
[null,null,null,null,null,null,null,"","",{"$f":"IF(B300=\"\",\"\",IF(COUNTIF($B$4:$B1569,B300)=1,\"ID Único OK\",\"ID repetido\"))","v":""}]
[null,null,null,null,null,null,null,"","",{"$f":"IF(B301=\"\",\"\",IF(COUNTIF($B$4:$B1570,B301)=1,\"ID Único OK\",\"ID repetido\"))","v":""}]
[null,null,null,null,null,null,null,"","",{"$f":"IF(B302=\"\",\"\",IF(COUNTIF($B$4:$B1571,B302)=1,\"ID Único OK\",\"ID repetido\"))","v":""}]
[null,null,null,null,null,null,null,"","",{"$f":"IF(B303=\"\",\"\",IF(COUNTIF($B$4:$B1572,B303)=1,\"ID Único OK\",\"ID repetido\"))","v":""}]
[null,null,null,null,null,null,null,"","",{"$f":"IF(B304=\"\",\"\",IF(COUNTIF($B$4:$B1573,B304)=1,\"ID Único OK\",\"ID repetido\"))","v":""}]
[null,null,null,null,null,null,null,"","",{"$f":"IF(B305=\"\",\"\",IF(COUNTIF($B$4:$B1574,B305)=1,\"ID Único OK\",\"ID repetido\"))","v":""}]
[null,null,null,null,null,null,null,"","",{"$f":"IF(B306=\"\",\"\",IF(COUNTIF($B$4:$B1575,B306)=1,\"ID Único OK\",\"ID repetido\"))","v":""}]
[null,null,null,null,null,null,null,"","",{"$f":"IF(B307=\"\",\"\",IF(COUNTIF($B$4:$B1576,B307)=1,\"ID Único OK\",\"ID repetido\"))","v":""}]
[null,null,null,null,null,null,null,"","",{"$f":"IF(B308=\"\",\"\",IF(COUNTIF($B$4:$B1577,B308)=1,\"ID Único OK\",\"ID repetido\"))","v":""}]
[null,null,null,null,null,null,null,"","",{"$f":"IF(B309=\"\",\"\",IF(COUNTIF($B$4:$B1578,B309)=1,\"ID Único OK\",\"ID repetido\"))","v":""}]
[null,null,null,null,null,null,null,"","",{"$f":"IF(B310=\"\",\"\",IF(COUNTIF($B$4:$B1579,B310)=1,\"ID Único OK\",\"ID repetido\"))","v":""}]
[null,null,null,null,null,null,null,"","",{"$f":"IF(B311=\"\",\"\",IF(COUNTIF($B$4:$B1580,B311)=1,\"ID Único OK\",\"ID repetido\"))","v":""}]
[null,null,null,null,null,null,null,"","",{"$f":"IF(B312=\"\",\"\",IF(COUNTIF($B$4:$B1581,B312)=1,\"ID Único OK\",\"ID repetido\"))","v":""}]
[null,null,null,null,null,null,null,"","",{"$f":"IF(B313=\"\",\"\",IF(COUNTIF($B$4:$B1582,B313)=1,\"ID Único OK\",\"ID repetido\"))","v":""}]
[null,null,null,null,null,null,null,"","",{"$f":"IF(B314=\"\",\"\",IF(COUNTIF($B$4:$B1583,B314)=1,\"ID Único OK\",\"ID repetido\"))","v":""}]
[null,null,null,null,null,null,null,"","",{"$f":"IF(B315=\"\",\"\",IF(COUNTIF($B$4:$B1584,B315)=1,\"ID Único OK\",\"ID repetido\"))","v":""}]
[null,null,null,null,null,null,null,"","",{"$f":"IF(B316=\"\",\"\",IF(COUNTIF($B$4:$B1585,B316)=1,\"ID Único OK\",\"ID repetido\"))","v":""}]
[null,null,null,null,null,null,null,"","",{"$f":"IF(B317=\"\",\"\",IF(COUNTIF($B$4:$B1586,B317)=1,\"ID Único OK\",\"ID repetido\"))","v":""}]
[null,null,null,null,null,null,null,"","",{"$f":"IF(B318=\"\",\"\",IF(COUNTIF($B$4:$B1587,B318)=1,\"ID Único OK\",\"ID repetido\"))","v":""}]
[null,null,null,null,null,null,null,"","",{"$f":"IF(B319=\"\",\"\",IF(COUNTIF($B$4:$B1588,B319)=1,\"ID Único OK\",\"ID repetido\"))","v":""}]
[null,null,null,null,null,null,null,"","",{"$f":"IF(B320=\"\",\"\",IF(COUNTIF($B$4:$B1589,B320)=1,\"ID Único OK\",\"ID repetido\"))","v":""}]
[null,null,null,null,null,null,null,"","",{"$f":"IF(B321=\"\",\"\",IF(COUNTIF($B$4:$B1590,B321)=1,\"ID Único OK\",\"ID repetido\"))","v":""}]
[null,null,null,null,null,null,null,"","",{"$f":"IF(B322=\"\",\"\",IF(COUNTIF($B$4:$B1591,B322)=1,\"ID Único OK\",\"ID repetido\"))","v":""}]
[null,null,null,null,null,null,null,"","",{"$f":"IF(B323=\"\",\"\",IF(COUNTIF($B$4:$B1592,B323)=1,\"ID Único OK\",\"ID repetido\"))","v":""}]
[null,null,null,null,null,null,null,"","",{"$f":"IF(B324=\"\",\"\",IF(COUNTIF($B$4:$B1593,B324)=1,\"ID Único OK\",\"ID repetido\"))","v":""}]
[null,null,null,null,null,null,null,{"$f":"IF(F325=\"\",\"\",IF(B325=F325,\"Son iguales\",\"Hay error en los números de solicitud\"))","v":""},{"$f":"IF(E325=\"\",\"\",IF(E325<D325,\"Error entre fechas\",\"Fechas correctas\"))","v":""},{"$f":"IF(B325=\"\",\"\",IF(COUNTIF($B$4:$B1594,B325)=1,\"ID Único OK\",\"ID repetido\"))","v":""}]
[null,null,null,null,null,null,null,"","",{"$f":"IF(B326=\"\",\"\",IF(COUNTIF($B$4:$B1595,B326)=1,\"ID Único OK\",\"ID repetido\"))","v":""}]
[null,null,null,null,null,null,null,"","",{"$f":"IF(B327=\"\",\"\",IF(COUNTIF($B$4:$B1596,B327)=1,\"ID Único OK\",\"ID repetido\"))","v":""}]
[null,null,null,null,null,null,null,"","",{"$f":"IF(B328=\"\",\"\",IF(COUNTIF($B$4:$B1597,B328)=1,\"ID Único OK\",\"ID repetido\"))","v":""}]
[null,null,null,null,null,null,null,"","",{"$f":"IF(B329=\"\",\"\",IF(COUNTIF($B$4:$B1598,B329)=1,\"ID Único OK\",\"ID repetido\"))","v":""}]
[null,null,null,null,null,null,null,"","",{"$f":"IF(B330=\"\",\"\",IF(COUNTIF($B$4:$B1599,B330)=1,\"ID Único OK\",\"ID repetido\"))","v":""}]
[null,null,null,null,null,null,null,"","",{"$f":"IF(B331=\"\",\"\",IF(COUNTIF($B$4:$B1600,B331)=1,\"ID Único OK\",\"ID repetido\"))","v":""}]
[null,null,null,null,null,null,null,"","",{"$f":"IF(B332=\"\",\"\",IF(COUNTIF($B$4:$B1601,B332)=1,\"ID Único OK\",\"ID repetido\"))","v":""}]
[null,null,null,null,null,null,null,"","",{"$f":"IF(B333=\"\",\"\",IF(COUNTIF($B$4:$B1602,B333)=1,\"ID Único OK\",\"ID repetido\"))","v":""}]
[null,null,null,null,null,null,null,"","",{"$f":"IF(B334=\"\",\"\",IF(COUNTIF($B$4:$B1603,B334)=1,\"ID Único OK\",\"ID repetido\"))","v":""}]
[null,null,null,null,null,null,null,"","",{"$f":"IF(B335=\"\",\"\",IF(COUNTIF($B$4:$B1604,B335)=1,\"ID Único OK\",\"ID repetido\"))","v":""}]
[null,null,null,null,null,null,null,"","",{"$f":"IF(B336=\"\",\"\",IF(COUNTIF($B$4:$B1605,B336)=1,\"ID Único OK\",\"ID repetido\"))","v":""}]
[null,null,null,null,null,null,null,"","",{"$f":"IF(B337=\"\",\"\",IF(COUNTIF($B$4:$B1606,B337)=1,\"ID Único OK\",\"ID repetido\"))","v":""}]
[null,null,null,null,null,null,null,"","",{"$f":"IF(B338=\"\",\"\",IF(COUNTIF($B$4:$B1607,B338)=1,\"ID Único OK\",\"ID repetido\"))","v":""}]
[null,null,null,null,null,null,null,"","",{"$f":"IF(B339=\"\",\"\",IF(COUNTIF($B$4:$B1608,B339)=1,\"ID Único OK\",\"ID repetido\"))","v":""}]
[null,null,null,null,null,null,null,"","",{"$f":"IF(B340=\"\",\"\",IF(COUNTIF($B$4:$B1609,B340)=1,\"ID Único OK\",\"ID repetido\"))","v":""}]
[null,null,null,null,null,null,null,"","",{"$f":"IF(B341=\"\",\"\",IF(COUNTIF($B$4:$B1610,B341)=1,\"ID Único OK\",\"ID repetido\"))","v":""}]
[null,null,null,null,null,null,null,"","",{"$f":"IF(B342=\"\",\"\",IF(COUNTIF($B$4:$B1611,B342)=1,\"ID Único OK\",\"ID repetido\"))","v":""}]
[null,null,null,null,null,null,null,"","",{"$f":"IF(B343=\"\",\"\",IF(COUNTIF($B$4:$B1612,B343)=1,\"ID Único OK\",\"ID repetido\"))","v":""}]
[null,null,null,null,null,null,null,"","",{"$f":"IF(B344=\"\",\"\",IF(COUNTIF($B$4:$B1613,B344)=1,\"ID Único OK\",\"ID repetido\"))","v":""}]
[null,null,null,null,null,null,null,"","",{"$f":"IF(B345=\"\",\"\",IF(COUNTIF($B$4:$B1614,B345)=1,\"ID Único OK\",\"ID repetido\"))","v":""}]
[null,null,null,null,null,null,null,"","",{"$f":"IF(B346=\"\",\"\",IF(COUNTIF($B$4:$B1615,B346)=1,\"ID Único OK\",\"ID repetido\"))","v":""}]
[null,null,null,null,null,null,null,"","",{"$f":"IF(B347=\"\",\"\",IF(COUNTIF($B$4:$B1616,B347)=1,\"ID Único OK\",\"ID repetido\"))","v":""}]
[null,null,null,null,null,null,null,"","",{"$f":"IF(B348=\"\",\"\",IF(COUNTIF($B$4:$B1617,B348)=1,\"ID Único OK\",\"ID repetido\"))","v":""}]
[null,null,null,null,null,null,null,"","",{"$f":"IF(B349=\"\",\"\",IF(COUNTIF($B$4:$B1618,B349)=1,\"ID Único OK\",\"ID repetido\"))","v":""}]
[null,null,null,null,null,null,null,"","",{"$f":"IF(B350=\"\",\"\",IF(COUNTIF($B$4:$B1619,B350)=1,\"ID Único OK\",\"ID repetido\"))","v":""}]
[null,null,null,null,null,null,null,"","",{"$f":"IF(B351=\"\",\"\",IF(COUNTIF($B$4:$B1620,B351)=1,\"ID Único OK\",\"ID repetido\"))","v":""}]
[null,null,null,null,null,null,null,"","",{"$f":"IF(B352=\"\",\"\",IF(COUNTIF($B$4:$B1621,B352)=1,\"ID Único OK\",\"ID repetido\"))","v":""}]
[null,null,null,null,null,null,null,"","",{"$f":"IF(B353=\"\",\"\",IF(COUNTIF($B$4:$B1622,B353)=1,\"ID Único OK\",\"ID repetido\"))","v":""}]
[null,null,null,null,null,null,null,"","",{"$f":"IF(B354=\"\",\"\",IF(COUNTIF($B$4:$B1623,B354)=1,\"ID Único OK\",\"ID repetido\"))","v":""}]
[null,null,null,null,null,null,null,"","",{"$f":"IF(B355=\"\",\"\",IF(COUNTIF($B$4:$B1624,B355)=1,\"ID Único OK\",\"ID repetido\"))","v":""}]
[null,null,null,null,null,null,null,"","",{"$f":"IF(B356=\"\",\"\",IF(COUNTIF($B$4:$B1625,B356)=1,\"ID Único OK\",\"ID repetido\"))","v":""}]
[null,null,null,null,null,null,null,"","",{"$f":"IF(B357=\"\",\"\",IF(COUNTIF($B$4:$B1626,B357)=1,\"ID Único OK\",\"ID repetido\"))","v":""}]
[null,null,null,null,null,null,null,"","",{"$f":"IF(B358=\"\",\"\",IF(COUNTIF($B$4:$B1627,B358)=1,\"ID Único OK\",\"ID repetido\"))","v":""}]
[null,null,null,null,null,null,null,"","",{"$f":"IF(B359=\"\",\"\",IF(COUNTIF($B$4:$B1628,B359)=1,\"ID Único OK\",\"ID repetido\"))","v":""}]
[null,null,null,null,null,null,null,"","",{"$f":"IF(B360=\"\",\"\",IF(COUNTIF($B$4:$B1629,B360)=1,\"ID Único OK\",\"ID repetido\"))","v":""}]
[null,null,null,null,null,null,null,"","",{"$f":"IF(B361=\"\",\"\",IF(COUNTIF($B$4:$B1630,B361)=1,\"ID Único OK\",\"ID repetido\"))","v":""}]
[null,null,null,null,null,null,null,"","",{"$f":"IF(B362=\"\",\"\",IF(COUNTIF($B$4:$B1631,B362)=1,\"ID Único OK\",\"ID repetido\"))","v":""}]
[null,null,null,null,null,null,null,"","",{"$f":"IF(B363=\"\",\"\",IF(COUNTIF($B$4:$B1632,B363)=1,\"ID Único OK\",\"ID repetido\"))","v":""}]
[null,null,null,null,null,null,null,"","",{"$f":"IF(B364=\"\",\"\",IF(COUNTIF($B$4:$B1633,B364)=1,\"ID Único OK\",\"ID repetido\"))","v":""}]
[null,null,null,null,null,null,null,"","",{"$f":"IF(B365=\"\",\"\",IF(COUNTIF($B$4:$B1634,B365)=1,\"ID Único OK\",\"ID repetido\"))","v":""}]
[null,null,null,null,null,null,null,"","",{"$f":"IF(B366=\"\",\"\",IF(COUNTIF($B$4:$B1635,B366)=1,\"ID Único OK\",\"ID repetido\"))","v":""}]
[null,null,null,null,null,null,null,"","",{"$f":"IF(B367=\"\",\"\",IF(COUNTIF($B$4:$B1636,B367)=1,\"ID Único OK\",\"ID repetido\"))","v":""}]
[null,null,null,null,null,null,null,"","",{"$f":"IF(B368=\"\",\"\",IF(COUNTIF($B$4:$B1637,B368)=1,\"ID Único OK\",\"ID repetido\"))","v":""}]
[null,null,null,null,null,null,null,"","",{"$f":"IF(B369=\"\",\"\",IF(COUNTIF($B$4:$B1638,B369)=1,\"ID Único OK\",\"ID repetido\"))","v":""}]
[null,null,null,null,null,null,null,"","",{"$f":"IF(B370=\"\",\"\",IF(COUNTIF($B$4:$B1639,B370)=1,\"ID Único OK\",\"ID repetido\"))","v":""}]
[null,null,null,null,null,null,null,"","",{"$f":"IF(B371=\"\",\"\",IF(COUNTIF($B$4:$B1640,B371)=1,\"ID Único OK\",\"ID repetido\"))","v":""}]
[null,null,null,null,null,null,null,"","",{"$f":"IF(B372=\"\",\"\",IF(COUNTIF($B$4:$B1641,B372)=1,\"ID Único OK\",\"ID repetido\"))","v":""}]
[null,null,null,null,null,null,null,"","",{"$f":"IF(B373=\"\",\"\",IF(COUNTIF($B$4:$B1642,B373)=1,\"ID Único OK\",\"ID repetido\"))","v":""}]
[null,null,null,null,null,null,null,"","",{"$f":"IF(B374=\"\",\"\",IF(COUNTIF($B$4:$B1643,B374)=1,\"ID Único OK\",\"ID repetido\"))","v":""}]
[null,null,null,null,null,null,null,"","",{"$f":"IF(B375=\"\",\"\",IF(COUNTIF($B$4:$B1644,B375)=1,\"ID Único OK\",\"ID repetido\"))","v":""}]
[null,null,null,null,null,null,null,"","",{"$f":"IF(B376=\"\",\"\",IF(COUNTIF($B$4:$B1645,B376)=1,\"ID Único OK\",\"ID repetido\"))","v":""}]
[null,null,null,null,null,null,null,"","",{"$f":"IF(B377=\"\",\"\",IF(COUNTIF($B$4:$B1646,B377)=1,\"ID Único OK\",\"ID repetido\"))","v":""}]
[null,null,null,null,null,null,null,"","",{"$f":"IF(B378=\"\",\"\",IF(COUNTIF($B$4:$B1647,B378)=1,\"ID Único OK\",\"ID repetido\"))","v":""}]
[null,null,null,null,null,null,null,"","",{"$f":"IF(B379=\"\",\"\",IF(COUNTIF($B$4:$B1648,B379)=1,\"ID Único OK\",\"ID repetido\"))","v":""}]
[null,null,null,null,null,null,null,"","",{"$f":"IF(B380=\"\",\"\",IF(COUNTIF($B$4:$B1649,B380)=1,\"ID Único OK\",\"ID repetido\"))","v":""}]
[null,null,null,null,null,null,null,"","",{"$f":"IF(B381=\"\",\"\",IF(COUNTIF($B$4:$B1650,B381)=1,\"ID Único OK\",\"ID repetido\"))","v":""}]
[null,null,null,null,null,null,null,"","",{"$f":"IF(B382=\"\",\"\",IF(COUNTIF($B$4:$B1651,B382)=1,\"ID Único OK\",\"ID repetido\"))","v":""}]
[null,null,null,null,null,null,null,"","",{"$f":"IF(B383=\"\",\"\",IF(COUNTIF($B$4:$B1652,B383)=1,\"ID Único OK\",\"ID repetido\"))","v":""}]
[null,null,null,null,null,null,null,"","",{"$f":"IF(B384=\"\",\"\",IF(COUNTIF($B$4:$B1653,B384)=1,\"ID Único OK\",\"ID repetido\"))","v":""}]
[null,null,null,null,null,null,null,"","",{"$f":"IF(B385=\"\",\"\",IF(COUNTIF($B$4:$B1654,B385)=1,\"ID Único OK\",\"ID repetido\"))","v":""}]
[null,null,null,null,null,null,null,"","",{"$f":"IF(B386=\"\",\"\",IF(COUNTIF($B$4:$B1655,B386)=1,\"ID Único OK\",\"ID repetido\"))","v":""}]
[null,null,null,null,null,null,null,"","",{"$f":"IF(B387=\"\",\"\",IF(COUNTIF($B$4:$B1656,B387)=1,\"ID Único OK\",\"ID repetido\"))","v":""}]
[null,null,null,null,null,null,null,"","",{"$f":"IF(B388=\"\",\"\",IF(COUNTIF($B$4:$B1657,B388)=1,\"ID Único OK\",\"ID repetido\"))","v":""}]
[null,null,null,null,null,null,null,{"$f":"IF(F389=\"\",\"\",IF(B389=F389,\"Son iguales\",\"Hay error en los números de solicitud\"))","v":""},{"$f":"IF(E389=\"\",\"\",IF(E389<D389,\"Error entre fechas\",\"Fechas correctas\"))","v":""},{"$f":"IF(B389=\"\",\"\",IF(COUNTIF($B$4:$B1658,B389)=1,\"ID Único OK\",\"ID repetido\"))","v":""}]
[null,null,null,null,null,null,null,"","",{"$f":"IF(B390=\"\",\"\",IF(COUNTIF($B$4:$B1659,B390)=1,\"ID Único OK\",\"ID repetido\"))","v":""}]
[null,null,null,null,null,null,null,"","",{"$f":"IF(B391=\"\",\"\",IF(COUNTIF($B$4:$B1660,B391)=1,\"ID Único OK\",\"ID repetido\"))","v":""}]
[null,null,null,null,null,null,null,"","",{"$f":"IF(B392=\"\",\"\",IF(COUNTIF($B$4:$B1661,B392)=1,\"ID Único OK\",\"ID repetido\"))","v":""}]
[null,null,null,null,null,null,null,"","",{"$f":"IF(B393=\"\",\"\",IF(COUNTIF($B$4:$B1662,B393)=1,\"ID Único OK\",\"ID repetido\"))","v":""}]
[null,null,null,null,null,null,null,"","",{"$f":"IF(B394=\"\",\"\",IF(COUNTIF($B$4:$B1663,B394)=1,\"ID Único OK\",\"ID repetido\"))","v":""}]
[null,null,null,null,null,null,null,"","",{"$f":"IF(B395=\"\",\"\",IF(COUNTIF($B$4:$B1664,B395)=1,\"ID Único OK\",\"ID repetido\"))","v":""}]
[null,null,null,null,null,null,null,"","",{"$f":"IF(B396=\"\",\"\",IF(COUNTIF($B$4:$B1665,B396)=1,\"ID Único OK\",\"ID repetido\"))","v":""}]
[null,null,null,null,null,null,null,"","",{"$f":"IF(B397=\"\",\"\",IF(COUNTIF($B$4:$B1666,B397)=1,\"ID Único OK\",\"ID repetido\"))","v":""}]
[null,null,null,null,null,null,null,"","",{"$f":"IF(B398=\"\",\"\",IF(COUNTIF($B$4:$B1667,B398)=1,\"ID Único OK\",\"ID repetido\"))","v":""}]
[null,null,null,null,null,null,null,"","",{"$f":"IF(B399=\"\",\"\",IF(COUNTIF($B$4:$B1668,B399)=1,\"ID Único OK\",\"ID repetido\"))","v":""}]
[null,null,null,null,null,null,null,"","",{"$f":"IF(B400=\"\",\"\",IF(COUNTIF($B$4:$B1669,B400)=1,\"ID Único OK\",\"ID repetido\"))","v":""}]
[null,null,null,null,null,null,null,"","",{"$f":"IF(B401=\"\",\"\",IF(COUNTIF($B$4:$B1670,B401)=1,\"ID Único OK\",\"ID repetido\"))","v":""}]
[null,null,null,null,null,null,null,"","",{"$f":"IF(B402=\"\",\"\",IF(COUNTIF($B$4:$B1671,B402)=1,\"ID Único OK\",\"ID repetido\"))","v":""}]
[null,null,null,null,null,null,null,"","",{"$f":"IF(B403=\"\",\"\",IF(COUNTIF($B$4:$B1672,B403)=1,\"ID Único OK\",\"ID repetido\"))","v":""}]
[null,null,null,null,null,null,null,"","",{"$f":"IF(B404=\"\",\"\",IF(COUNTIF($B$4:$B1673,B404)=1,\"ID Único OK\",\"ID repetido\"))","v":""}]
[null,null,null,null,null,null,null,"","",{"$f":"IF(B405=\"\",\"\",IF(COUNTIF($B$4:$B1674,B405)=1,\"ID Único OK\",\"ID repetido\"))","v":""}]
[null,null,null,null,null,null,null,"","",{"$f":"IF(B406=\"\",\"\",IF(COUNTIF($B$4:$B1675,B406)=1,\"ID Único OK\",\"ID repetido\"))","v":""}]
[null,null,null,null,null,null,null,"","",{"$f":"IF(B407=\"\",\"\",IF(COUNTIF($B$4:$B1676,B407)=1,\"ID Único OK\",\"ID repetido\"))","v":""}]
[null,null,null,null,null,null,null,"","",{"$f":"IF(B408=\"\",\"\",IF(COUNTIF($B$4:$B1677,B408)=1,\"ID Único OK\",\"ID repetido\"))","v":""}]
[null,null,null,null,null,null,null,"","",{"$f":"IF(B409=\"\",\"\",IF(COUNTIF($B$4:$B1678,B409)=1,\"ID Único OK\",\"ID repetido\"))","v":""}]
[null,null,null,null,null,null,null,"","",{"$f":"IF(B410=\"\",\"\",IF(COUNTIF($B$4:$B1679,B410)=1,\"ID Único OK\",\"ID repetido\"))","v":""}]
[null,null,null,null,null,null,null,"","",{"$f":"IF(B411=\"\",\"\",IF(COUNTIF($B$4:$B1680,B411)=1,\"ID Único OK\",\"ID repetido\"))","v":""}]
[null,null,null,null,null,null,null,"","",{"$f":"IF(B412=\"\",\"\",IF(COUNTIF($B$4:$B1681,B412)=1,\"ID Único OK\",\"ID repetido\"))","v":""}]
[null,null,null,null,null,null,null,"","",{"$f":"IF(B413=\"\",\"\",IF(COUNTIF($B$4:$B1682,B413)=1,\"ID Único OK\",\"ID repetido\"))","v":""}]
[null,null,null,null,null,null,null,"","",{"$f":"IF(B414=\"\",\"\",IF(COUNTIF($B$4:$B1683,B414)=1,\"ID Único OK\",\"ID repetido\"))","v":""}]
[null,null,null,null,null,null,null,"","",{"$f":"IF(B415=\"\",\"\",IF(COUNTIF($B$4:$B1684,B415)=1,\"ID Único OK\",\"ID repetido\"))","v":""}]
[null,null,null,null,null,null,null,"","",{"$f":"IF(B416=\"\",\"\",IF(COUNTIF($B$4:$B1685,B416)=1,\"ID Único OK\",\"ID repetido\"))","v":""}]
[null,null,null,null,null,null,null,"","",{"$f":"IF(B417=\"\",\"\",IF(COUNTIF($B$4:$B1686,B417)=1,\"ID Único OK\",\"ID repetido\"))","v":""}]
[null,null,null,null,null,null,null,"","",{"$f":"IF(B418=\"\",\"\",IF(COUNTIF($B$4:$B1687,B418)=1,\"ID Único OK\",\"ID repetido\"))","v":""}]
[null,null,null,null,null,null,null,"","",{"$f":"IF(B419=\"\",\"\",IF(COUNTIF($B$4:$B1688,B419)=1,\"ID Único OK\",\"ID repetido\"))","v":""}]
[null,null,null,null,null,null,null,"","",{"$f":"IF(B420=\"\",\"\",IF(COUNTIF($B$4:$B1689,B420)=1,\"ID Único OK\",\"ID repetido\"))","v":""}]
[null,null,null,null,null,null,null,"","",{"$f":"IF(B421=\"\",\"\",IF(COUNTIF($B$4:$B1690,B421)=1,\"ID Único OK\",\"ID repetido\"))","v":""}]
[null,null,null,null,null,null,null,"","",{"$f":"IF(B422=\"\",\"\",IF(COUNTIF($B$4:$B1691,B422)=1,\"ID Único OK\",\"ID repetido\"))","v":""}]
[null,null,null,null,null,null,null,"","",{"$f":"IF(B423=\"\",\"\",IF(COUNTIF($B$4:$B1692,B423)=1,\"ID Único OK\",\"ID repetido\"))","v":""}]
[null,null,null,null,null,null,null,"","",{"$f":"IF(B424=\"\",\"\",IF(COUNTIF($B$4:$B1693,B424)=1,\"ID Único OK\",\"ID repetido\"))","v":""}]
[null,null,null,null,null,null,null,"","",{"$f":"IF(B425=\"\",\"\",IF(COUNTIF($B$4:$B1694,B425)=1,\"ID Único OK\",\"ID repetido\"))","v":""}]
[null,null,null,null,null,null,null,"","",{"$f":"IF(B426=\"\",\"\",IF(COUNTIF($B$4:$B1695,B426)=1,\"ID Único OK\",\"ID repetido\"))","v":""}]
[null,null,null,null,null,null,null,"","",{"$f":"IF(B427=\"\",\"\",IF(COUNTIF($B$4:$B1696,B427)=1,\"ID Único OK\",\"ID repetido\"))","v":""}]
[null,null,null,null,null,null,null,"","",{"$f":"IF(B428=\"\",\"\",IF(COUNTIF($B$4:$B1697,B428)=1,\"ID Único OK\",\"ID repetido\"))","v":""}]
[null,null,null,null,null,null,null,"","",{"$f":"IF(B429=\"\",\"\",IF(COUNTIF($B$4:$B1698,B429)=1,\"ID Único OK\",\"ID repetido\"))","v":""}]
[null,null,null,null,null,null,null,"","",{"$f":"IF(B430=\"\",\"\",IF(COUNTIF($B$4:$B1699,B430)=1,\"ID Único OK\",\"ID repetido\"))","v":""}]
[null,null,null,null,null,null,null,"","",{"$f":"IF(B431=\"\",\"\",IF(COUNTIF($B$4:$B1700,B431)=1,\"ID Único OK\",\"ID repetido\"))","v":""}]
[null,null,null,null,null,null,null,"","",{"$f":"IF(B432=\"\",\"\",IF(COUNTIF($B$4:$B1701,B432)=1,\"ID Único OK\",\"ID repetido\"))","v":""}]
[null,null,null,null,null,null,null,"","",{"$f":"IF(B433=\"\",\"\",IF(COUNTIF($B$4:$B1702,B433)=1,\"ID Único OK\",\"ID repetido\"))","v":""}]
[null,null,null,null,null,null,null,"","",{"$f":"IF(B434=\"\",\"\",IF(COUNTIF($B$4:$B1703,B434)=1,\"ID Único OK\",\"ID repetido\"))","v":""}]
[null,null,null,null,null,null,null,"","",{"$f":"IF(B435=\"\",\"\",IF(COUNTIF($B$4:$B1704,B435)=1,\"ID Único OK\",\"ID repetido\"))","v":""}]
[null,null,null,null,null,null,null,"","",{"$f":"IF(B436=\"\",\"\",IF(COUNTIF($B$4:$B1705,B436)=1,\"ID Único OK\",\"ID repetido\"))","v":""}]
[null,null,null,null,null,null,null,"","",{"$f":"IF(B437=\"\",\"\",IF(COUNTIF($B$4:$B1706,B437)=1,\"ID Único OK\",\"ID repetido\"))","v":""}]
[null,null,null,null,null,null,null,"","",{"$f":"IF(B438=\"\",\"\",IF(COUNTIF($B$4:$B1707,B438)=1,\"ID Único OK\",\"ID repetido\"))","v":""}]
[null,null,null,null,null,null,null,"","",{"$f":"IF(B439=\"\",\"\",IF(COUNTIF($B$4:$B1708,B439)=1,\"ID Único OK\",\"ID repetido\"))","v":""}]
[null,null,null,null,null,null,null,"","",{"$f":"IF(B440=\"\",\"\",IF(COUNTIF($B$4:$B1709,B440)=1,\"ID Único OK\",\"ID repetido\"))","v":""}]
[null,null,null,null,null,null,null,"","",{"$f":"IF(B441=\"\",\"\",IF(COUNTIF($B$4:$B1710,B441)=1,\"ID Único OK\",\"ID repetido\"))","v":""}]
[null,null,null,null,null,null,null,"","",{"$f":"IF(B442=\"\",\"\",IF(COUNTIF($B$4:$B1711,B442)=1,\"ID Único OK\",\"ID repetido\"))","v":""}]
[null,null,null,null,null,null,null,"","",{"$f":"IF(B443=\"\",\"\",IF(COUNTIF($B$4:$B1712,B443)=1,\"ID Único OK\",\"ID repetido\"))","v":""}]
[null,null,null,null,null,null,null,"","",{"$f":"IF(B444=\"\",\"\",IF(COUNTIF($B$4:$B1713,B444)=1,\"ID Único OK\",\"ID repetido\"))","v":""}]
[null,null,null,null,null,null,null,"","",{"$f":"IF(B445=\"\",\"\",IF(COUNTIF($B$4:$B1714,B445)=1,\"ID Único OK\",\"ID repetido\"))","v":""}]
[null,null,null,null,null,null,null,"","",{"$f":"IF(B446=\"\",\"\",IF(COUNTIF($B$4:$B1715,B446)=1,\"ID Único OK\",\"ID repetido\"))","v":""}]
[null,null,null,null,null,null,null,"","",{"$f":"IF(B447=\"\",\"\",IF(COUNTIF($B$4:$B1716,B447)=1,\"ID Único OK\",\"ID repetido\"))","v":""}]
[null,null,null,null,null,null,null,"","",{"$f":"IF(B448=\"\",\"\",IF(COUNTIF($B$4:$B1717,B448)=1,\"ID Único OK\",\"ID repetido\"))","v":""}]
[null,null,null,null,null,null,null,"","",{"$f":"IF(B449=\"\",\"\",IF(COUNTIF($B$4:$B1718,B449)=1,\"ID Único OK\",\"ID repetido\"))","v":""}]
[null,null,null,null,null,null,null,"","",{"$f":"IF(B450=\"\",\"\",IF(COUNTIF($B$4:$B1719,B450)=1,\"ID Único OK\",\"ID repetido\"))","v":""}]
[null,null,null,null,null,null,null,"","",{"$f":"IF(B451=\"\",\"\",IF(COUNTIF($B$4:$B1720,B451)=1,\"ID Único OK\",\"ID repetido\"))","v":""}]
[null,null,null,null,null,null,null,"","",{"$f":"IF(B452=\"\",\"\",IF(COUNTIF($B$4:$B1721,B452)=1,\"ID Único OK\",\"ID repetido\"))","v":""}]
[null,null,null,null,null,null,null,{"$f":"IF(F453=\"\",\"\",IF(B453=F453,\"Son iguales\",\"Hay error en los números de solicitud\"))","v":""},{"$f":"IF(E453=\"\",\"\",IF(E453<D453,\"Error entre fechas\",\"Fechas correctas\"))","v":""},{"$f":"IF(B453=\"\",\"\",IF(COUNTIF($B$4:$B1722,B453)=1,\"ID Único OK\",\"ID repetido\"))","v":""}]
[null,null,null,null,null,null,null,"","",{"$f":"IF(B454=\"\",\"\",IF(COUNTIF($B$4:$B1723,B454)=1,\"ID Único OK\",\"ID repetido\"))","v":""}]
[null,null,null,null,null,null,null,"","",{"$f":"IF(B455=\"\",\"\",IF(COUNTIF($B$4:$B1724,B455)=1,\"ID Único OK\",\"ID repetido\"))","v":""}]
[null,null,null,null,null,null,null,"","",{"$f":"IF(B456=\"\",\"\",IF(COUNTIF($B$4:$B1725,B456)=1,\"ID Único OK\",\"ID repetido\"))","v":""}]
[null,null,null,null,null,null,null,"","",{"$f":"IF(B457=\"\",\"\",IF(COUNTIF($B$4:$B1726,B457)=1,\"ID Único OK\",\"ID repetido\"))","v":""}]
[null,null,null,null,null,null,null,"","",{"$f":"IF(B458=\"\",\"\",IF(COUNTIF($B$4:$B1727,B458)=1,\"ID Único OK\",\"ID repetido\"))","v":""}]
[null,null,null,null,null,null,null,"","",{"$f":"IF(B459=\"\",\"\",IF(COUNTIF($B$4:$B1728,B459)=1,\"ID Único OK\",\"ID repetido\"))","v":""}]
[null,null,null,null,null,null,null,"","",{"$f":"IF(B460=\"\",\"\",IF(COUNTIF($B$4:$B1729,B460)=1,\"ID Único OK\",\"ID repetido\"))","v":""}]
[null,null,null,null,null,null,null,"","",{"$f":"IF(B461=\"\",\"\",IF(COUNTIF($B$4:$B1730,B461)=1,\"ID Único OK\",\"ID repetido\"))","v":""}]
[null,null,null,null,null,null,null,"","",{"$f":"IF(B462=\"\",\"\",IF(COUNTIF($B$4:$B1731,B462)=1,\"ID Único OK\",\"ID repetido\"))","v":""}]
[null,null,null,null,null,null,null,"","",{"$f":"IF(B463=\"\",\"\",IF(COUNTIF($B$4:$B1732,B463)=1,\"ID Único OK\",\"ID repetido\"))","v":""}]
[null,null,null,null,null,null,null,"","",{"$f":"IF(B464=\"\",\"\",IF(COUNTIF($B$4:$B1733,B464)=1,\"ID Único OK\",\"ID repetido\"))","v":""}]
[null,null,null,null,null,null,null,"","",{"$f":"IF(B465=\"\",\"\",IF(COUNTIF($B$4:$B1734,B465)=1,\"ID Único OK\",\"ID repetido\"))","v":""}]
[null,null,null,null,null,null,null,"","",{"$f":"IF(B466=\"\",\"\",IF(COUNTIF($B$4:$B1735,B466)=1,\"ID Único OK\",\"ID repetido\"))","v":""}]
[null,null,null,null,null,null,null,"","",{"$f":"IF(B467=\"\",\"\",IF(COUNTIF($B$4:$B1736,B467)=1,\"ID Único OK\",\"ID repetido\"))","v":""}]
[null,null,null,null,null,null,null,"","",{"$f":"IF(B468=\"\",\"\",IF(COUNTIF($B$4:$B1737,B468)=1,\"ID Único OK\",\"ID repetido\"))","v":""}]
[null,null,null,null,null,null,null,"","",{"$f":"IF(B469=\"\",\"\",IF(COUNTIF($B$4:$B1738,B469)=1,\"ID Único OK\",\"ID repetido\"))","v":""}]
[null,null,null,null,null,null,null,"","",{"$f":"IF(B470=\"\",\"\",IF(COUNTIF($B$4:$B1739,B470)=1,\"ID Único OK\",\"ID repetido\"))","v":""}]
[null,null,null,null,null,null,null,"","",{"$f":"IF(B471=\"\",\"\",IF(COUNTIF($B$4:$B1740,B471)=1,\"ID Único OK\",\"ID repetido\"))","v":""}]
[null,null,null,null,null,null,null,"","",{"$f":"IF(B472=\"\",\"\",IF(COUNTIF($B$4:$B1741,B472)=1,\"ID Único OK\",\"ID repetido\"))","v":""}]
[null,null,null,null,null,null,null,"","",{"$f":"IF(B473=\"\",\"\",IF(COUNTIF($B$4:$B1742,B473)=1,\"ID Único OK\",\"ID repetido\"))","v":""}]
[null,null,null,null,null,null,null,"","",{"$f":"IF(B474=\"\",\"\",IF(COUNTIF($B$4:$B1743,B474)=1,\"ID Único OK\",\"ID repetido\"))","v":""}]
[null,null,null,null,null,null,null,"","",{"$f":"IF(B475=\"\",\"\",IF(COUNTIF($B$4:$B1744,B475)=1,\"ID Único OK\",\"ID repetido\"))","v":""}]
[null,null,null,null,null,null,null,"","",{"$f":"IF(B476=\"\",\"\",IF(COUNTIF($B$4:$B1745,B476)=1,\"ID Único OK\",\"ID repetido\"))","v":""}]
[null,null,null,null,null,null,null,"","",{"$f":"IF(B477=\"\",\"\",IF(COUNTIF($B$4:$B1746,B477)=1,\"ID Único OK\",\"ID repetido\"))","v":""}]
[null,null,null,null,null,null,null,"","",{"$f":"IF(B478=\"\",\"\",IF(COUNTIF($B$4:$B1747,B478)=1,\"ID Único OK\",\"ID repetido\"))","v":""}]
[null,null,null,null,null,null,null,"","",{"$f":"IF(B479=\"\",\"\",IF(COUNTIF($B$4:$B1748,B479)=1,\"ID Único OK\",\"ID repetido\"))","v":""}]
[null,null,null,null,null,null,null,"","",{"$f":"IF(B480=\"\",\"\",IF(COUNTIF($B$4:$B1749,B480)=1,\"ID Único OK\",\"ID repetido\"))","v":""}]
[null,null,null,null,null,null,null,"","",{"$f":"IF(B481=\"\",\"\",IF(COUNTIF($B$4:$B1750,B481)=1,\"ID Único OK\",\"ID repetido\"))","v":""}]
[null,null,null,null,null,null,null,"","",{"$f":"IF(B482=\"\",\"\",IF(COUNTIF($B$4:$B1751,B482)=1,\"ID Único OK\",\"ID repetido\"))","v":""}]
[null,null,null,null,null,null,null,"","",{"$f":"IF(B483=\"\",\"\",IF(COUNTIF($B$4:$B1752,B483)=1,\"ID Único OK\",\"ID repetido\"))","v":""}]
[null,null,null,null,null,null,null,"","",{"$f":"IF(B484=\"\",\"\",IF(COUNTIF($B$4:$B1753,B484)=1,\"ID Único OK\",\"ID repetido\"))","v":""}]
[null,null,null,null,null,null,null,"","",{"$f":"IF(B485=\"\",\"\",IF(COUNTIF($B$4:$B1754,B485)=1,\"ID Único OK\",\"ID repetido\"))","v":""}]
[null,null,null,null,null,null,null,"","",{"$f":"IF(B486=\"\",\"\",IF(COUNTIF($B$4:$B1755,B486)=1,\"ID Único OK\",\"ID repetido\"))","v":""}]
[null,null,null,null,null,null,null,"","",{"$f":"IF(B487=\"\",\"\",IF(COUNTIF($B$4:$B1756,B487)=1,\"ID Único OK\",\"ID repetido\"))","v":""}]
[null,null,null,null,null,null,null,"","",{"$f":"IF(B488=\"\",\"\",IF(COUNTIF($B$4:$B1757,B488)=1,\"ID Único OK\",\"ID repetido\"))","v":""}]
[null,null,null,null,null,null,null,"","",{"$f":"IF(B489=\"\",\"\",IF(COUNTIF($B$4:$B1758,B489)=1,\"ID Único OK\",\"ID repetido\"))","v":""}]
[null,null,null,null,null,null,null,"","",{"$f":"IF(B490=\"\",\"\",IF(COUNTIF($B$4:$B1759,B490)=1,\"ID Único OK\",\"ID repetido\"))","v":""}]
[null,null,null,null,null,null,null,"","",{"$f":"IF(B491=\"\",\"\",IF(COUNTIF($B$4:$B1760,B491)=1,\"ID Único OK\",\"ID repetido\"))","v":""}]
[null,null,null,null,null,null,null,"","",{"$f":"IF(B492=\"\",\"\",IF(COUNTIF($B$4:$B1761,B492)=1,\"ID Único OK\",\"ID repetido\"))","v":""}]
[null,null,null,null,null,null,null,"","",{"$f":"IF(B493=\"\",\"\",IF(COUNTIF($B$4:$B1762,B493)=1,\"ID Único OK\",\"ID repetido\"))","v":""}]
[null,null,null,null,null,null,null,"","",{"$f":"IF(B494=\"\",\"\",IF(COUNTIF($B$4:$B1763,B494)=1,\"ID Único OK\",\"ID repetido\"))","v":""}]
[null,null,null,null,null,null,null,"","",{"$f":"IF(B495=\"\",\"\",IF(COUNTIF($B$4:$B1764,B495)=1,\"ID Único OK\",\"ID repetido\"))","v":""}]
[null,null,null,null,null,null,null,"","",{"$f":"IF(B496=\"\",\"\",IF(COUNTIF($B$4:$B1765,B496)=1,\"ID Único OK\",\"ID repetido\"))","v":""}]
[null,null,null,null,null,null,null,"","",{"$f":"IF(B497=\"\",\"\",IF(COUNTIF($B$4:$B1766,B497)=1,\"ID Único OK\",\"ID repetido\"))","v":""}]
[null,null,null,null,null,null,null,"","",{"$f":"IF(B498=\"\",\"\",IF(COUNTIF($B$4:$B1767,B498)=1,\"ID Único OK\",\"ID repetido\"))","v":""}]
[null,null,null,null,null,null,null,"","",{"$f":"IF(B499=\"\",\"\",IF(COUNTIF($B$4:$B1768,B499)=1,\"ID Único OK\",\"ID repetido\"))","v":""}]
[null,null,null,null,null,null,null,"","",{"$f":"IF(B500=\"\",\"\",IF(COUNTIF($B$4:$B1769,B500)=1,\"ID Único OK\",\"ID repetido\"))","v":""}]
[null,null,null,null,null,null,null,"","",{"$f":"IF(B501=\"\",\"\",IF(COUNTIF($B$4:$B1770,B501)=1,\"ID Único OK\",\"ID repetido\"))","v":""}]
[null,null,null,null,null,null,null,"","",{"$f":"IF(B502=\"\",\"\",IF(COUNTIF($B$4:$B1771,B502)=1,\"ID Único OK\",\"ID repetido\"))","v":""}]
[null,null,null,null,null,null,null,"","",{"$f":"IF(B503=\"\",\"\",IF(COUNTIF($B$4:$B1772,B503)=1,\"ID Único OK\",\"ID repetido\"))","v":""}]
[null,null,null,null,null,null,null,"","",{"$f":"IF(B504=\"\",\"\",IF(COUNTIF($B$4:$B1773,B504)=1,\"ID Único OK\",\"ID repetido\"))","v":""}]
[null,null,null,null,null,null,null,"","",{"$f":"IF(B505=\"\",\"\",IF(COUNTIF($B$4:$B1774,B505)=1,\"ID Único OK\",\"ID repetido\"))","v":""}]
[null,null,null,null,null,null,null,"","",{"$f":"IF(B506=\"\",\"\",IF(COUNTIF($B$4:$B1775,B506)=1,\"ID Único OK\",\"ID repetido\"))","v":""}]
[null,null,null,null,null,null,null,"","",{"$f":"IF(B507=\"\",\"\",IF(COUNTIF($B$4:$B1776,B507)=1,\"ID Único OK\",\"ID repetido\"))","v":""}]
[null,null,null,null,null,null,null,"","",{"$f":"IF(B508=\"\",\"\",IF(COUNTIF($B$4:$B1777,B508)=1,\"ID Único OK\",\"ID repetido\"))","v":""}]
[null,null,null,null,null,null,null,"","",{"$f":"IF(B509=\"\",\"\",IF(COUNTIF($B$4:$B1778,B509)=1,\"ID Único OK\",\"ID repetido\"))","v":""}]
[null,null,null,null,null,null,null,"","",{"$f":"IF(B510=\"\",\"\",IF(COUNTIF($B$4:$B1779,B510)=1,\"ID Único OK\",\"ID repetido\"))","v":""}]
[null,null,null,null,null,null,null,"","",{"$f":"IF(B511=\"\",\"\",IF(COUNTIF($B$4:$B1780,B511)=1,\"ID Único OK\",\"ID repetido\"))","v":""}]
[null,null,null,null,null,null,null,"","",{"$f":"IF(B512=\"\",\"\",IF(COUNTIF($B$4:$B1781,B512)=1,\"ID Único OK\",\"ID repetido\"))","v":""}]
[null,null,null,null,null,null,null,"","",{"$f":"IF(B513=\"\",\"\",IF(COUNTIF($B$4:$B1782,B513)=1,\"ID Único OK\",\"ID repetido\"))","v":""}]
[null,null,null,null,null,null,null,"","",{"$f":"IF(B514=\"\",\"\",IF(COUNTIF($B$4:$B1783,B514)=1,\"ID Único OK\",\"ID repetido\"))","v":""}]
[null,null,null,null,null,null,null,"","",{"$f":"IF(B515=\"\",\"\",IF(COUNTIF($B$4:$B1784,B515)=1,\"ID Único OK\",\"ID repetido\"))","v":""}]
[null,null,null,null,null,null,null,"","",{"$f":"IF(B516=\"\",\"\",IF(COUNTIF($B$4:$B1785,B516)=1,\"ID Único OK\",\"ID repetido\"))","v":""}]
[null,null,null,null,null,null,null,{"$f":"IF(F517=\"\",\"\",IF(B517=F517,\"Son iguales\",\"Hay error en los números de solicitud\"))","v":""},{"$f":"IF(E517=\"\",\"\",IF(E517<D517,\"Error entre fechas\",\"Fechas correctas\"))","v":""},{"$f":"IF(B517=\"\",\"\",IF(COUNTIF($B$4:$B1786,B517)=1,\"ID Único OK\",\"ID repetido\"))","v":""}]
[null,null,null,null,null,null,null,"","",{"$f":"IF(B518=\"\",\"\",IF(COUNTIF($B$4:$B1787,B518)=1,\"ID Único OK\",\"ID repetido\"))","v":""}]
[null,null,null,null,null,null,null,"","",{"$f":"IF(B519=\"\",\"\",IF(COUNTIF($B$4:$B1788,B519)=1,\"ID Único OK\",\"ID repetido\"))","v":""}]
[null,null,null,null,null,null,null,"","",{"$f":"IF(B520=\"\",\"\",IF(COUNTIF($B$4:$B1789,B520)=1,\"ID Único OK\",\"ID repetido\"))","v":""}]
[null,null,null,null,null,null,null,"","",{"$f":"IF(B521=\"\",\"\",IF(COUNTIF($B$4:$B1790,B521)=1,\"ID Único OK\",\"ID repetido\"))","v":""}]
[null,null,null,null,null,null,null,"","",{"$f":"IF(B522=\"\",\"\",IF(COUNTIF($B$4:$B1791,B522)=1,\"ID Único OK\",\"ID repetido\"))","v":""}]
[null,null,null,null,null,null,null,"","",{"$f":"IF(B523=\"\",\"\",IF(COUNTIF($B$4:$B1792,B523)=1,\"ID Único OK\",\"ID repetido\"))","v":""}]
[null,null,null,null,null,null,null,"","",{"$f":"IF(B524=\"\",\"\",IF(COUNTIF($B$4:$B1793,B524)=1,\"ID Único OK\",\"ID repetido\"))","v":""}]
[null,null,null,null,null,null,null,"","",{"$f":"IF(B525=\"\",\"\",IF(COUNTIF($B$4:$B1794,B525)=1,\"ID Único OK\",\"ID repetido\"))","v":""}]
[null,null,null,null,null,null,null,"","",{"$f":"IF(B526=\"\",\"\",IF(COUNTIF($B$4:$B1795,B526)=1,\"ID Único OK\",\"ID repetido\"))","v":""}]
[null,null,null,null,null,null,null,"","",{"$f":"IF(B527=\"\",\"\",IF(COUNTIF($B$4:$B1796,B527)=1,\"ID Único OK\",\"ID repetido\"))","v":""}]
[null,null,null,null,null,null,null,"","",{"$f":"IF(B528=\"\",\"\",IF(COUNTIF($B$4:$B1797,B528)=1,\"ID Único OK\",\"ID repetido\"))","v":""}]
[null,null,null,null,null,null,null,"","",{"$f":"IF(B529=\"\",\"\",IF(COUNTIF($B$4:$B1798,B529)=1,\"ID Único OK\",\"ID repetido\"))","v":""}]
[null,null,null,null,null,null,null,"","",{"$f":"IF(B530=\"\",\"\",IF(COUNTIF($B$4:$B1799,B530)=1,\"ID Único OK\",\"ID repetido\"))","v":""}]
[null,null,null,null,null,null,null,"","",{"$f":"IF(B531=\"\",\"\",IF(COUNTIF($B$4:$B1800,B531)=1,\"ID Único OK\",\"ID repetido\"))","v":""}]
[null,null,null,null,null,null,null,"","",{"$f":"IF(B532=\"\",\"\",IF(COUNTIF($B$4:$B1801,B532)=1,\"ID Único OK\",\"ID repetido\"))","v":""}]
[null,null,null,null,null,null,null,"","",{"$f":"IF(B533=\"\",\"\",IF(COUNTIF($B$4:$B1802,B533)=1,\"ID Único OK\",\"ID repetido\"))","v":""}]
[null,null,null,null,null,null,null,"","",{"$f":"IF(B534=\"\",\"\",IF(COUNTIF($B$4:$B1803,B534)=1,\"ID Único OK\",\"ID repetido\"))","v":""}]
[null,null,null,null,null,null,null,"","",{"$f":"IF(B535=\"\",\"\",IF(COUNTIF($B$4:$B1804,B535)=1,\"ID Único OK\",\"ID repetido\"))","v":""}]
[null,null,null,null,null,null,null,"","",{"$f":"IF(B536=\"\",\"\",IF(COUNTIF($B$4:$B1805,B536)=1,\"ID Único OK\",\"ID repetido\"))","v":""}]
[null,null,null,null,null,null,null,"","",{"$f":"IF(B537=\"\",\"\",IF(COUNTIF($B$4:$B1806,B537)=1,\"ID Único OK\",\"ID repetido\"))","v":""}]
[null,null,null,null,null,null,null,"","",{"$f":"IF(B538=\"\",\"\",IF(COUNTIF($B$4:$B1807,B538)=1,\"ID Único OK\",\"ID repetido\"))","v":""}]
[null,null,null,null,null,null,null,"","",{"$f":"IF(B539=\"\",\"\",IF(COUNTIF($B$4:$B1808,B539)=1,\"ID Único OK\",\"ID repetido\"))","v":""}]
[null,null,null,null,null,null,null,"","",{"$f":"IF(B540=\"\",\"\",IF(COUNTIF($B$4:$B1809,B540)=1,\"ID Único OK\",\"ID repetido\"))","v":""}]
[null,null,null,null,null,null,null,"","",{"$f":"IF(B541=\"\",\"\",IF(COUNTIF($B$4:$B1810,B541)=1,\"ID Único OK\",\"ID repetido\"))","v":""}]
[null,null,null,null,null,null,null,"","",{"$f":"IF(B542=\"\",\"\",IF(COUNTIF($B$4:$B1811,B542)=1,\"ID Único OK\",\"ID repetido\"))","v":""}]
[null,null,null,null,null,null,null,"","",{"$f":"IF(B543=\"\",\"\",IF(COUNTIF($B$4:$B1812,B543)=1,\"ID Único OK\",\"ID repetido\"))","v":""}]
[null,null,null,null,null,null,null,"","",{"$f":"IF(B544=\"\",\"\",IF(COUNTIF($B$4:$B1813,B544)=1,\"ID Único OK\",\"ID repetido\"))","v":""}]
[null,null,null,null,null,null,null,"","",{"$f":"IF(B545=\"\",\"\",IF(COUNTIF($B$4:$B1814,B545)=1,\"ID Único OK\",\"ID repetido\"))","v":""}]
[null,null,null,null,null,null,null,"","",{"$f":"IF(B546=\"\",\"\",IF(COUNTIF($B$4:$B1815,B546)=1,\"ID Único OK\",\"ID repetido\"))","v":""}]
[null,null,null,null,null,null,null,"","",{"$f":"IF(B547=\"\",\"\",IF(COUNTIF($B$4:$B1816,B547)=1,\"ID Único OK\",\"ID repetido\"))","v":""}]
[null,null,null,null,null,null,null,"","",{"$f":"IF(B548=\"\",\"\",IF(COUNTIF($B$4:$B1817,B548)=1,\"ID Único OK\",\"ID repetido\"))","v":""}]
[null,null,null,null,null,null,null,"","",{"$f":"IF(B549=\"\",\"\",IF(COUNTIF($B$4:$B1818,B549)=1,\"ID Único OK\",\"ID repetido\"))","v":""}]
[null,null,null,null,null,null,null,"","",{"$f":"IF(B550=\"\",\"\",IF(COUNTIF($B$4:$B1819,B550)=1,\"ID Único OK\",\"ID repetido\"))","v":""}]
[null,null,null,null,null,null,null,"","",{"$f":"IF(B551=\"\",\"\",IF(COUNTIF($B$4:$B1820,B551)=1,\"ID Único OK\",\"ID repetido\"))","v":""}]
[null,null,null,null,null,null,null,"","",{"$f":"IF(B552=\"\",\"\",IF(COUNTIF($B$4:$B1821,B552)=1,\"ID Único OK\",\"ID repetido\"))","v":""}]
[null,null,null,null,null,null,null,"","",{"$f":"IF(B553=\"\",\"\",IF(COUNTIF($B$4:$B1822,B553)=1,\"ID Único OK\",\"ID repetido\"))","v":""}]
[null,null,null,null,null,null,null,"","",{"$f":"IF(B554=\"\",\"\",IF(COUNTIF($B$4:$B1823,B554)=1,\"ID Único OK\",\"ID repetido\"))","v":""}]
[null,null,null,null,null,null,null,"","",{"$f":"IF(B555=\"\",\"\",IF(COUNTIF($B$4:$B1824,B555)=1,\"ID Único OK\",\"ID repetido\"))","v":""}]
[null,null,null,null,null,null,null,"","",{"$f":"IF(B556=\"\",\"\",IF(COUNTIF($B$4:$B1825,B556)=1,\"ID Único OK\",\"ID repetido\"))","v":""}]
[null,null,null,null,null,null,null,"","",{"$f":"IF(B557=\"\",\"\",IF(COUNTIF($B$4:$B1826,B557)=1,\"ID Único OK\",\"ID repetido\"))","v":""}]
[null,null,null,null,null,null,null,"","",{"$f":"IF(B558=\"\",\"\",IF(COUNTIF($B$4:$B1827,B558)=1,\"ID Único OK\",\"ID repetido\"))","v":""}]
[null,null,null,null,null,null,null,"","",{"$f":"IF(B559=\"\",\"\",IF(COUNTIF($B$4:$B1828,B559)=1,\"ID Único OK\",\"ID repetido\"))","v":""}]
[null,null,null,null,null,null,null,"","",{"$f":"IF(B560=\"\",\"\",IF(COUNTIF($B$4:$B1829,B560)=1,\"ID Único OK\",\"ID repetido\"))","v":""}]
[null,null,null,null,null,null,null,"","",{"$f":"IF(B561=\"\",\"\",IF(COUNTIF($B$4:$B1830,B561)=1,\"ID Único OK\",\"ID repetido\"))","v":""}]
[null,null,null,null,null,null,null,"","",{"$f":"IF(B562=\"\",\"\",IF(COUNTIF($B$4:$B1831,B562)=1,\"ID Único OK\",\"ID repetido\"))","v":""}]
[null,null,null,null,null,null,null,"","",{"$f":"IF(B563=\"\",\"\",IF(COUNTIF($B$4:$B1832,B563)=1,\"ID Único OK\",\"ID repetido\"))","v":""}]
[null,null,null,null,null,null,null,"","",{"$f":"IF(B564=\"\",\"\",IF(COUNTIF($B$4:$B1833,B564)=1,\"ID Único OK\",\"ID repetido\"))","v":""}]
[null,null,null,null,null,null,null,"","",{"$f":"IF(B565=\"\",\"\",IF(COUNTIF($B$4:$B1834,B565)=1,\"ID Único OK\",\"ID repetido\"))","v":""}]
[null,null,null,null,null,null,null,"","",{"$f":"IF(B566=\"\",\"\",IF(COUNTIF($B$4:$B1835,B566)=1,\"ID Único OK\",\"ID repetido\"))","v":""}]
[null,null,null,null,null,null,null,"","",{"$f":"IF(B567=\"\",\"\",IF(COUNTIF($B$4:$B1836,B567)=1,\"ID Único OK\",\"ID repetido\"))","v":""}]
[null,null,null,null,null,null,null,"","",{"$f":"IF(B568=\"\",\"\",IF(COUNTIF($B$4:$B1837,B568)=1,\"ID Único OK\",\"ID repetido\"))","v":""}]
[null,null,null,null,null,null,null,"","",{"$f":"IF(B569=\"\",\"\",IF(COUNTIF($B$4:$B1838,B569)=1,\"ID Único OK\",\"ID repetido\"))","v":""}]
[null,null,null,null,null,null,null,"","",{"$f":"IF(B570=\"\",\"\",IF(COUNTIF($B$4:$B1839,B570)=1,\"ID Único OK\",\"ID repetido\"))","v":""}]
[null,null,null,null,null,null,null,"","",{"$f":"IF(B571=\"\",\"\",IF(COUNTIF($B$4:$B1840,B571)=1,\"ID Único OK\",\"ID repetido\"))","v":""}]
[null,null,null,null,null,null,null,"","",{"$f":"IF(B572=\"\",\"\",IF(COUNTIF($B$4:$B1841,B572)=1,\"ID Único OK\",\"ID repetido\"))","v":""}]
[null,null,null,null,null,null,null,"","",{"$f":"IF(B573=\"\",\"\",IF(COUNTIF($B$4:$B1842,B573)=1,\"ID Único OK\",\"ID repetido\"))","v":""}]
[null,null,null,null,null,null,null,"","",{"$f":"IF(B574=\"\",\"\",IF(COUNTIF($B$4:$B1843,B574)=1,\"ID Único OK\",\"ID repetido\"))","v":""}]
[null,null,null,null,null,null,null,"","",{"$f":"IF(B575=\"\",\"\",IF(COUNTIF($B$4:$B1844,B575)=1,\"ID Único OK\",\"ID repetido\"))","v":""}]
[null,null,null,null,null,null,null,"","",{"$f":"IF(B576=\"\",\"\",IF(COUNTIF($B$4:$B1845,B576)=1,\"ID Único OK\",\"ID repetido\"))","v":""}]
[null,null,null,null,null,null,null,"","",{"$f":"IF(B577=\"\",\"\",IF(COUNTIF($B$4:$B1846,B577)=1,\"ID Único OK\",\"ID repetido\"))","v":""}]
[null,null,null,null,null,null,null,"","",{"$f":"IF(B578=\"\",\"\",IF(COUNTIF($B$4:$B1847,B578)=1,\"ID Único OK\",\"ID repetido\"))","v":""}]
[null,null,null,null,null,null,null,"","",{"$f":"IF(B579=\"\",\"\",IF(COUNTIF($B$4:$B1848,B579)=1,\"ID Único OK\",\"ID repetido\"))","v":""}]
[null,null,null,null,null,null,null,"","",{"$f":"IF(B580=\"\",\"\",IF(COUNTIF($B$4:$B1849,B580)=1,\"ID Único OK\",\"ID repetido\"))","v":""}]
[null,null,null,null,null,null,null,{"$f":"IF(F581=\"\",\"\",IF(B581=F581,\"Son iguales\",\"Hay error en los números de solicitud\"))","v":""},{"$f":"IF(E581=\"\",\"\",IF(E581<D581,\"Error entre fechas\",\"Fechas correctas\"))","v":""},{"$f":"IF(B581=\"\",\"\",IF(COUNTIF($B$4:$B1850,B581)=1,\"ID Único OK\",\"ID repetido\"))","v":""}]
[null,null,null,null,null,null,null,"","",{"$f":"IF(B582=\"\",\"\",IF(COUNTIF($B$4:$B1851,B582)=1,\"ID Único OK\",\"ID repetido\"))","v":""}]
[null,null,null,null,null,null,null,"","",{"$f":"IF(B583=\"\",\"\",IF(COUNTIF($B$4:$B1852,B583)=1,\"ID Único OK\",\"ID repetido\"))","v":""}]
[null,null,null,null,null,null,null,"","",{"$f":"IF(B584=\"\",\"\",IF(COUNTIF($B$4:$B1853,B584)=1,\"ID Único OK\",\"ID repetido\"))","v":""}]
[null,null,null,null,null,null,null,"","",{"$f":"IF(B585=\"\",\"\",IF(COUNTIF($B$4:$B1854,B585)=1,\"ID Único OK\",\"ID repetido\"))","v":""}]
[null,null,null,null,null,null,null,"","",{"$f":"IF(B586=\"\",\"\",IF(COUNTIF($B$4:$B1855,B586)=1,\"ID Único OK\",\"ID repetido\"))","v":""}]
[null,null,null,null,null,null,null,"","",{"$f":"IF(B587=\"\",\"\",IF(COUNTIF($B$4:$B1856,B587)=1,\"ID Único OK\",\"ID repetido\"))","v":""}]
[null,null,null,null,null,null,null,"","",{"$f":"IF(B588=\"\",\"\",IF(COUNTIF($B$4:$B1857,B588)=1,\"ID Único OK\",\"ID repetido\"))","v":""}]
[null,null,null,null,null,null,null,"","",{"$f":"IF(B589=\"\",\"\",IF(COUNTIF($B$4:$B1858,B589)=1,\"ID Único OK\",\"ID repetido\"))","v":""}]
[null,null,null,null,null,null,null,"","",{"$f":"IF(B590=\"\",\"\",IF(COUNTIF($B$4:$B1859,B590)=1,\"ID Único OK\",\"ID repetido\"))","v":""}]
[null,null,null,null,null,null,null,"","",{"$f":"IF(B591=\"\",\"\",IF(COUNTIF($B$4:$B1860,B591)=1,\"ID Único OK\",\"ID repetido\"))","v":""}]
[null,null,null,null,null,null,null,"","",{"$f":"IF(B592=\"\",\"\",IF(COUNTIF($B$4:$B1861,B592)=1,\"ID Único OK\",\"ID repetido\"))","v":""}]
[null,null,null,null,null,null,null,"","",{"$f":"IF(B593=\"\",\"\",IF(COUNTIF($B$4:$B1862,B593)=1,\"ID Único OK\",\"ID repetido\"))","v":""}]
[null,null,null,null,null,null,null,"","",{"$f":"IF(B594=\"\",\"\",IF(COUNTIF($B$4:$B1863,B594)=1,\"ID Único OK\",\"ID repetido\"))","v":""}]
[null,null,null,null,null,null,null,"","",{"$f":"IF(B595=\"\",\"\",IF(COUNTIF($B$4:$B1864,B595)=1,\"ID Único OK\",\"ID repetido\"))","v":""}]
[null,null,null,null,null,null,null,"","",{"$f":"IF(B596=\"\",\"\",IF(COUNTIF($B$4:$B1865,B596)=1,\"ID Único OK\",\"ID repetido\"))","v":""}]
[null,null,null,null,null,null,null,"","",{"$f":"IF(B597=\"\",\"\",IF(COUNTIF($B$4:$B1866,B597)=1,\"ID Único OK\",\"ID repetido\"))","v":""}]
[null,null,null,null,null,null,null,"","",{"$f":"IF(B598=\"\",\"\",IF(COUNTIF($B$4:$B1867,B598)=1,\"ID Único OK\",\"ID repetido\"))","v":""}]
[null,null,null,null,null,null,null,"","",{"$f":"IF(B599=\"\",\"\",IF(COUNTIF($B$4:$B1868,B599)=1,\"ID Único OK\",\"ID repetido\"))","v":""}]
[null,null,null,null,null,null,null,"","",{"$f":"IF(B600=\"\",\"\",IF(COUNTIF($B$4:$B1869,B600)=1,\"ID Único OK\",\"ID repetido\"))","v":""}]
[null,null,null,null,null,null,null,"","",{"$f":"IF(B601=\"\",\"\",IF(COUNTIF($B$4:$B1870,B601)=1,\"ID Único OK\",\"ID repetido\"))","v":""}]
[null,null,null,null,null,null,null,"","",{"$f":"IF(B602=\"\",\"\",IF(COUNTIF($B$4:$B1871,B602)=1,\"ID Único OK\",\"ID repetido\"))","v":""}]
[null,null,null,null,null,null,null,"","",{"$f":"IF(B603=\"\",\"\",IF(COUNTIF($B$4:$B1872,B603)=1,\"ID Único OK\",\"ID repetido\"))","v":""}]
[null,null,null,null,null,null,null,"","",{"$f":"IF(B604=\"\",\"\",IF(COUNTIF($B$4:$B1873,B604)=1,\"ID Único OK\",\"ID repetido\"))","v":""}]
[null,null,null,null,null,null,null,"","",{"$f":"IF(B605=\"\",\"\",IF(COUNTIF($B$4:$B1874,B605)=1,\"ID Único OK\",\"ID repetido\"))","v":""}]
[null,null,null,null,null,null,null,"","",{"$f":"IF(B606=\"\",\"\",IF(COUNTIF($B$4:$B1875,B606)=1,\"ID Único OK\",\"ID repetido\"))","v":""}]
[null,null,null,null,null,null,null,"","",{"$f":"IF(B607=\"\",\"\",IF(COUNTIF($B$4:$B1876,B607)=1,\"ID Único OK\",\"ID repetido\"))","v":""}]
[null,null,null,null,null,null,null,"","",{"$f":"IF(B608=\"\",\"\",IF(COUNTIF($B$4:$B1877,B608)=1,\"ID Único OK\",\"ID repetido\"))","v":""}]
[null,null,null,null,null,null,null,"","",{"$f":"IF(B609=\"\",\"\",IF(COUNTIF($B$4:$B1878,B609)=1,\"ID Único OK\",\"ID repetido\"))","v":""}]
[null,null,null,null,null,null,null,"","",{"$f":"IF(B610=\"\",\"\",IF(COUNTIF($B$4:$B1879,B610)=1,\"ID Único OK\",\"ID repetido\"))","v":""}]
[null,null,null,null,null,null,null,"","",{"$f":"IF(B611=\"\",\"\",IF(COUNTIF($B$4:$B1880,B611)=1,\"ID Único OK\",\"ID repetido\"))","v":""}]
[null,null,null,null,null,null,null,"","",{"$f":"IF(B612=\"\",\"\",IF(COUNTIF($B$4:$B1881,B612)=1,\"ID Único OK\",\"ID repetido\"))","v":""}]
[null,null,null,null,null,null,null,"","",{"$f":"IF(B613=\"\",\"\",IF(COUNTIF($B$4:$B1882,B613)=1,\"ID Único OK\",\"ID repetido\"))","v":""}]
[null,null,null,null,null,null,null,"","",{"$f":"IF(B614=\"\",\"\",IF(COUNTIF($B$4:$B1883,B614)=1,\"ID Único OK\",\"ID repetido\"))","v":""}]
[null,null,null,null,null,null,null,"","",{"$f":"IF(B615=\"\",\"\",IF(COUNTIF($B$4:$B1884,B615)=1,\"ID Único OK\",\"ID repetido\"))","v":""}]
[null,null,null,null,null,null,null,"","",{"$f":"IF(B616=\"\",\"\",IF(COUNTIF($B$4:$B1885,B616)=1,\"ID Único OK\",\"ID repetido\"))","v":""}]
[null,null,null,null,null,null,null,"","",{"$f":"IF(B617=\"\",\"\",IF(COUNTIF($B$4:$B1886,B617)=1,\"ID Único OK\",\"ID repetido\"))","v":""}]
[null,null,null,null,null,null,null,"","",{"$f":"IF(B618=\"\",\"\",IF(COUNTIF($B$4:$B1887,B618)=1,\"ID Único OK\",\"ID repetido\"))","v":""}]
[null,null,null,null,null,null,null,"","",{"$f":"IF(B619=\"\",\"\",IF(COUNTIF($B$4:$B1888,B619)=1,\"ID Único OK\",\"ID repetido\"))","v":""}]
[null,null,null,null,null,null,null,"","",{"$f":"IF(B620=\"\",\"\",IF(COUNTIF($B$4:$B1889,B620)=1,\"ID Único OK\",\"ID repetido\"))","v":""}]
[null,null,null,null,null,null,null,"","",{"$f":"IF(B621=\"\",\"\",IF(COUNTIF($B$4:$B1890,B621)=1,\"ID Único OK\",\"ID repetido\"))","v":""}]
[null,null,null,null,null,null,null,"","",{"$f":"IF(B622=\"\",\"\",IF(COUNTIF($B$4:$B1891,B622)=1,\"ID Único OK\",\"ID repetido\"))","v":""}]
[null,null,null,null,null,null,null,"","",{"$f":"IF(B623=\"\",\"\",IF(COUNTIF($B$4:$B1892,B623)=1,\"ID Único OK\",\"ID repetido\"))","v":""}]
[null,null,null,null,null,null,null,"","",{"$f":"IF(B624=\"\",\"\",IF(COUNTIF($B$4:$B1893,B624)=1,\"ID Único OK\",\"ID repetido\"))","v":""}]
[null,null,null,null,null,null,null,"","",{"$f":"IF(B625=\"\",\"\",IF(COUNTIF($B$4:$B1894,B625)=1,\"ID Único OK\",\"ID repetido\"))","v":""}]
[null,null,null,null,null,null,null,"","",{"$f":"IF(B626=\"\",\"\",IF(COUNTIF($B$4:$B1895,B626)=1,\"ID Único OK\",\"ID repetido\"))","v":""}]
[null,null,null,null,null,null,null,"","",{"$f":"IF(B627=\"\",\"\",IF(COUNTIF($B$4:$B1896,B627)=1,\"ID Único OK\",\"ID repetido\"))","v":""}]
[null,null,null,null,null,null,null,"","",{"$f":"IF(B628=\"\",\"\",IF(COUNTIF($B$4:$B1897,B628)=1,\"ID Único OK\",\"ID repetido\"))","v":""}]
[null,null,null,null,null,null,null,"","",{"$f":"IF(B629=\"\",\"\",IF(COUNTIF($B$4:$B1898,B629)=1,\"ID Único OK\",\"ID repetido\"))","v":""}]
[null,null,null,null,null,null,null,"","",{"$f":"IF(B630=\"\",\"\",IF(COUNTIF($B$4:$B1899,B630)=1,\"ID Único OK\",\"ID repetido\"))","v":""}]
[null,null,null,null,null,null,null,"","",{"$f":"IF(B631=\"\",\"\",IF(COUNTIF($B$4:$B1900,B631)=1,\"ID Único OK\",\"ID repetido\"))","v":""}]
[null,null,null,null,null,null,null,"","",{"$f":"IF(B632=\"\",\"\",IF(COUNTIF($B$4:$B1901,B632)=1,\"ID Único OK\",\"ID repetido\"))","v":""}]
[null,null,null,null,null,null,null,"","",{"$f":"IF(B633=\"\",\"\",IF(COUNTIF($B$4:$B1902,B633)=1,\"ID Único OK\",\"ID repetido\"))","v":""}]
[null,null,null,null,null,null,null,"","",{"$f":"IF(B634=\"\",\"\",IF(COUNTIF($B$4:$B1903,B634)=1,\"ID Único OK\",\"ID repetido\"))","v":""}]
[null,null,null,null,null,null,null,"","",{"$f":"IF(B635=\"\",\"\",IF(COUNTIF($B$4:$B1904,B635)=1,\"ID Único OK\",\"ID repetido\"))","v":""}]
[null,null,null,null,null,null,null,"","",{"$f":"IF(B636=\"\",\"\",IF(COUNTIF($B$4:$B1905,B636)=1,\"ID Único OK\",\"ID repetido\"))","v":""}]
[null,null,null,null,null,null,null,"","",{"$f":"IF(B637=\"\",\"\",IF(COUNTIF($B$4:$B1906,B637)=1,\"ID Único OK\",\"ID repetido\"))","v":""}]
[null,null,null,null,null,null,null,"","",{"$f":"IF(B638=\"\",\"\",IF(COUNTIF($B$4:$B1907,B638)=1,\"ID Único OK\",\"ID repetido\"))","v":""}]
[null,null,null,null,null,null,null,"","",{"$f":"IF(B639=\"\",\"\",IF(COUNTIF($B$4:$B1908,B639)=1,\"ID Único OK\",\"ID repetido\"))","v":""}]
[null,null,null,null,null,null,null,"","",{"$f":"IF(B640=\"\",\"\",IF(COUNTIF($B$4:$B1909,B640)=1,\"ID Único OK\",\"ID repetido\"))","v":""}]
[null,null,null,null,null,null,null,"","",{"$f":"IF(B641=\"\",\"\",IF(COUNTIF($B$4:$B1910,B641)=1,\"ID Único OK\",\"ID repetido\"))","v":""}]
[null,null,null,null,null,null,null,"","",{"$f":"IF(B642=\"\",\"\",IF(COUNTIF($B$4:$B1911,B642)=1,\"ID Único OK\",\"ID repetido\"))","v":""}]
[null,null,null,null,null,null,null,"","",{"$f":"IF(B643=\"\",\"\",IF(COUNTIF($B$4:$B1912,B643)=1,\"ID Único OK\",\"ID repetido\"))","v":""}]
[null,null,null,null,null,null,null,"","",{"$f":"IF(B644=\"\",\"\",IF(COUNTIF($B$4:$B1913,B644)=1,\"ID Único OK\",\"ID repetido\"))","v":""}]
[null,null,null,null,null,null,null,{"$f":"IF(F645=\"\",\"\",IF(B645=F645,\"Son iguales\",\"Hay error en los números de solicitud\"))","v":""},{"$f":"IF(E645=\"\",\"\",IF(E645<D645,\"Error entre fechas\",\"Fechas correctas\"))","v":""},{"$f":"IF(B645=\"\",\"\",IF(COUNTIF($B$4:$B1914,B645)=1,\"ID Único OK\",\"ID repetido\"))","v":""}]
[null,null,null,null,null,null,null,"","",{"$f":"IF(B646=\"\",\"\",IF(COUNTIF($B$4:$B1915,B646)=1,\"ID Único OK\",\"ID repetido\"))","v":""}]
[null,null,null,null,null,null,null,"","",{"$f":"IF(B647=\"\",\"\",IF(COUNTIF($B$4:$B1916,B647)=1,\"ID Único OK\",\"ID repetido\"))","v":""}]
[null,null,null,null,null,null,null,"","",{"$f":"IF(B648=\"\",\"\",IF(COUNTIF($B$4:$B1917,B648)=1,\"ID Único OK\",\"ID repetido\"))","v":""}]
[null,null,null,null,null,null,null,"","",{"$f":"IF(B649=\"\",\"\",IF(COUNTIF($B$4:$B1918,B649)=1,\"ID Único OK\",\"ID repetido\"))","v":""}]
[null,null,null,null,null,null,null,"","",{"$f":"IF(B650=\"\",\"\",IF(COUNTIF($B$4:$B1919,B650)=1,\"ID Único OK\",\"ID repetido\"))","v":""}]
[null,null,null,null,null,null,null,"","",{"$f":"IF(B651=\"\",\"\",IF(COUNTIF($B$4:$B1920,B651)=1,\"ID Único OK\",\"ID repetido\"))","v":""}]
[null,null,null,null,null,null,null,"","",{"$f":"IF(B652=\"\",\"\",IF(COUNTIF($B$4:$B1921,B652)=1,\"ID Único OK\",\"ID repetido\"))","v":""}]
[null,null,null,null,null,null,null,"","",{"$f":"IF(B653=\"\",\"\",IF(COUNTIF($B$4:$B1922,B653)=1,\"ID Único OK\",\"ID repetido\"))","v":""}]
[null,null,null,null,null,null,null,"","",{"$f":"IF(B654=\"\",\"\",IF(COUNTIF($B$4:$B1923,B654)=1,\"ID Único OK\",\"ID repetido\"))","v":""}]
[null,null,null,null,null,null,null,"","",{"$f":"IF(B655=\"\",\"\",IF(COUNTIF($B$4:$B1924,B655)=1,\"ID Único OK\",\"ID repetido\"))","v":""}]
[null,null,null,null,null,null,null,"","",{"$f":"IF(B656=\"\",\"\",IF(COUNTIF($B$4:$B1925,B656)=1,\"ID Único OK\",\"ID repetido\"))","v":""}]
[null,null,null,null,null,null,null,"","",{"$f":"IF(B657=\"\",\"\",IF(COUNTIF($B$4:$B1926,B657)=1,\"ID Único OK\",\"ID repetido\"))","v":""}]
[null,null,null,null,null,null,null,"","",{"$f":"IF(B658=\"\",\"\",IF(COUNTIF($B$4:$B1927,B658)=1,\"ID Único OK\",\"ID repetido\"))","v":""}]
[null,null,null,null,null,null,null,"","",{"$f":"IF(B659=\"\",\"\",IF(COUNTIF($B$4:$B1928,B659)=1,\"ID Único OK\",\"ID repetido\"))","v":""}]
[null,null,null,null,null,null,null,"","",{"$f":"IF(B660=\"\",\"\",IF(COUNTIF($B$4:$B1929,B660)=1,\"ID Único OK\",\"ID repetido\"))","v":""}]
[null,null,null,null,null,null,null,"","",{"$f":"IF(B661=\"\",\"\",IF(COUNTIF($B$4:$B1930,B661)=1,\"ID Único OK\",\"ID repetido\"))","v":""}]
[null,null,null,null,null,null,null,"","",{"$f":"IF(B662=\"\",\"\",IF(COUNTIF($B$4:$B1931,B662)=1,\"ID Único OK\",\"ID repetido\"))","v":""}]
[null,null,null,null,null,null,null,"","",{"$f":"IF(B663=\"\",\"\",IF(COUNTIF($B$4:$B1932,B663)=1,\"ID Único OK\",\"ID repetido\"))","v":""}]
[null,null,null,null,null,null,null,"","",{"$f":"IF(B664=\"\",\"\",IF(COUNTIF($B$4:$B1933,B664)=1,\"ID Único OK\",\"ID repetido\"))","v":""}]
[null,null,null,null,null,null,null,"","",{"$f":"IF(B665=\"\",\"\",IF(COUNTIF($B$4:$B1934,B665)=1,\"ID Único OK\",\"ID repetido\"))","v":""}]
[null,null,null,null,null,null,null,"","",{"$f":"IF(B666=\"\",\"\",IF(COUNTIF($B$4:$B1935,B666)=1,\"ID Único OK\",\"ID repetido\"))","v":""}]
[null,null,null,null,null,null,null,"","",{"$f":"IF(B667=\"\",\"\",IF(COUNTIF($B$4:$B1936,B667)=1,\"ID Único OK\",\"ID repetido\"))","v":""}]
[null,null,null,null,null,null,null,"","",{"$f":"IF(B668=\"\",\"\",IF(COUNTIF($B$4:$B1937,B668)=1,\"ID Único OK\",\"ID repetido\"))","v":""}]
[null,null,null,null,null,null,null,"","",{"$f":"IF(B669=\"\",\"\",IF(COUNTIF($B$4:$B1938,B669)=1,\"ID Único OK\",\"ID repetido\"))","v":""}]
[null,null,null,null,null,null,null,"","",{"$f":"IF(B670=\"\",\"\",IF(COUNTIF($B$4:$B1939,B670)=1,\"ID Único OK\",\"ID repetido\"))","v":""}]
[null,null,null,null,null,null,null,"","",{"$f":"IF(B671=\"\",\"\",IF(COUNTIF($B$4:$B1940,B671)=1,\"ID Único OK\",\"ID repetido\"))","v":""}]
[null,null,null,null,null,null,null,"","",{"$f":"IF(B672=\"\",\"\",IF(COUNTIF($B$4:$B1941,B672)=1,\"ID Único OK\",\"ID repetido\"))","v":""}]
[null,null,null,null,null,null,null,"","",{"$f":"IF(B673=\"\",\"\",IF(COUNTIF($B$4:$B1942,B673)=1,\"ID Único OK\",\"ID repetido\"))","v":""}]
[null,null,null,null,null,null,null,"","",{"$f":"IF(B674=\"\",\"\",IF(COUNTIF($B$4:$B1943,B674)=1,\"ID Único OK\",\"ID repetido\"))","v":""}]
[null,null,null,null,null,null,null,"","",{"$f":"IF(B675=\"\",\"\",IF(COUNTIF($B$4:$B1944,B675)=1,\"ID Único OK\",\"ID repetido\"))","v":""}]
[null,null,null,null,null,null,null,"","",{"$f":"IF(B676=\"\",\"\",IF(COUNTIF($B$4:$B1945,B676)=1,\"ID Único OK\",\"ID repetido\"))","v":""}]
[null,null,null,null,null,null,null,"","",{"$f":"IF(B677=\"\",\"\",IF(COUNTIF($B$4:$B1946,B677)=1,\"ID Único OK\",\"ID repetido\"))","v":""}]
[null,null,null,null,null,null,null,"","",{"$f":"IF(B678=\"\",\"\",IF(COUNTIF($B$4:$B1947,B678)=1,\"ID Único OK\",\"ID repetido\"))","v":""}]
[null,null,null,null,null,null,null,"","",{"$f":"IF(B679=\"\",\"\",IF(COUNTIF($B$4:$B1948,B679)=1,\"ID Único OK\",\"ID repetido\"))","v":""}]
[null,null,null,null,null,null,null,"","",{"$f":"IF(B680=\"\",\"\",IF(COUNTIF($B$4:$B1949,B680)=1,\"ID Único OK\",\"ID repetido\"))","v":""}]
[null,null,null,null,null,null,null,"","",{"$f":"IF(B681=\"\",\"\",IF(COUNTIF($B$4:$B1950,B681)=1,\"ID Único OK\",\"ID repetido\"))","v":""}]
[null,null,null,null,null,null,null,"","",{"$f":"IF(B682=\"\",\"\",IF(COUNTIF($B$4:$B1951,B682)=1,\"ID Único OK\",\"ID repetido\"))","v":""}]
[null,null,null,null,null,null,null,"","",{"$f":"IF(B683=\"\",\"\",IF(COUNTIF($B$4:$B1952,B683)=1,\"ID Único OK\",\"ID repetido\"))","v":""}]
[null,null,null,null,null,null,null,"","",{"$f":"IF(B684=\"\",\"\",IF(COUNTIF($B$4:$B1953,B684)=1,\"ID Único OK\",\"ID repetido\"))","v":""}]
[null,null,null,null,null,null,null,"","",{"$f":"IF(B685=\"\",\"\",IF(COUNTIF($B$4:$B1954,B685)=1,\"ID Único OK\",\"ID repetido\"))","v":""}]
[null,null,null,null,null,null,null,"","",{"$f":"IF(B686=\"\",\"\",IF(COUNTIF($B$4:$B1955,B686)=1,\"ID Único OK\",\"ID repetido\"))","v":""}]
[null,null,null,null,null,null,null,"","",{"$f":"IF(B687=\"\",\"\",IF(COUNTIF($B$4:$B1956,B687)=1,\"ID Único OK\",\"ID repetido\"))","v":""}]
[null,null,null,null,null,null,null,"","",{"$f":"IF(B688=\"\",\"\",IF(COUNTIF($B$4:$B1957,B688)=1,\"ID Único OK\",\"ID repetido\"))","v":""}]
[null,null,null,null,null,null,null,"","",{"$f":"IF(B689=\"\",\"\",IF(COUNTIF($B$4:$B1958,B689)=1,\"ID Único OK\",\"ID repetido\"))","v":""}]
[null,null,null,null,null,null,null,"","",{"$f":"IF(B690=\"\",\"\",IF(COUNTIF($B$4:$B1959,B690)=1,\"ID Único OK\",\"ID repetido\"))","v":""}]
[null,null,null,null,null,null,null,"","",{"$f":"IF(B691=\"\",\"\",IF(COUNTIF($B$4:$B1960,B691)=1,\"ID Único OK\",\"ID repetido\"))","v":""}]
[null,null,null,null,null,null,null,"","",{"$f":"IF(B692=\"\",\"\",IF(COUNTIF($B$4:$B1961,B692)=1,\"ID Único OK\",\"ID repetido\"))","v":""}]
[null,null,null,null,null,null,null,"","",{"$f":"IF(B693=\"\",\"\",IF(COUNTIF($B$4:$B1962,B693)=1,\"ID Único OK\",\"ID repetido\"))","v":""}]
[null,null,null,null,null,null,null,"","",{"$f":"IF(B694=\"\",\"\",IF(COUNTIF($B$4:$B1963,B694)=1,\"ID Único OK\",\"ID repetido\"))","v":""}]
[null,null,null,null,null,null,null,"","",{"$f":"IF(B695=\"\",\"\",IF(COUNTIF($B$4:$B1964,B695)=1,\"ID Único OK\",\"ID repetido\"))","v":""}]
[null,null,null,null,null,null,null,"","",{"$f":"IF(B696=\"\",\"\",IF(COUNTIF($B$4:$B1965,B696)=1,\"ID Único OK\",\"ID repetido\"))","v":""}]
[null,null,null,null,null,null,null,"","",{"$f":"IF(B697=\"\",\"\",IF(COUNTIF($B$4:$B1966,B697)=1,\"ID Único OK\",\"ID repetido\"))","v":""}]
[null,null,null,null,null,null,null,"","",{"$f":"IF(B698=\"\",\"\",IF(COUNTIF($B$4:$B1967,B698)=1,\"ID Único OK\",\"ID repetido\"))","v":""}]
[null,null,null,null,null,null,null,"","",{"$f":"IF(B699=\"\",\"\",IF(COUNTIF($B$4:$B1968,B699)=1,\"ID Único OK\",\"ID repetido\"))","v":""}]
[null,null,null,null,null,null,null,"","",{"$f":"IF(B700=\"\",\"\",IF(COUNTIF($B$4:$B1969,B700)=1,\"ID Único OK\",\"ID repetido\"))","v":""}]
[null,null,null,null,null,null,null,"","",{"$f":"IF(B701=\"\",\"\",IF(COUNTIF($B$4:$B1970,B701)=1,\"ID Único OK\",\"ID repetido\"))","v":""}]
[null,null,null,null,null,null,null,"","",{"$f":"IF(B702=\"\",\"\",IF(COUNTIF($B$4:$B1971,B702)=1,\"ID Único OK\",\"ID repetido\"))","v":""}]
[null,null,null,null,null,null,null,"","",{"$f":"IF(B703=\"\",\"\",IF(COUNTIF($B$4:$B1972,B703)=1,\"ID Único OK\",\"ID repetido\"))","v":""}]
[null,null,null,null,null,null,null,"","",{"$f":"IF(B704=\"\",\"\",IF(COUNTIF($B$4:$B1973,B704)=1,\"ID Único OK\",\"ID repetido\"))","v":""}]
[null,null,null,null,null,null,null,"","",{"$f":"IF(B705=\"\",\"\",IF(COUNTIF($B$4:$B1974,B705)=1,\"ID Único OK\",\"ID repetido\"))","v":""}]
[null,null,null,null,null,null,null,"","",{"$f":"IF(B706=\"\",\"\",IF(COUNTIF($B$4:$B1975,B706)=1,\"ID Único OK\",\"ID repetido\"))","v":""}]
[null,null,null,null,null,null,null,"","",{"$f":"IF(B707=\"\",\"\",IF(COUNTIF($B$4:$B1976,B707)=1,\"ID Único OK\",\"ID repetido\"))","v":""}]
[null,null,null,null,null,null,null,"","",{"$f":"IF(B708=\"\",\"\",IF(COUNTIF($B$4:$B1977,B708)=1,\"ID Único OK\",\"ID repetido\"))","v":""}]
[null,null,null,null,null,null,null,{"$f":"IF(F709=\"\",\"\",IF(B709=F709,\"Son iguales\",\"Hay error en los números de solicitud\"))","v":""},{"$f":"IF(E709=\"\",\"\",IF(E709<D709,\"Error entre fechas\",\"Fechas correctas\"))","v":""},{"$f":"IF(B709=\"\",\"\",IF(COUNTIF($B$4:$B1978,B709)=1,\"ID Único OK\",\"ID repetido\"))","v":""}]
[null,null,null,null,null,null,null,"","",{"$f":"IF(B710=\"\",\"\",IF(COUNTIF($B$4:$B1979,B710)=1,\"ID Único OK\",\"ID repetido\"))","v":""}]
[null,null,null,null,null,null,null,"","",{"$f":"IF(B711=\"\",\"\",IF(COUNTIF($B$4:$B1980,B711)=1,\"ID Único OK\",\"ID repetido\"))","v":""}]
[null,null,null,null,null,null,null,"","",{"$f":"IF(B712=\"\",\"\",IF(COUNTIF($B$4:$B1981,B712)=1,\"ID Único OK\",\"ID repetido\"))","v":""}]
[null,null,null,null,null,null,null,"","",{"$f":"IF(B713=\"\",\"\",IF(COUNTIF($B$4:$B1982,B713)=1,\"ID Único OK\",\"ID repetido\"))","v":""}]
[null,null,null,null,null,null,null,"","",{"$f":"IF(B714=\"\",\"\",IF(COUNTIF($B$4:$B1983,B714)=1,\"ID Único OK\",\"ID repetido\"))","v":""}]
[null,null,null,null,null,null,null,"","",{"$f":"IF(B715=\"\",\"\",IF(COUNTIF($B$4:$B1984,B715)=1,\"ID Único OK\",\"ID repetido\"))","v":""}]
[null,null,null,null,null,null,null,"","",{"$f":"IF(B716=\"\",\"\",IF(COUNTIF($B$4:$B1985,B716)=1,\"ID Único OK\",\"ID repetido\"))","v":""}]
[null,null,null,null,null,null,null,"","",{"$f":"IF(B717=\"\",\"\",IF(COUNTIF($B$4:$B1986,B717)=1,\"ID Único OK\",\"ID repetido\"))","v":""}]
[null,null,null,null,null,null,null,"","",{"$f":"IF(B718=\"\",\"\",IF(COUNTIF($B$4:$B1987,B718)=1,\"ID Único OK\",\"ID repetido\"))","v":""}]
[null,null,null,null,null,null,null,"","",{"$f":"IF(B719=\"\",\"\",IF(COUNTIF($B$4:$B1988,B719)=1,\"ID Único OK\",\"ID repetido\"))","v":""}]
[null,null,null,null,null,null,null,"","",{"$f":"IF(B720=\"\",\"\",IF(COUNTIF($B$4:$B1989,B720)=1,\"ID Único OK\",\"ID repetido\"))","v":""}]
[null,null,null,null,null,null,null,"","",{"$f":"IF(B721=\"\",\"\",IF(COUNTIF($B$4:$B1990,B721)=1,\"ID Único OK\",\"ID repetido\"))","v":""}]
[null,null,null,null,null,null,null,"","",{"$f":"IF(B722=\"\",\"\",IF(COUNTIF($B$4:$B1991,B722)=1,\"ID Único OK\",\"ID repetido\"))","v":""}]
[null,null,null,null,null,null,null,"","",{"$f":"IF(B723=\"\",\"\",IF(COUNTIF($B$4:$B1992,B723)=1,\"ID Único OK\",\"ID repetido\"))","v":""}]
[null,null,null,null,null,null,null,"","",{"$f":"IF(B724=\"\",\"\",IF(COUNTIF($B$4:$B1993,B724)=1,\"ID Único OK\",\"ID repetido\"))","v":""}]
[null,null,null,null,null,null,null,"","",{"$f":"IF(B725=\"\",\"\",IF(COUNTIF($B$4:$B1994,B725)=1,\"ID Único OK\",\"ID repetido\"))","v":""}]
[null,null,null,null,null,null,null,"","",{"$f":"IF(B726=\"\",\"\",IF(COUNTIF($B$4:$B1995,B726)=1,\"ID Único OK\",\"ID repetido\"))","v":""}]
[null,null,null,null,null,null,null,"","",{"$f":"IF(B727=\"\",\"\",IF(COUNTIF($B$4:$B1996,B727)=1,\"ID Único OK\",\"ID repetido\"))","v":""}]
[null,null,null,null,null,null,null,"","",{"$f":"IF(B728=\"\",\"\",IF(COUNTIF($B$4:$B1997,B728)=1,\"ID Único OK\",\"ID repetido\"))","v":""}]
[null,null,null,null,null,null,null,"","",{"$f":"IF(B729=\"\",\"\",IF(COUNTIF($B$4:$B1998,B729)=1,\"ID Único OK\",\"ID repetido\"))","v":""}]
[null,null,null,null,null,null,null,"","",{"$f":"IF(B730=\"\",\"\",IF(COUNTIF($B$4:$B1999,B730)=1,\"ID Único OK\",\"ID repetido\"))","v":""}]
[null,null,null,null,null,null,null,"","",{"$f":"IF(B731=\"\",\"\",IF(COUNTIF($B$4:$B2000,B731)=1,\"ID Único OK\",\"ID repetido\"))","v":""}]
[null,null,null,null,null,null,null,"","",{"$f":"IF(B732=\"\",\"\",IF(COUNTIF($B$4:$B2001,B732)=1,\"ID Único OK\",\"ID repetido\"))","v":""}]
[null,null,null,null,null,null,null,"","",{"$f":"IF(B733=\"\",\"\",IF(COUNTIF($B$4:$B2002,B733)=1,\"ID Único OK\",\"ID repetido\"))","v":""}]
[null,null,null,null,null,null,null,"","",{"$f":"IF(B734=\"\",\"\",IF(COUNTIF($B$4:$B2003,B734)=1,\"ID Único OK\",\"ID repetido\"))","v":""}]
[null,null,null,null,null,null,null,"","",{"$f":"IF(B735=\"\",\"\",IF(COUNTIF($B$4:$B2004,B735)=1,\"ID Único OK\",\"ID repetido\"))","v":""}]
[null,null,null,null,null,null,null,"","",{"$f":"IF(B736=\"\",\"\",IF(COUNTIF($B$4:$B2005,B736)=1,\"ID Único OK\",\"ID repetido\"))","v":""}]
[null,null,null,null,null,null,null,"","",{"$f":"IF(B737=\"\",\"\",IF(COUNTIF($B$4:$B2006,B737)=1,\"ID Único OK\",\"ID repetido\"))","v":""}]
[null,null,null,null,null,null,null,"","",{"$f":"IF(B738=\"\",\"\",IF(COUNTIF($B$4:$B2007,B738)=1,\"ID Único OK\",\"ID repetido\"))","v":""}]
[null,null,null,null,null,null,null,"","",{"$f":"IF(B739=\"\",\"\",IF(COUNTIF($B$4:$B2008,B739)=1,\"ID Único OK\",\"ID repetido\"))","v":""}]
[null,null,null,null,null,null,null,"","",{"$f":"IF(B740=\"\",\"\",IF(COUNTIF($B$4:$B2009,B740)=1,\"ID Único OK\",\"ID repetido\"))","v":""}]
[null,null,null,null,null,null,null,"","",{"$f":"IF(B741=\"\",\"\",IF(COUNTIF($B$4:$B2010,B741)=1,\"ID Único OK\",\"ID repetido\"))","v":""}]
[null,null,null,null,null,null,null,"","",{"$f":"IF(B742=\"\",\"\",IF(COUNTIF($B$4:$B2011,B742)=1,\"ID Único OK\",\"ID repetido\"))","v":""}]
[null,null,null,null,null,null,null,"","",{"$f":"IF(B743=\"\",\"\",IF(COUNTIF($B$4:$B2012,B743)=1,\"ID Único OK\",\"ID repetido\"))","v":""}]
[null,null,null,null,null,null,null,"","",{"$f":"IF(B744=\"\",\"\",IF(COUNTIF($B$4:$B2013,B744)=1,\"ID Único OK\",\"ID repetido\"))","v":""}]
[null,null,null,null,null,null,null,"","",{"$f":"IF(B745=\"\",\"\",IF(COUNTIF($B$4:$B2014,B745)=1,\"ID Único OK\",\"ID repetido\"))","v":""}]
[null,null,null,null,null,null,null,"","",{"$f":"IF(B746=\"\",\"\",IF(COUNTIF($B$4:$B2015,B746)=1,\"ID Único OK\",\"ID repetido\"))","v":""}]
[null,null,null,null,null,null,null,"","",{"$f":"IF(B747=\"\",\"\",IF(COUNTIF($B$4:$B2016,B747)=1,\"ID Único OK\",\"ID repetido\"))","v":""}]
[null,null,null,null,null,null,null,"","",{"$f":"IF(B748=\"\",\"\",IF(COUNTIF($B$4:$B2017,B748)=1,\"ID Único OK\",\"ID repetido\"))","v":""}]
[null,null,null,null,null,null,null,"","",{"$f":"IF(B749=\"\",\"\",IF(COUNTIF($B$4:$B2018,B749)=1,\"ID Único OK\",\"ID repetido\"))","v":""}]
[null,null,null,null,null,null,null,"","",{"$f":"IF(B750=\"\",\"\",IF(COUNTIF($B$4:$B2019,B750)=1,\"ID Único OK\",\"ID repetido\"))","v":""}]
[null,null,null,null,null,null,null,"","",{"$f":"IF(B751=\"\",\"\",IF(COUNTIF($B$4:$B2020,B751)=1,\"ID Único OK\",\"ID repetido\"))","v":""}]
[null,null,null,null,null,null,null,"","",{"$f":"IF(B752=\"\",\"\",IF(COUNTIF($B$4:$B2021,B752)=1,\"ID Único OK\",\"ID repetido\"))","v":""}]
[null,null,null,null,null,null,null,"","",{"$f":"IF(B753=\"\",\"\",IF(COUNTIF($B$4:$B2022,B753)=1,\"ID Único OK\",\"ID repetido\"))","v":""}]
[null,null,null,null,null,null,null,"","",{"$f":"IF(B754=\"\",\"\",IF(COUNTIF($B$4:$B2023,B754)=1,\"ID Único OK\",\"ID repetido\"))","v":""}]
[null,null,null,null,null,null,null,"","",{"$f":"IF(B755=\"\",\"\",IF(COUNTIF($B$4:$B2024,B755)=1,\"ID Único OK\",\"ID repetido\"))","v":""}]
[null,null,null,null,null,null,null,"","",{"$f":"IF(B756=\"\",\"\",IF(COUNTIF($B$4:$B2025,B756)=1,\"ID Único OK\",\"ID repetido\"))","v":""}]
[null,null,null,null,null,null,null,"","",{"$f":"IF(B757=\"\",\"\",IF(COUNTIF($B$4:$B2026,B757)=1,\"ID Único OK\",\"ID repetido\"))","v":""}]
[null,null,null,null,null,null,null,"","",{"$f":"IF(B758=\"\",\"\",IF(COUNTIF($B$4:$B2027,B758)=1,\"ID Único OK\",\"ID repetido\"))","v":""}]
[null,null,null,null,null,null,null,"","",{"$f":"IF(B759=\"\",\"\",IF(COUNTIF($B$4:$B2028,B759)=1,\"ID Único OK\",\"ID repetido\"))","v":""}]
[null,null,null,null,null,null,null,"","",{"$f":"IF(B760=\"\",\"\",IF(COUNTIF($B$4:$B2029,B760)=1,\"ID Único OK\",\"ID repetido\"))","v":""}]
[null,null,null,null,null,null,null,"","",{"$f":"IF(B761=\"\",\"\",IF(COUNTIF($B$4:$B2030,B761)=1,\"ID Único OK\",\"ID repetido\"))","v":""}]
[null,null,null,null,null,null,null,"","",{"$f":"IF(B762=\"\",\"\",IF(COUNTIF($B$4:$B2031,B762)=1,\"ID Único OK\",\"ID repetido\"))","v":""}]
[null,null,null,null,null,null,null,"","",{"$f":"IF(B763=\"\",\"\",IF(COUNTIF($B$4:$B2032,B763)=1,\"ID Único OK\",\"ID repetido\"))","v":""}]
[null,null,null,null,null,null,null,"","",{"$f":"IF(B764=\"\",\"\",IF(COUNTIF($B$4:$B2033,B764)=1,\"ID Único OK\",\"ID repetido\"))","v":""}]
[null,null,null,null,null,null,null,"","",{"$f":"IF(B765=\"\",\"\",IF(COUNTIF($B$4:$B2034,B765)=1,\"ID Único OK\",\"ID repetido\"))","v":""}]
[null,null,null,null,null,null,null,"","",{"$f":"IF(B766=\"\",\"\",IF(COUNTIF($B$4:$B2035,B766)=1,\"ID Único OK\",\"ID repetido\"))","v":""}]
[null,null,null,null,null,null,null,"","",{"$f":"IF(B767=\"\",\"\",IF(COUNTIF($B$4:$B2036,B767)=1,\"ID Único OK\",\"ID repetido\"))","v":""}]
[null,null,null,null,null,null,null,"","",{"$f":"IF(B768=\"\",\"\",IF(COUNTIF($B$4:$B2037,B768)=1,\"ID Único OK\",\"ID repetido\"))","v":""}]
[null,null,null,null,null,null,null,"","",{"$f":"IF(B769=\"\",\"\",IF(COUNTIF($B$4:$B2038,B769)=1,\"ID Único OK\",\"ID repetido\"))","v":""}]
[null,null,null,null,null,null,null,"","",{"$f":"IF(B770=\"\",\"\",IF(COUNTIF($B$4:$B2039,B770)=1,\"ID Único OK\",\"ID repetido\"))","v":""}]
[null,null,null,null,null,null,null,"","",{"$f":"IF(B771=\"\",\"\",IF(COUNTIF($B$4:$B2040,B771)=1,\"ID Único OK\",\"ID repetido\"))","v":""}]
[null,null,null,null,null,null,null,"","",{"$f":"IF(B772=\"\",\"\",IF(COUNTIF($B$4:$B2041,B772)=1,\"ID Único OK\",\"ID repetido\"))","v":""}]
[null,null,null,null,null,null,null,{"$f":"IF(F773=\"\",\"\",IF(B773=F773,\"Son iguales\",\"Hay error en los números de solicitud\"))","v":""},{"$f":"IF(E773=\"\",\"\",IF(E773<D773,\"Error entre fechas\",\"Fechas correctas\"))","v":""},{"$f":"IF(B773=\"\",\"\",IF(COUNTIF($B$4:$B2042,B773)=1,\"ID Único OK\",\"ID repetido\"))","v":""}]
[null,null,null,null,null,null,null,"","",{"$f":"IF(B774=\"\",\"\",IF(COUNTIF($B$4:$B2043,B774)=1,\"ID Único OK\",\"ID repetido\"))","v":""}]
[null,null,null,null,null,null,null,"","",{"$f":"IF(B775=\"\",\"\",IF(COUNTIF($B$4:$B2044,B775)=1,\"ID Único OK\",\"ID repetido\"))","v":""}]
[null,null,null,null,null,null,null,"","",{"$f":"IF(B776=\"\",\"\",IF(COUNTIF($B$4:$B2045,B776)=1,\"ID Único OK\",\"ID repetido\"))","v":""}]
[null,null,null,null,null,null,null,"","",{"$f":"IF(B777=\"\",\"\",IF(COUNTIF($B$4:$B2046,B777)=1,\"ID Único OK\",\"ID repetido\"))","v":""}]
[null,null,null,null,null,null,null,"","",{"$f":"IF(B778=\"\",\"\",IF(COUNTIF($B$4:$B2047,B778)=1,\"ID Único OK\",\"ID repetido\"))","v":""}]
[null,null,null,null,null,null,null,"","",{"$f":"IF(B779=\"\",\"\",IF(COUNTIF($B$4:$B2048,B779)=1,\"ID Único OK\",\"ID repetido\"))","v":""}]
[null,null,null,null,null,null,null,"","",{"$f":"IF(B780=\"\",\"\",IF(COUNTIF($B$4:$B2049,B780)=1,\"ID Único OK\",\"ID repetido\"))","v":""}]
[null,null,null,null,null,null,null,"","",{"$f":"IF(B781=\"\",\"\",IF(COUNTIF($B$4:$B2050,B781)=1,\"ID Único OK\",\"ID repetido\"))","v":""}]
[null,null,null,null,null,null,null,"","",{"$f":"IF(B782=\"\",\"\",IF(COUNTIF($B$4:$B2051,B782)=1,\"ID Único OK\",\"ID repetido\"))","v":""}]
[null,null,null,null,null,null,null,"","",{"$f":"IF(B783=\"\",\"\",IF(COUNTIF($B$4:$B2052,B783)=1,\"ID Único OK\",\"ID repetido\"))","v":""}]
[null,null,null,null,null,null,null,"","",{"$f":"IF(B784=\"\",\"\",IF(COUNTIF($B$4:$B2053,B784)=1,\"ID Único OK\",\"ID repetido\"))","v":""}]
[null,null,null,null,null,null,null,"","",{"$f":"IF(B785=\"\",\"\",IF(COUNTIF($B$4:$B2054,B785)=1,\"ID Único OK\",\"ID repetido\"))","v":""}]
[null,null,null,null,null,null,null,"","",{"$f":"IF(B786=\"\",\"\",IF(COUNTIF($B$4:$B2055,B786)=1,\"ID Único OK\",\"ID repetido\"))","v":""}]
[null,null,null,null,null,null,null,"","",{"$f":"IF(B787=\"\",\"\",IF(COUNTIF($B$4:$B2056,B787)=1,\"ID Único OK\",\"ID repetido\"))","v":""}]
[null,null,null,null,null,null,null,"","",{"$f":"IF(B788=\"\",\"\",IF(COUNTIF($B$4:$B2057,B788)=1,\"ID Único OK\",\"ID repetido\"))","v":""}]
[null,null,null,null,null,null,null,"","",{"$f":"IF(B789=\"\",\"\",IF(COUNTIF($B$4:$B2058,B789)=1,\"ID Único OK\",\"ID repetido\"))","v":""}]
[null,null,null,null,null,null,null,"","",{"$f":"IF(B790=\"\",\"\",IF(COUNTIF($B$4:$B2059,B790)=1,\"ID Único OK\",\"ID repetido\"))","v":""}]
[null,null,null,null,null,null,null,"","",{"$f":"IF(B791=\"\",\"\",IF(COUNTIF($B$4:$B2060,B791)=1,\"ID Único OK\",\"ID repetido\"))","v":""}]
[null,null,null,null,null,null,null,"","",{"$f":"IF(B792=\"\",\"\",IF(COUNTIF($B$4:$B2061,B792)=1,\"ID Único OK\",\"ID repetido\"))","v":""}]
[null,null,null,null,null,null,null,"","",{"$f":"IF(B793=\"\",\"\",IF(COUNTIF($B$4:$B2062,B793)=1,\"ID Único OK\",\"ID repetido\"))","v":""}]
[null,null,null,null,null,null,null,"","",{"$f":"IF(B794=\"\",\"\",IF(COUNTIF($B$4:$B2063,B794)=1,\"ID Único OK\",\"ID repetido\"))","v":""}]
[null,null,null,null,null,null,null,"","",{"$f":"IF(B795=\"\",\"\",IF(COUNTIF($B$4:$B2064,B795)=1,\"ID Único OK\",\"ID repetido\"))","v":""}]
[null,null,null,null,null,null,null,"","",{"$f":"IF(B796=\"\",\"\",IF(COUNTIF($B$4:$B2065,B796)=1,\"ID Único OK\",\"ID repetido\"))","v":""}]
[null,null,null,null,null,null,null,"","",{"$f":"IF(B797=\"\",\"\",IF(COUNTIF($B$4:$B2066,B797)=1,\"ID Único OK\",\"ID repetido\"))","v":""}]
[null,null,null,null,null,null,null,"","",{"$f":"IF(B798=\"\",\"\",IF(COUNTIF($B$4:$B2067,B798)=1,\"ID Único OK\",\"ID repetido\"))","v":""}]
[null,null,null,null,null,null,null,"","",{"$f":"IF(B799=\"\",\"\",IF(COUNTIF($B$4:$B2068,B799)=1,\"ID Único OK\",\"ID repetido\"))","v":""}]
[null,null,null,null,null,null,null,"","",{"$f":"IF(B800=\"\",\"\",IF(COUNTIF($B$4:$B2069,B800)=1,\"ID Único OK\",\"ID repetido\"))","v":""}]
[null,null,null,null,null,null,null,"","",{"$f":"IF(B801=\"\",\"\",IF(COUNTIF($B$4:$B2070,B801)=1,\"ID Único OK\",\"ID repetido\"))","v":""}]
[null,null,null,null,null,null,null,"","",{"$f":"IF(B802=\"\",\"\",IF(COUNTIF($B$4:$B2071,B802)=1,\"ID Único OK\",\"ID repetido\"))","v":""}]
[null,null,null,null,null,null,null,"","",{"$f":"IF(B803=\"\",\"\",IF(COUNTIF($B$4:$B2072,B803)=1,\"ID Único OK\",\"ID repetido\"))","v":""}]
[null,null,null,null,null,null,null,"","",{"$f":"IF(B804=\"\",\"\",IF(COUNTIF($B$4:$B2073,B804)=1,\"ID Único OK\",\"ID repetido\"))","v":""}]
[null,null,null,null,null,null,null,"","",{"$f":"IF(B805=\"\",\"\",IF(COUNTIF($B$4:$B2074,B805)=1,\"ID Único OK\",\"ID repetido\"))","v":""}]
[null,null,null,null,null,null,null,"","",{"$f":"IF(B806=\"\",\"\",IF(COUNTIF($B$4:$B2075,B806)=1,\"ID Único OK\",\"ID repetido\"))","v":""}]
[null,null,null,null,null,null,null,"","",{"$f":"IF(B807=\"\",\"\",IF(COUNTIF($B$4:$B2076,B807)=1,\"ID Único OK\",\"ID repetido\"))","v":""}]
[null,null,null,null,null,null,null,"","",{"$f":"IF(B808=\"\",\"\",IF(COUNTIF($B$4:$B2077,B808)=1,\"ID Único OK\",\"ID repetido\"))","v":""}]
[null,null,null,null,null,null,null,"","",{"$f":"IF(B809=\"\",\"\",IF(COUNTIF($B$4:$B2078,B809)=1,\"ID Único OK\",\"ID repetido\"))","v":""}]
[null,null,null,null,null,null,null,"","",{"$f":"IF(B810=\"\",\"\",IF(COUNTIF($B$4:$B2079,B810)=1,\"ID Único OK\",\"ID repetido\"))","v":""}]
[null,null,null,null,null,null,null,"","",{"$f":"IF(B811=\"\",\"\",IF(COUNTIF($B$4:$B2080,B811)=1,\"ID Único OK\",\"ID repetido\"))","v":""}]
[null,null,null,null,null,null,null,"","",{"$f":"IF(B812=\"\",\"\",IF(COUNTIF($B$4:$B2081,B812)=1,\"ID Único OK\",\"ID repetido\"))","v":""}]
[null,null,null,null,null,null,null,"","",{"$f":"IF(B813=\"\",\"\",IF(COUNTIF($B$4:$B2082,B813)=1,\"ID Único OK\",\"ID repetido\"))","v":""}]
[null,null,null,null,null,null,null,"","",{"$f":"IF(B814=\"\",\"\",IF(COUNTIF($B$4:$B2083,B814)=1,\"ID Único OK\",\"ID repetido\"))","v":""}]
[null,null,null,null,null,null,null,"","",{"$f":"IF(B815=\"\",\"\",IF(COUNTIF($B$4:$B2084,B815)=1,\"ID Único OK\",\"ID repetido\"))","v":""}]
[null,null,null,null,null,null,null,"","",{"$f":"IF(B816=\"\",\"\",IF(COUNTIF($B$4:$B2085,B816)=1,\"ID Único OK\",\"ID repetido\"))","v":""}]
[null,null,null,null,null,null,null,"","",{"$f":"IF(B817=\"\",\"\",IF(COUNTIF($B$4:$B2086,B817)=1,\"ID Único OK\",\"ID repetido\"))","v":""}]
[null,null,null,null,null,null,null,"","",{"$f":"IF(B818=\"\",\"\",IF(COUNTIF($B$4:$B2087,B818)=1,\"ID Único OK\",\"ID repetido\"))","v":""}]
[null,null,null,null,null,null,null,"","",{"$f":"IF(B819=\"\",\"\",IF(COUNTIF($B$4:$B2088,B819)=1,\"ID Único OK\",\"ID repetido\"))","v":""}]
[null,null,null,null,null,null,null,"","",{"$f":"IF(B820=\"\",\"\",IF(COUNTIF($B$4:$B2089,B820)=1,\"ID Único OK\",\"ID repetido\"))","v":""}]
[null,null,null,null,null,null,null,"","",{"$f":"IF(B821=\"\",\"\",IF(COUNTIF($B$4:$B2090,B821)=1,\"ID Único OK\",\"ID repetido\"))","v":""}]
[null,null,null,null,null,null,null,"","",{"$f":"IF(B822=\"\",\"\",IF(COUNTIF($B$4:$B2091,B822)=1,\"ID Único OK\",\"ID repetido\"))","v":""}]
[null,null,null,null,null,null,null,"","",{"$f":"IF(B823=\"\",\"\",IF(COUNTIF($B$4:$B2092,B823)=1,\"ID Único OK\",\"ID repetido\"))","v":""}]
[null,null,null,null,null,null,null,"","",{"$f":"IF(B824=\"\",\"\",IF(COUNTIF($B$4:$B2093,B824)=1,\"ID Único OK\",\"ID repetido\"))","v":""}]
[null,null,null,null,null,null,null,"","",{"$f":"IF(B825=\"\",\"\",IF(COUNTIF($B$4:$B2094,B825)=1,\"ID Único OK\",\"ID repetido\"))","v":""}]
[null,null,null,null,null,null,null,"","",{"$f":"IF(B826=\"\",\"\",IF(COUNTIF($B$4:$B2095,B826)=1,\"ID Único OK\",\"ID repetido\"))","v":""}]
[null,null,null,null,null,null,null,"","",{"$f":"IF(B827=\"\",\"\",IF(COUNTIF($B$4:$B2096,B827)=1,\"ID Único OK\",\"ID repetido\"))","v":""}]
[null,null,null,null,null,null,null,"","",{"$f":"IF(B828=\"\",\"\",IF(COUNTIF($B$4:$B2097,B828)=1,\"ID Único OK\",\"ID repetido\"))","v":""}]
[null,null,null,null,null,null,null,"","",{"$f":"IF(B829=\"\",\"\",IF(COUNTIF($B$4:$B2098,B829)=1,\"ID Único OK\",\"ID repetido\"))","v":""}]
[null,null,null,null,null,null,null,"","",{"$f":"IF(B830=\"\",\"\",IF(COUNTIF($B$4:$B2099,B830)=1,\"ID Único OK\",\"ID repetido\"))","v":""}]
[null,null,null,null,null,null,null,"","",{"$f":"IF(B831=\"\",\"\",IF(COUNTIF($B$4:$B2100,B831)=1,\"ID Único OK\",\"ID repetido\"))","v":""}]
[null,null,null,null,null,null,null,"","",{"$f":"IF(B832=\"\",\"\",IF(COUNTIF($B$4:$B2101,B832)=1,\"ID Único OK\",\"ID repetido\"))","v":""}]
[null,null,null,null,null,null,null,"","",{"$f":"IF(B833=\"\",\"\",IF(COUNTIF($B$4:$B2102,B833)=1,\"ID Único OK\",\"ID repetido\"))","v":""}]
[null,null,null,null,null,null,null,"","",{"$f":"IF(B834=\"\",\"\",IF(COUNTIF($B$4:$B2103,B834)=1,\"ID Único OK\",\"ID repetido\"))","v":""}]
[null,null,null,null,null,null,null,"","",{"$f":"IF(B835=\"\",\"\",IF(COUNTIF($B$4:$B2104,B835)=1,\"ID Único OK\",\"ID repetido\"))","v":""}]
[null,null,null,null,null,null,null,"","",{"$f":"IF(B836=\"\",\"\",IF(COUNTIF($B$4:$B2105,B836)=1,\"ID Único OK\",\"ID repetido\"))","v":""}]
[null,null,null,null,null,null,null,{"$f":"IF(F837=\"\",\"\",IF(B837=F837,\"Son iguales\",\"Hay error en los números de solicitud\"))","v":""},{"$f":"IF(E837=\"\",\"\",IF(E837<D837,\"Error entre fechas\",\"Fechas correctas\"))","v":""},{"$f":"IF(B837=\"\",\"\",IF(COUNTIF($B$4:$B2106,B837)=1,\"ID Único OK\",\"ID repetido\"))","v":""}]
[null,null,null,null,null,null,null,"","",{"$f":"IF(B838=\"\",\"\",IF(COUNTIF($B$4:$B2107,B838)=1,\"ID Único OK\",\"ID repetido\"))","v":""}]
[null,null,null,null,null,null,null,"","",{"$f":"IF(B839=\"\",\"\",IF(COUNTIF($B$4:$B2108,B839)=1,\"ID Único OK\",\"ID repetido\"))","v":""}]
[null,null,null,null,null,null,null,"","",{"$f":"IF(B840=\"\",\"\",IF(COUNTIF($B$4:$B2109,B840)=1,\"ID Único OK\",\"ID repetido\"))","v":""}]
[null,null,null,null,null,null,null,"","",{"$f":"IF(B841=\"\",\"\",IF(COUNTIF($B$4:$B2110,B841)=1,\"ID Único OK\",\"ID repetido\"))","v":""}]
[null,null,null,null,null,null,null,"","",{"$f":"IF(B842=\"\",\"\",IF(COUNTIF($B$4:$B2111,B842)=1,\"ID Único OK\",\"ID repetido\"))","v":""}]
[null,null,null,null,null,null,null,"","",{"$f":"IF(B843=\"\",\"\",IF(COUNTIF($B$4:$B2112,B843)=1,\"ID Único OK\",\"ID repetido\"))","v":""}]
[null,null,null,null,null,null,null,"","",{"$f":"IF(B844=\"\",\"\",IF(COUNTIF($B$4:$B2113,B844)=1,\"ID Único OK\",\"ID repetido\"))","v":""}]
[null,null,null,null,null,null,null,"","",{"$f":"IF(B845=\"\",\"\",IF(COUNTIF($B$4:$B2114,B845)=1,\"ID Único OK\",\"ID repetido\"))","v":""}]
[null,null,null,null,null,null,null,"","",{"$f":"IF(B846=\"\",\"\",IF(COUNTIF($B$4:$B2115,B846)=1,\"ID Único OK\",\"ID repetido\"))","v":""}]
[null,null,null,null,null,null,null,"","",{"$f":"IF(B847=\"\",\"\",IF(COUNTIF($B$4:$B2116,B847)=1,\"ID Único OK\",\"ID repetido\"))","v":""}]
[null,null,null,null,null,null,null,"","",{"$f":"IF(B848=\"\",\"\",IF(COUNTIF($B$4:$B2117,B848)=1,\"ID Único OK\",\"ID repetido\"))","v":""}]
[null,null,null,null,null,null,null,"","",{"$f":"IF(B849=\"\",\"\",IF(COUNTIF($B$4:$B2118,B849)=1,\"ID Único OK\",\"ID repetido\"))","v":""}]
[null,null,null,null,null,null,null,"","",{"$f":"IF(B850=\"\",\"\",IF(COUNTIF($B$4:$B2119,B850)=1,\"ID Único OK\",\"ID repetido\"))","v":""}]
[null,null,null,null,null,null,null,"","",{"$f":"IF(B851=\"\",\"\",IF(COUNTIF($B$4:$B2120,B851)=1,\"ID Único OK\",\"ID repetido\"))","v":""}]
[null,null,null,null,null,null,null,"","",{"$f":"IF(B852=\"\",\"\",IF(COUNTIF($B$4:$B2121,B852)=1,\"ID Único OK\",\"ID repetido\"))","v":""}]
[null,null,null,null,null,null,null,"","",{"$f":"IF(B853=\"\",\"\",IF(COUNTIF($B$4:$B2122,B853)=1,\"ID Único OK\",\"ID repetido\"))","v":""}]
[null,null,null,null,null,null,null,"","",{"$f":"IF(B854=\"\",\"\",IF(COUNTIF($B$4:$B2123,B854)=1,\"ID Único OK\",\"ID repetido\"))","v":""}]
[null,null,null,null,null,null,null,"","",{"$f":"IF(B855=\"\",\"\",IF(COUNTIF($B$4:$B2124,B855)=1,\"ID Único OK\",\"ID repetido\"))","v":""}]
[null,null,null,null,null,null,null,"","",{"$f":"IF(B856=\"\",\"\",IF(COUNTIF($B$4:$B2125,B856)=1,\"ID Único OK\",\"ID repetido\"))","v":""}]
[null,null,null,null,null,null,null,"","",{"$f":"IF(B857=\"\",\"\",IF(COUNTIF($B$4:$B2126,B857)=1,\"ID Único OK\",\"ID repetido\"))","v":""}]
[null,null,null,null,null,null,null,"","",{"$f":"IF(B858=\"\",\"\",IF(COUNTIF($B$4:$B2127,B858)=1,\"ID Único OK\",\"ID repetido\"))","v":""}]
[null,null,null,null,null,null,null,"","",{"$f":"IF(B859=\"\",\"\",IF(COUNTIF($B$4:$B2128,B859)=1,\"ID Único OK\",\"ID repetido\"))","v":""}]
[null,null,null,null,null,null,null,"","",{"$f":"IF(B860=\"\",\"\",IF(COUNTIF($B$4:$B2129,B860)=1,\"ID Único OK\",\"ID repetido\"))","v":""}]
[null,null,null,null,null,null,null,"","",{"$f":"IF(B861=\"\",\"\",IF(COUNTIF($B$4:$B2130,B861)=1,\"ID Único OK\",\"ID repetido\"))","v":""}]
[null,null,null,null,null,null,null,"","",{"$f":"IF(B862=\"\",\"\",IF(COUNTIF($B$4:$B2131,B862)=1,\"ID Único OK\",\"ID repetido\"))","v":""}]
[null,null,null,null,null,null,null,"","",{"$f":"IF(B863=\"\",\"\",IF(COUNTIF($B$4:$B2132,B863)=1,\"ID Único OK\",\"ID repetido\"))","v":""}]
[null,null,null,null,null,null,null,"","",{"$f":"IF(B864=\"\",\"\",IF(COUNTIF($B$4:$B2133,B864)=1,\"ID Único OK\",\"ID repetido\"))","v":""}]
[null,null,null,null,null,null,null,"","",{"$f":"IF(B865=\"\",\"\",IF(COUNTIF($B$4:$B2134,B865)=1,\"ID Único OK\",\"ID repetido\"))","v":""}]
[null,null,null,null,null,null,null,"","",{"$f":"IF(B866=\"\",\"\",IF(COUNTIF($B$4:$B2135,B866)=1,\"ID Único OK\",\"ID repetido\"))","v":""}]
[null,null,null,null,null,null,null,"","",{"$f":"IF(B867=\"\",\"\",IF(COUNTIF($B$4:$B2136,B867)=1,\"ID Único OK\",\"ID repetido\"))","v":""}]
[null,null,null,null,null,null,null,"","",{"$f":"IF(B868=\"\",\"\",IF(COUNTIF($B$4:$B2137,B868)=1,\"ID Único OK\",\"ID repetido\"))","v":""}]
[null,null,null,null,null,null,null,"","",{"$f":"IF(B869=\"\",\"\",IF(COUNTIF($B$4:$B2138,B869)=1,\"ID Único OK\",\"ID repetido\"))","v":""}]
[null,null,null,null,null,null,null,"","",{"$f":"IF(B870=\"\",\"\",IF(COUNTIF($B$4:$B2139,B870)=1,\"ID Único OK\",\"ID repetido\"))","v":""}]
[null,null,null,null,null,null,null,"","",{"$f":"IF(B871=\"\",\"\",IF(COUNTIF($B$4:$B2140,B871)=1,\"ID Único OK\",\"ID repetido\"))","v":""}]
[null,null,null,null,null,null,null,"","",{"$f":"IF(B872=\"\",\"\",IF(COUNTIF($B$4:$B2141,B872)=1,\"ID Único OK\",\"ID repetido\"))","v":""}]
[null,null,null,null,null,null,null,"","",{"$f":"IF(B873=\"\",\"\",IF(COUNTIF($B$4:$B2142,B873)=1,\"ID Único OK\",\"ID repetido\"))","v":""}]
[null,null,null,null,null,null,null,"","",{"$f":"IF(B874=\"\",\"\",IF(COUNTIF($B$4:$B2143,B874)=1,\"ID Único OK\",\"ID repetido\"))","v":""}]
[null,null,null,null,null,null,null,"","",{"$f":"IF(B875=\"\",\"\",IF(COUNTIF($B$4:$B2144,B875)=1,\"ID Único OK\",\"ID repetido\"))","v":""}]
[null,null,null,null,null,null,null,"","",{"$f":"IF(B876=\"\",\"\",IF(COUNTIF($B$4:$B2145,B876)=1,\"ID Único OK\",\"ID repetido\"))","v":""}]
[null,null,null,null,null,null,null,"","",{"$f":"IF(B877=\"\",\"\",IF(COUNTIF($B$4:$B2146,B877)=1,\"ID Único OK\",\"ID repetido\"))","v":""}]
[null,null,null,null,null,null,null,"","",{"$f":"IF(B878=\"\",\"\",IF(COUNTIF($B$4:$B2147,B878)=1,\"ID Único OK\",\"ID repetido\"))","v":""}]
[null,null,null,null,null,null,null,"","",{"$f":"IF(B879=\"\",\"\",IF(COUNTIF($B$4:$B2148,B879)=1,\"ID Único OK\",\"ID repetido\"))","v":""}]
[null,null,null,null,null,null,null,"","",{"$f":"IF(B880=\"\",\"\",IF(COUNTIF($B$4:$B2149,B880)=1,\"ID Único OK\",\"ID repetido\"))","v":""}]
[null,null,null,null,null,null,null,"","",{"$f":"IF(B881=\"\",\"\",IF(COUNTIF($B$4:$B2150,B881)=1,\"ID Único OK\",\"ID repetido\"))","v":""}]
[null,null,null,null,null,null,null,"","",{"$f":"IF(B882=\"\",\"\",IF(COUNTIF($B$4:$B2151,B882)=1,\"ID Único OK\",\"ID repetido\"))","v":""}]
[null,null,null,null,null,null,null,"","",{"$f":"IF(B883=\"\",\"\",IF(COUNTIF($B$4:$B2152,B883)=1,\"ID Único OK\",\"ID repetido\"))","v":""}]
[null,null,null,null,null,null,null,"","",{"$f":"IF(B884=\"\",\"\",IF(COUNTIF($B$4:$B2153,B884)=1,\"ID Único OK\",\"ID repetido\"))","v":""}]
[null,null,null,null,null,null,null,"","",{"$f":"IF(B885=\"\",\"\",IF(COUNTIF($B$4:$B2154,B885)=1,\"ID Único OK\",\"ID repetido\"))","v":""}]
[null,null,null,null,null,null,null,"","",{"$f":"IF(B886=\"\",\"\",IF(COUNTIF($B$4:$B2155,B886)=1,\"ID Único OK\",\"ID repetido\"))","v":""}]
[null,null,null,null,null,null,null,"","",{"$f":"IF(B887=\"\",\"\",IF(COUNTIF($B$4:$B2156,B887)=1,\"ID Único OK\",\"ID repetido\"))","v":""}]
[null,null,null,null,null,null,null,"","",{"$f":"IF(B888=\"\",\"\",IF(COUNTIF($B$4:$B2157,B888)=1,\"ID Único OK\",\"ID repetido\"))","v":""}]
[null,null,null,null,null,null,null,"","",{"$f":"IF(B889=\"\",\"\",IF(COUNTIF($B$4:$B2158,B889)=1,\"ID Único OK\",\"ID repetido\"))","v":""}]
[null,null,null,null,null,null,null,"","",{"$f":"IF(B890=\"\",\"\",IF(COUNTIF($B$4:$B2159,B890)=1,\"ID Único OK\",\"ID repetido\"))","v":""}]
[null,null,null,null,null,null,null,"","",{"$f":"IF(B891=\"\",\"\",IF(COUNTIF($B$4:$B2160,B891)=1,\"ID Único OK\",\"ID repetido\"))","v":""}]
[null,null,null,null,null,null,null,"","",{"$f":"IF(B892=\"\",\"\",IF(COUNTIF($B$4:$B2161,B892)=1,\"ID Único OK\",\"ID repetido\"))","v":""}]
[null,null,null,null,null,null,null,"","",{"$f":"IF(B893=\"\",\"\",IF(COUNTIF($B$4:$B2162,B893)=1,\"ID Único OK\",\"ID repetido\"))","v":""}]
[null,null,null,null,null,null,null,"","",{"$f":"IF(B894=\"\",\"\",IF(COUNTIF($B$4:$B2163,B894)=1,\"ID Único OK\",\"ID repetido\"))","v":""}]
[null,null,null,null,null,null,null,"","",{"$f":"IF(B895=\"\",\"\",IF(COUNTIF($B$4:$B2164,B895)=1,\"ID Único OK\",\"ID repetido\"))","v":""}]
[null,null,null,null,null,null,null,"","",{"$f":"IF(B896=\"\",\"\",IF(COUNTIF($B$4:$B2165,B896)=1,\"ID Único OK\",\"ID repetido\"))","v":""}]
[null,null,null,null,null,null,null,"","",{"$f":"IF(B897=\"\",\"\",IF(COUNTIF($B$4:$B2166,B897)=1,\"ID Único OK\",\"ID repetido\"))","v":""}]
[null,null,null,null,null,null,null,"","",{"$f":"IF(B898=\"\",\"\",IF(COUNTIF($B$4:$B2167,B898)=1,\"ID Único OK\",\"ID repetido\"))","v":""}]
[null,null,null,null,null,null,null,"","",{"$f":"IF(B899=\"\",\"\",IF(COUNTIF($B$4:$B2168,B899)=1,\"ID Único OK\",\"ID repetido\"))","v":""}]
[null,null,null,null,null,null,null,"","",{"$f":"IF(B900=\"\",\"\",IF(COUNTIF($B$4:$B2169,B900)=1,\"ID Único OK\",\"ID repetido\"))","v":""}]
[null,null,null,null,null,null,null,{"$f":"IF(F901=\"\",\"\",IF(B901=F901,\"Son iguales\",\"Hay error en los números de solicitud\"))","v":""},{"$f":"IF(E901=\"\",\"\",IF(E901<D901,\"Error entre fechas\",\"Fechas correctas\"))","v":""},{"$f":"IF(B901=\"\",\"\",IF(COUNTIF($B$4:$B2170,B901)=1,\"ID Único OK\",\"ID repetido\"))","v":""}]
[null,null,null,null,null,null,null,"","",{"$f":"IF(B902=\"\",\"\",IF(COUNTIF($B$4:$B2171,B902)=1,\"ID Único OK\",\"ID repetido\"))","v":""}]
[null,null,null,null,null,null,null,"","",{"$f":"IF(B903=\"\",\"\",IF(COUNTIF($B$4:$B2172,B903)=1,\"ID Único OK\",\"ID repetido\"))","v":""}]
[null,null,null,null,null,null,null,"","",{"$f":"IF(B904=\"\",\"\",IF(COUNTIF($B$4:$B2173,B904)=1,\"ID Único OK\",\"ID repetido\"))","v":""}]
[null,null,null,null,null,null,null,"","",{"$f":"IF(B905=\"\",\"\",IF(COUNTIF($B$4:$B2174,B905)=1,\"ID Único OK\",\"ID repetido\"))","v":""}]
[null,null,null,null,null,null,null,"","",{"$f":"IF(B906=\"\",\"\",IF(COUNTIF($B$4:$B2175,B906)=1,\"ID Único OK\",\"ID repetido\"))","v":""}]
[null,null,null,null,null,null,null,"","",{"$f":"IF(B907=\"\",\"\",IF(COUNTIF($B$4:$B2176,B907)=1,\"ID Único OK\",\"ID repetido\"))","v":""}]
[null,null,null,null,null,null,null,"","",{"$f":"IF(B908=\"\",\"\",IF(COUNTIF($B$4:$B2177,B908)=1,\"ID Único OK\",\"ID repetido\"))","v":""}]
[null,null,null,null,null,null,null,"","",{"$f":"IF(B909=\"\",\"\",IF(COUNTIF($B$4:$B2178,B909)=1,\"ID Único OK\",\"ID repetido\"))","v":""}]
[null,null,null,null,null,null,null,"","",{"$f":"IF(B910=\"\",\"\",IF(COUNTIF($B$4:$B2179,B910)=1,\"ID Único OK\",\"ID repetido\"))","v":""}]
[null,null,null,null,null,null,null,"","",{"$f":"IF(B911=\"\",\"\",IF(COUNTIF($B$4:$B2180,B911)=1,\"ID Único OK\",\"ID repetido\"))","v":""}]
[null,null,null,null,null,null,null,"","",{"$f":"IF(B912=\"\",\"\",IF(COUNTIF($B$4:$B2181,B912)=1,\"ID Único OK\",\"ID repetido\"))","v":""}]
[null,null,null,null,null,null,null,"","",{"$f":"IF(B913=\"\",\"\",IF(COUNTIF($B$4:$B2182,B913)=1,\"ID Único OK\",\"ID repetido\"))","v":""}]
[null,null,null,null,null,null,null,"","",{"$f":"IF(B914=\"\",\"\",IF(COUNTIF($B$4:$B2183,B914)=1,\"ID Único OK\",\"ID repetido\"))","v":""}]
[null,null,null,null,null,null,null,"","",{"$f":"IF(B915=\"\",\"\",IF(COUNTIF($B$4:$B2184,B915)=1,\"ID Único OK\",\"ID repetido\"))","v":""}]
[null,null,null,null,null,null,null,"","",{"$f":"IF(B916=\"\",\"\",IF(COUNTIF($B$4:$B2185,B916)=1,\"ID Único OK\",\"ID repetido\"))","v":""}]
[null,null,null,null,null,null,null,"","",{"$f":"IF(B917=\"\",\"\",IF(COUNTIF($B$4:$B2186,B917)=1,\"ID Único OK\",\"ID repetido\"))","v":""}]
[null,null,null,null,null,null,null,"","",{"$f":"IF(B918=\"\",\"\",IF(COUNTIF($B$4:$B2187,B918)=1,\"ID Único OK\",\"ID repetido\"))","v":""}]
[null,null,null,null,null,null,null,"","",{"$f":"IF(B919=\"\",\"\",IF(COUNTIF($B$4:$B2188,B919)=1,\"ID Único OK\",\"ID repetido\"))","v":""}]
[null,null,null,null,null,null,null,"","",{"$f":"IF(B920=\"\",\"\",IF(COUNTIF($B$4:$B2189,B920)=1,\"ID Único OK\",\"ID repetido\"))","v":""}]
[null,null,null,null,null,null,null,"","",{"$f":"IF(B921=\"\",\"\",IF(COUNTIF($B$4:$B2190,B921)=1,\"ID Único OK\",\"ID repetido\"))","v":""}]
[null,null,null,null,null,null,null,"","",{"$f":"IF(B922=\"\",\"\",IF(COUNTIF($B$4:$B2191,B922)=1,\"ID Único OK\",\"ID repetido\"))","v":""}]
[null,null,null,null,null,null,null,"","",{"$f":"IF(B923=\"\",\"\",IF(COUNTIF($B$4:$B2192,B923)=1,\"ID Único OK\",\"ID repetido\"))","v":""}]
[null,null,null,null,null,null,null,"","",{"$f":"IF(B924=\"\",\"\",IF(COUNTIF($B$4:$B2193,B924)=1,\"ID Único OK\",\"ID repetido\"))","v":""}]
[null,null,null,null,null,null,null,"","",{"$f":"IF(B925=\"\",\"\",IF(COUNTIF($B$4:$B2194,B925)=1,\"ID Único OK\",\"ID repetido\"))","v":""}]
[null,null,null,null,null,null,null,"","",{"$f":"IF(B926=\"\",\"\",IF(COUNTIF($B$4:$B2195,B926)=1,\"ID Único OK\",\"ID repetido\"))","v":""}]
[null,null,null,null,null,null,null,"","",{"$f":"IF(B927=\"\",\"\",IF(COUNTIF($B$4:$B2196,B927)=1,\"ID Único OK\",\"ID repetido\"))","v":""}]
[null,null,null,null,null,null,null,"","",{"$f":"IF(B928=\"\",\"\",IF(COUNTIF($B$4:$B2197,B928)=1,\"ID Único OK\",\"ID repetido\"))","v":""}]
[null,null,null,null,null,null,null,"","",{"$f":"IF(B929=\"\",\"\",IF(COUNTIF($B$4:$B2198,B929)=1,\"ID Único OK\",\"ID repetido\"))","v":""}]
[null,null,null,null,null,null,null,"","",{"$f":"IF(B930=\"\",\"\",IF(COUNTIF($B$4:$B2199,B930)=1,\"ID Único OK\",\"ID repetido\"))","v":""}]
[null,null,null,null,null,null,null,"","",{"$f":"IF(B931=\"\",\"\",IF(COUNTIF($B$4:$B2200,B931)=1,\"ID Único OK\",\"ID repetido\"))","v":""}]
[null,null,null,null,null,null,null,"","",{"$f":"IF(B932=\"\",\"\",IF(COUNTIF($B$4:$B2201,B932)=1,\"ID Único OK\",\"ID repetido\"))","v":""}]
[null,null,null,null,null,null,null,"","",{"$f":"IF(B933=\"\",\"\",IF(COUNTIF($B$4:$B2202,B933)=1,\"ID Único OK\",\"ID repetido\"))","v":""}]
[null,null,null,null,null,null,null,"","",{"$f":"IF(B934=\"\",\"\",IF(COUNTIF($B$4:$B2203,B934)=1,\"ID Único OK\",\"ID repetido\"))","v":""}]
[null,null,null,null,null,null,null,"","",{"$f":"IF(B935=\"\",\"\",IF(COUNTIF($B$4:$B2204,B935)=1,\"ID Único OK\",\"ID repetido\"))","v":""}]
[null,null,null,null,null,null,null,"","",{"$f":"IF(B936=\"\",\"\",IF(COUNTIF($B$4:$B2205,B936)=1,\"ID Único OK\",\"ID repetido\"))","v":""}]
[null,null,null,null,null,null,null,"","",{"$f":"IF(B937=\"\",\"\",IF(COUNTIF($B$4:$B2206,B937)=1,\"ID Único OK\",\"ID repetido\"))","v":""}]
[null,null,null,null,null,null,null,"","",{"$f":"IF(B938=\"\",\"\",IF(COUNTIF($B$4:$B2207,B938)=1,\"ID Único OK\",\"ID repetido\"))","v":""}]
[null,null,null,null,null,null,null,"","",{"$f":"IF(B939=\"\",\"\",IF(COUNTIF($B$4:$B2208,B939)=1,\"ID Único OK\",\"ID repetido\"))","v":""}]
[null,null,null,null,null,null,null,"","",{"$f":"IF(B940=\"\",\"\",IF(COUNTIF($B$4:$B2209,B940)=1,\"ID Único OK\",\"ID repetido\"))","v":""}]
[null,null,null,null,null,null,null,"","",{"$f":"IF(B941=\"\",\"\",IF(COUNTIF($B$4:$B2210,B941)=1,\"ID Único OK\",\"ID repetido\"))","v":""}]
[null,null,null,null,null,null,null,"","",{"$f":"IF(B942=\"\",\"\",IF(COUNTIF($B$4:$B2211,B942)=1,\"ID Único OK\",\"ID repetido\"))","v":""}]
[null,null,null,null,null,null,null,"","",{"$f":"IF(B943=\"\",\"\",IF(COUNTIF($B$4:$B2212,B943)=1,\"ID Único OK\",\"ID repetido\"))","v":""}]
[null,null,null,null,null,null,null,"","",{"$f":"IF(B944=\"\",\"\",IF(COUNTIF($B$4:$B2213,B944)=1,\"ID Único OK\",\"ID repetido\"))","v":""}]
[null,null,null,null,null,null,null,"","",{"$f":"IF(B945=\"\",\"\",IF(COUNTIF($B$4:$B2214,B945)=1,\"ID Único OK\",\"ID repetido\"))","v":""}]
[null,null,null,null,null,null,null,"","",{"$f":"IF(B946=\"\",\"\",IF(COUNTIF($B$4:$B2215,B946)=1,\"ID Único OK\",\"ID repetido\"))","v":""}]
[null,null,null,null,null,null,null,"","",{"$f":"IF(B947=\"\",\"\",IF(COUNTIF($B$4:$B2216,B947)=1,\"ID Único OK\",\"ID repetido\"))","v":""}]
[null,null,null,null,null,null,null,"","",{"$f":"IF(B948=\"\",\"\",IF(COUNTIF($B$4:$B2217,B948)=1,\"ID Único OK\",\"ID repetido\"))","v":""}]
[null,null,null,null,null,null,null,"","",{"$f":"IF(B949=\"\",\"\",IF(COUNTIF($B$4:$B2218,B949)=1,\"ID Único OK\",\"ID repetido\"))","v":""}]
[null,null,null,null,null,null,null,"","",{"$f":"IF(B950=\"\",\"\",IF(COUNTIF($B$4:$B2219,B950)=1,\"ID Único OK\",\"ID repetido\"))","v":""}]
[null,null,null,null,null,null,null,"","",{"$f":"IF(B951=\"\",\"\",IF(COUNTIF($B$4:$B2220,B951)=1,\"ID Único OK\",\"ID repetido\"))","v":""}]
[null,null,null,null,null,null,null,"","",{"$f":"IF(B952=\"\",\"\",IF(COUNTIF($B$4:$B2221,B952)=1,\"ID Único OK\",\"ID repetido\"))","v":""}]
[null,null,null,null,null,null,null,"","",{"$f":"IF(B953=\"\",\"\",IF(COUNTIF($B$4:$B2222,B953)=1,\"ID Único OK\",\"ID repetido\"))","v":""}]
[null,null,null,null,null,null,null,"","",{"$f":"IF(B954=\"\",\"\",IF(COUNTIF($B$4:$B2223,B954)=1,\"ID Único OK\",\"ID repetido\"))","v":""}]
[null,null,null,null,null,null,null,"","",{"$f":"IF(B955=\"\",\"\",IF(COUNTIF($B$4:$B2224,B955)=1,\"ID Único OK\",\"ID repetido\"))","v":""}]
[null,null,null,null,null,null,null,"","",{"$f":"IF(B956=\"\",\"\",IF(COUNTIF($B$4:$B2225,B956)=1,\"ID Único OK\",\"ID repetido\"))","v":""}]
[null,null,null,null,null,null,null,"","",{"$f":"IF(B957=\"\",\"\",IF(COUNTIF($B$4:$B2226,B957)=1,\"ID Único OK\",\"ID repetido\"))","v":""}]
[null,null,null,null,null,null,null,"","",{"$f":"IF(B958=\"\",\"\",IF(COUNTIF($B$4:$B2227,B958)=1,\"ID Único OK\",\"ID repetido\"))","v":""}]
[null,null,null,null,null,null,null,"","",{"$f":"IF(B959=\"\",\"\",IF(COUNTIF($B$4:$B2228,B959)=1,\"ID Único OK\",\"ID repetido\"))","v":""}]
[null,null,null,null,null,null,null,"","",{"$f":"IF(B960=\"\",\"\",IF(COUNTIF($B$4:$B2229,B960)=1,\"ID Único OK\",\"ID repetido\"))","v":""}]
[null,null,null,null,null,null,null,"","",{"$f":"IF(B961=\"\",\"\",IF(COUNTIF($B$4:$B2230,B961)=1,\"ID Único OK\",\"ID repetido\"))","v":""}]
[null,null,null,null,null,null,null,"","",{"$f":"IF(B962=\"\",\"\",IF(COUNTIF($B$4:$B2231,B962)=1,\"ID Único OK\",\"ID repetido\"))","v":""}]
[null,null,null,null,null,null,null,"","",{"$f":"IF(B963=\"\",\"\",IF(COUNTIF($B$4:$B2232,B963)=1,\"ID Único OK\",\"ID repetido\"))","v":""}]
[null,null,null,null,null,null,null,"","",{"$f":"IF(B964=\"\",\"\",IF(COUNTIF($B$4:$B2233,B964)=1,\"ID Único OK\",\"ID repetido\"))","v":""}]
[null,null,null,null,null,null,null,{"$f":"IF(F965=\"\",\"\",IF(B965=F965,\"Son iguales\",\"Hay error en los números de solicitud\"))","v":""},{"$f":"IF(E965=\"\",\"\",IF(E965<D965,\"Error entre fechas\",\"Fechas correctas\"))","v":""},{"$f":"IF(B965=\"\",\"\",IF(COUNTIF($B$4:$B2234,B965)=1,\"ID Único OK\",\"ID repetido\"))","v":""}]
[null,null,null,null,null,null,null,"","",{"$f":"IF(B966=\"\",\"\",IF(COUNTIF($B$4:$B2235,B966)=1,\"ID Único OK\",\"ID repetido\"))","v":""}]
[null,null,null,null,null,null,null,"","",{"$f":"IF(B967=\"\",\"\",IF(COUNTIF($B$4:$B2236,B967)=1,\"ID Único OK\",\"ID repetido\"))","v":""}]
[null,null,null,null,null,null,null,"","",{"$f":"IF(B968=\"\",\"\",IF(COUNTIF($B$4:$B2237,B968)=1,\"ID Único OK\",\"ID repetido\"))","v":""}]
[null,null,null,null,null,null,null,"","",{"$f":"IF(B969=\"\",\"\",IF(COUNTIF($B$4:$B2238,B969)=1,\"ID Único OK\",\"ID repetido\"))","v":""}]
[null,null,null,null,null,null,null,"","",{"$f":"IF(B970=\"\",\"\",IF(COUNTIF($B$4:$B2239,B970)=1,\"ID Único OK\",\"ID repetido\"))","v":""}]
[null,null,null,null,null,null,null,"","",{"$f":"IF(B971=\"\",\"\",IF(COUNTIF($B$4:$B2240,B971)=1,\"ID Único OK\",\"ID repetido\"))","v":""}]
[null,null,null,null,null,null,null,"","",{"$f":"IF(B972=\"\",\"\",IF(COUNTIF($B$4:$B2241,B972)=1,\"ID Único OK\",\"ID repetido\"))","v":""}]
[null,null,null,null,null,null,null,"","",{"$f":"IF(B973=\"\",\"\",IF(COUNTIF($B$4:$B2242,B973)=1,\"ID Único OK\",\"ID repetido\"))","v":""}]
[null,null,null,null,null,null,null,"","",{"$f":"IF(B974=\"\",\"\",IF(COUNTIF($B$4:$B2243,B974)=1,\"ID Único OK\",\"ID repetido\"))","v":""}]
[null,null,null,null,null,null,null,"","",{"$f":"IF(B975=\"\",\"\",IF(COUNTIF($B$4:$B2244,B975)=1,\"ID Único OK\",\"ID repetido\"))","v":""}]
[null,null,null,null,null,null,null,"","",{"$f":"IF(B976=\"\",\"\",IF(COUNTIF($B$4:$B2245,B976)=1,\"ID Único OK\",\"ID repetido\"))","v":""}]
[null,null,null,null,null,null,null,"","",{"$f":"IF(B977=\"\",\"\",IF(COUNTIF($B$4:$B2246,B977)=1,\"ID Único OK\",\"ID repetido\"))","v":""}]
[null,null,null,null,null,null,null,"","",{"$f":"IF(B978=\"\",\"\",IF(COUNTIF($B$4:$B2247,B978)=1,\"ID Único OK\",\"ID repetido\"))","v":""}]
[null,null,null,null,null,null,null,"","",{"$f":"IF(B979=\"\",\"\",IF(COUNTIF($B$4:$B2248,B979)=1,\"ID Único OK\",\"ID repetido\"))","v":""}]
[null,null,null,null,null,null,null,"","",{"$f":"IF(B980=\"\",\"\",IF(COUNTIF($B$4:$B2249,B980)=1,\"ID Único OK\",\"ID repetido\"))","v":""}]
[null,null,null,null,null,null,null,"","",{"$f":"IF(B981=\"\",\"\",IF(COUNTIF($B$4:$B2250,B981)=1,\"ID Único OK\",\"ID repetido\"))","v":""}]
[null,null,null,null,null,null,null,"","",{"$f":"IF(B982=\"\",\"\",IF(COUNTIF($B$4:$B2251,B982)=1,\"ID Único OK\",\"ID repetido\"))","v":""}]
[null,null,null,null,null,null,null,"","",{"$f":"IF(B983=\"\",\"\",IF(COUNTIF($B$4:$B2252,B983)=1,\"ID Único OK\",\"ID repetido\"))","v":""}]
[null,null,null,null,null,null,null,"","",{"$f":"IF(B984=\"\",\"\",IF(COUNTIF($B$4:$B2253,B984)=1,\"ID Único OK\",\"ID repetido\"))","v":""}]
[null,null,null,null,null,null,null,"","",{"$f":"IF(B985=\"\",\"\",IF(COUNTIF($B$4:$B2254,B985)=1,\"ID Único OK\",\"ID repetido\"))","v":""}]
[null,null,null,null,null,null,null,"","",{"$f":"IF(B986=\"\",\"\",IF(COUNTIF($B$4:$B2255,B986)=1,\"ID Único OK\",\"ID repetido\"))","v":""}]
[null,null,null,null,null,null,null,"","",{"$f":"IF(B987=\"\",\"\",IF(COUNTIF($B$4:$B2256,B987)=1,\"ID Único OK\",\"ID repetido\"))","v":""}]
[null,null,null,null,null,null,null,"","",{"$f":"IF(B988=\"\",\"\",IF(COUNTIF($B$4:$B2257,B988)=1,\"ID Único OK\",\"ID repetido\"))","v":""}]
[null,null,null,null,null,null,null,"","",{"$f":"IF(B989=\"\",\"\",IF(COUNTIF($B$4:$B2258,B989)=1,\"ID Único OK\",\"ID repetido\"))","v":""}]
[null,null,null,null,null,null,null,"","",{"$f":"IF(B990=\"\",\"\",IF(COUNTIF($B$4:$B2259,B990)=1,\"ID Único OK\",\"ID repetido\"))","v":""}]
[null,null,null,null,null,null,null,"","",{"$f":"IF(B991=\"\",\"\",IF(COUNTIF($B$4:$B2260,B991)=1,\"ID Único OK\",\"ID repetido\"))","v":""}]
[null,null,null,null,null,null,null,"","",{"$f":"IF(B992=\"\",\"\",IF(COUNTIF($B$4:$B2261,B992)=1,\"ID Único OK\",\"ID repetido\"))","v":""}]
[null,null,null,null,null,null,null,"","",{"$f":"IF(B993=\"\",\"\",IF(COUNTIF($B$4:$B2262,B993)=1,\"ID Único OK\",\"ID repetido\"))","v":""}]
[null,null,null,null,null,null,null,"","",{"$f":"IF(B994=\"\",\"\",IF(COUNTIF($B$4:$B2263,B994)=1,\"ID Único OK\",\"ID repetido\"))","v":""}]
[null,null,null,null,null,null,null,"","",{"$f":"IF(B995=\"\",\"\",IF(COUNTIF($B$4:$B2264,B995)=1,\"ID Único OK\",\"ID repetido\"))","v":""}]
[null,null,null,null,null,null,null,"","",{"$f":"IF(B996=\"\",\"\",IF(COUNTIF($B$4:$B2265,B996)=1,\"ID Único OK\",\"ID repetido\"))","v":""}]
[null,null,null,null,null,null,null,"","",{"$f":"IF(B997=\"\",\"\",IF(COUNTIF($B$4:$B2266,B997)=1,\"ID Único OK\",\"ID repetido\"))","v":""}]
[null,null,null,null,null,null,null,"","",{"$f":"IF(B998=\"\",\"\",IF(COUNTIF($B$4:$B2267,B998)=1,\"ID Único OK\",\"ID repetido\"))","v":""}]
[null,null,null,null,null,null,null,"","",{"$f":"IF(B999=\"\",\"\",IF(COUNTIF($B$4:$B2268,B999)=1,\"ID Único OK\",\"ID repetido\"))","v":""}]
[null,null,null,null,null,null,null,"","",{"$f":"IF(B1000=\"\",\"\",IF(COUNTIF($B$4:$B2269,B1000)=1,\"ID Único OK\",\"ID repetido\"))","v":""}]
[null,null,null,null,null,null,null,"","",{"$f":"IF(B1001=\"\",\"\",IF(COUNTIF($B$4:$B2270,B1001)=1,\"ID Único OK\",\"ID repetido\"))","v":""}]
[null,null,null,null,null,null,null,"","",{"$f":"IF(B1002=\"\",\"\",IF(COUNTIF($B$4:$B2271,B1002)=1,\"ID Único OK\",\"ID repetido\"))","v":""}]
[null,null,null,null,null,null,null,"","",{"$f":"IF(B1003=\"\",\"\",IF(COUNTIF($B$4:$B2272,B1003)=1,\"ID Único OK\",\"ID repetido\"))","v":""}]
[null,null,null,null,null,null,null,"","",{"$f":"IF(B1004=\"\",\"\",IF(COUNTIF($B$4:$B2273,B1004)=1,\"ID Único OK\",\"ID repetido\"))","v":""}]
[null,null,null,null,null,null,null,"","",{"$f":"IF(B1005=\"\",\"\",IF(COUNTIF($B$4:$B2274,B1005)=1,\"ID Único OK\",\"ID repetido\"))","v":""}]
[null,null,null,null,null,null,null,"","",{"$f":"IF(B1006=\"\",\"\",IF(COUNTIF($B$4:$B2275,B1006)=1,\"ID Único OK\",\"ID repetido\"))","v":""}]
[null,null,null,null,null,null,null,"","",{"$f":"IF(B1007=\"\",\"\",IF(COUNTIF($B$4:$B2276,B1007)=1,\"ID Único OK\",\"ID repetido\"))","v":""}]
[null,null,null,null,null,null,null,"","",{"$f":"IF(B1008=\"\",\"\",IF(COUNTIF($B$4:$B2277,B1008)=1,\"ID Único OK\",\"ID repetido\"))","v":""}]
[null,null,null,null,null,null,null,"","",{"$f":"IF(B1009=\"\",\"\",IF(COUNTIF($B$4:$B2278,B1009)=1,\"ID Único OK\",\"ID repetido\"))","v":""}]
[null,null,null,null,null,null,null,"","",{"$f":"IF(B1010=\"\",\"\",IF(COUNTIF($B$4:$B2279,B1010)=1,\"ID Único OK\",\"ID repetido\"))","v":""}]
[null,null,null,null,null,null,null,"","",{"$f":"IF(B1011=\"\",\"\",IF(COUNTIF($B$4:$B2280,B1011)=1,\"ID Único OK\",\"ID repetido\"))","v":""}]
[null,null,null,null,null,null,null,"","",{"$f":"IF(B1012=\"\",\"\",IF(COUNTIF($B$4:$B2281,B1012)=1,\"ID Único OK\",\"ID repetido\"))","v":""}]
[null,null,null,null,null,null,null,"","",{"$f":"IF(B1013=\"\",\"\",IF(COUNTIF($B$4:$B2282,B1013)=1,\"ID Único OK\",\"ID repetido\"))","v":""}]
[null,null,null,null,null,null,null,"","",{"$f":"IF(B1014=\"\",\"\",IF(COUNTIF($B$4:$B2283,B1014)=1,\"ID Único OK\",\"ID repetido\"))","v":""}]
[null,null,null,null,null,null,null,"","",{"$f":"IF(B1015=\"\",\"\",IF(COUNTIF($B$4:$B2284,B1015)=1,\"ID Único OK\",\"ID repetido\"))","v":""}]
[null,null,null,null,null,null,null,"","",{"$f":"IF(B1016=\"\",\"\",IF(COUNTIF($B$4:$B2285,B1016)=1,\"ID Único OK\",\"ID repetido\"))","v":""}]
[null,null,null,null,null,null,null,"","",{"$f":"IF(B1017=\"\",\"\",IF(COUNTIF($B$4:$B2286,B1017)=1,\"ID Único OK\",\"ID repetido\"))","v":""}]
[null,null,null,null,null,null,null,"","",{"$f":"IF(B1018=\"\",\"\",IF(COUNTIF($B$4:$B2287,B1018)=1,\"ID Único OK\",\"ID repetido\"))","v":""}]
[null,null,null,null,null,null,null,"","",{"$f":"IF(B1019=\"\",\"\",IF(COUNTIF($B$4:$B2288,B1019)=1,\"ID Único OK\",\"ID repetido\"))","v":""}]
[null,null,null,null,null,null,null,"","",{"$f":"IF(B1020=\"\",\"\",IF(COUNTIF($B$4:$B2289,B1020)=1,\"ID Único OK\",\"ID repetido\"))","v":""}]
[null,null,null,null,null,null,null,"","",{"$f":"IF(B1021=\"\",\"\",IF(COUNTIF($B$4:$B2290,B1021)=1,\"ID Único OK\",\"ID repetido\"))","v":""}]
[null,null,null,null,null,null,null,"","",{"$f":"IF(B1022=\"\",\"\",IF(COUNTIF($B$4:$B2291,B1022)=1,\"ID Único OK\",\"ID repetido\"))","v":""}]
[null,null,null,null,null,null,null,"","",{"$f":"IF(B1023=\"\",\"\",IF(COUNTIF($B$4:$B2292,B1023)=1,\"ID Único OK\",\"ID repetido\"))","v":""}]
[null,null,null,null,null,null,null,"","",{"$f":"IF(B1024=\"\",\"\",IF(COUNTIF($B$4:$B2293,B1024)=1,\"ID Único OK\",\"ID repetido\"))","v":""}]
[null,null,null,null,null,null,null,"","",{"$f":"IF(B1025=\"\",\"\",IF(COUNTIF($B$4:$B2294,B1025)=1,\"ID Único OK\",\"ID repetido\"))","v":""}]
[null,null,null,null,null,null,null,"","",{"$f":"IF(B1026=\"\",\"\",IF(COUNTIF($B$4:$B2295,B1026)=1,\"ID Único OK\",\"ID repetido\"))","v":""}]
[null,null,null,null,null,null,null,"","",{"$f":"IF(B1027=\"\",\"\",IF(COUNTIF($B$4:$B2296,B1027)=1,\"ID Único OK\",\"ID repetido\"))","v":""}]
[null,null,null,null,null,null,null,"","",{"$f":"IF(B1028=\"\",\"\",IF(COUNTIF($B$4:$B2297,B1028)=1,\"ID Único OK\",\"ID repetido\"))","v":""}]
[null,null,null,null,null,null,null,{"$f":"IF(F1029=\"\",\"\",IF(B1029=F1029,\"Son iguales\",\"Hay error en los números de solicitud\"))","v":""},{"$f":"IF(E1029=\"\",\"\",IF(E1029<D1029,\"Error entre fechas\",\"Fechas correctas\"))","v":""},{"$f":"IF(B1029=\"\",\"\",IF(COUNTIF($B$4:$B2298,B1029)=1,\"ID Único OK\",\"ID repetido\"))","v":""}]
[null,null,null,null,null,null,null,"","",{"$f":"IF(B1030=\"\",\"\",IF(COUNTIF($B$4:$B2299,B1030)=1,\"ID Único OK\",\"ID repetido\"))","v":""}]
[null,null,null,null,null,null,null,"","",{"$f":"IF(B1031=\"\",\"\",IF(COUNTIF($B$4:$B2300,B1031)=1,\"ID Único OK\",\"ID repetido\"))","v":""}]
[null,null,null,null,null,null,null,"","",{"$f":"IF(B1032=\"\",\"\",IF(COUNTIF($B$4:$B2301,B1032)=1,\"ID Único OK\",\"ID repetido\"))","v":""}]
[null,null,null,null,null,null,null,"","",{"$f":"IF(B1033=\"\",\"\",IF(COUNTIF($B$4:$B2302,B1033)=1,\"ID Único OK\",\"ID repetido\"))","v":""}]
[null,null,null,null,null,null,null,"","",{"$f":"IF(B1034=\"\",\"\",IF(COUNTIF($B$4:$B2303,B1034)=1,\"ID Único OK\",\"ID repetido\"))","v":""}]
[null,null,null,null,null,null,null,"","",{"$f":"IF(B1035=\"\",\"\",IF(COUNTIF($B$4:$B2304,B1035)=1,\"ID Único OK\",\"ID repetido\"))","v":""}]
[null,null,null,null,null,null,null,"","",{"$f":"IF(B1036=\"\",\"\",IF(COUNTIF($B$4:$B2305,B1036)=1,\"ID Único OK\",\"ID repetido\"))","v":""}]
[null,null,null,null,null,null,null,"","",{"$f":"IF(B1037=\"\",\"\",IF(COUNTIF($B$4:$B2306,B1037)=1,\"ID Único OK\",\"ID repetido\"))","v":""}]
[null,null,null,null,null,null,null,"","",{"$f":"IF(B1038=\"\",\"\",IF(COUNTIF($B$4:$B2307,B1038)=1,\"ID Único OK\",\"ID repetido\"))","v":""}]
[null,null,null,null,null,null,null,"","",{"$f":"IF(B1039=\"\",\"\",IF(COUNTIF($B$4:$B2308,B1039)=1,\"ID Único OK\",\"ID repetido\"))","v":""}]
[null,null,null,null,null,null,null,"","",{"$f":"IF(B1040=\"\",\"\",IF(COUNTIF($B$4:$B2309,B1040)=1,\"ID Único OK\",\"ID repetido\"))","v":""}]
[null,null,null,null,null,null,null,"","",{"$f":"IF(B1041=\"\",\"\",IF(COUNTIF($B$4:$B2310,B1041)=1,\"ID Único OK\",\"ID repetido\"))","v":""}]
[null,null,null,null,null,null,null,"","",{"$f":"IF(B1042=\"\",\"\",IF(COUNTIF($B$4:$B2311,B1042)=1,\"ID Único OK\",\"ID repetido\"))","v":""}]
[null,null,null,null,null,null,null,"","",{"$f":"IF(B1043=\"\",\"\",IF(COUNTIF($B$4:$B2312,B1043)=1,\"ID Único OK\",\"ID repetido\"))","v":""}]
[null,null,null,null,null,null,null,"","",{"$f":"IF(B1044=\"\",\"\",IF(COUNTIF($B$4:$B2313,B1044)=1,\"ID Único OK\",\"ID repetido\"))","v":""}]
[null,null,null,null,null,null,null,"","",{"$f":"IF(B1045=\"\",\"\",IF(COUNTIF($B$4:$B2314,B1045)=1,\"ID Único OK\",\"ID repetido\"))","v":""}]
[null,null,null,null,null,null,null,"","",{"$f":"IF(B1046=\"\",\"\",IF(COUNTIF($B$4:$B2315,B1046)=1,\"ID Único OK\",\"ID repetido\"))","v":""}]
[null,null,null,null,null,null,null,"","",{"$f":"IF(B1047=\"\",\"\",IF(COUNTIF($B$4:$B2316,B1047)=1,\"ID Único OK\",\"ID repetido\"))","v":""}]
[null,null,null,null,null,null,null,"","",{"$f":"IF(B1048=\"\",\"\",IF(COUNTIF($B$4:$B2317,B1048)=1,\"ID Único OK\",\"ID repetido\"))","v":""}]
[null,null,null,null,null,null,null,"","",{"$f":"IF(B1049=\"\",\"\",IF(COUNTIF($B$4:$B2318,B1049)=1,\"ID Único OK\",\"ID repetido\"))","v":""}]
[null,null,null,null,null,null,null,"","",{"$f":"IF(B1050=\"\",\"\",IF(COUNTIF($B$4:$B2319,B1050)=1,\"ID Único OK\",\"ID repetido\"))","v":""}]
[null,null,null,null,null,null,null,"","",{"$f":"IF(B1051=\"\",\"\",IF(COUNTIF($B$4:$B2320,B1051)=1,\"ID Único OK\",\"ID repetido\"))","v":""}]
[null,null,null,null,null,null,null,"","",{"$f":"IF(B1052=\"\",\"\",IF(COUNTIF($B$4:$B2321,B1052)=1,\"ID Único OK\",\"ID repetido\"))","v":""}]
[null,null,null,null,null,null,null,"","",{"$f":"IF(B1053=\"\",\"\",IF(COUNTIF($B$4:$B2322,B1053)=1,\"ID Único OK\",\"ID repetido\"))","v":""}]
[null,null,null,null,null,null,null,"","",{"$f":"IF(B1054=\"\",\"\",IF(COUNTIF($B$4:$B2323,B1054)=1,\"ID Único OK\",\"ID repetido\"))","v":""}]
[null,null,null,null,null,null,null,"","",{"$f":"IF(B1055=\"\",\"\",IF(COUNTIF($B$4:$B2324,B1055)=1,\"ID Único OK\",\"ID repetido\"))","v":""}]
[null,null,null,null,null,null,null,"","",{"$f":"IF(B1056=\"\",\"\",IF(COUNTIF($B$4:$B2325,B1056)=1,\"ID Único OK\",\"ID repetido\"))","v":""}]
[null,null,null,null,null,null,null,"","",{"$f":"IF(B1057=\"\",\"\",IF(COUNTIF($B$4:$B2326,B1057)=1,\"ID Único OK\",\"ID repetido\"))","v":""}]
[null,null,null,null,null,null,null,"","",{"$f":"IF(B1058=\"\",\"\",IF(COUNTIF($B$4:$B2327,B1058)=1,\"ID Único OK\",\"ID repetido\"))","v":""}]
[null,null,null,null,null,null,null,"","",{"$f":"IF(B1059=\"\",\"\",IF(COUNTIF($B$4:$B2328,B1059)=1,\"ID Único OK\",\"ID repetido\"))","v":""}]
[null,null,null,null,null,null,null,"","",{"$f":"IF(B1060=\"\",\"\",IF(COUNTIF($B$4:$B2329,B1060)=1,\"ID Único OK\",\"ID repetido\"))","v":""}]
[null,null,null,null,null,null,null,"","",{"$f":"IF(B1061=\"\",\"\",IF(COUNTIF($B$4:$B2330,B1061)=1,\"ID Único OK\",\"ID repetido\"))","v":""}]
[null,null,null,null,null,null,null,"","",{"$f":"IF(B1062=\"\",\"\",IF(COUNTIF($B$4:$B2331,B1062)=1,\"ID Único OK\",\"ID repetido\"))","v":""}]
[null,null,null,null,null,null,null,"","",{"$f":"IF(B1063=\"\",\"\",IF(COUNTIF($B$4:$B2332,B1063)=1,\"ID Único OK\",\"ID repetido\"))","v":""}]
[null,null,null,null,null,null,null,"","",{"$f":"IF(B1064=\"\",\"\",IF(COUNTIF($B$4:$B2333,B1064)=1,\"ID Único OK\",\"ID repetido\"))","v":""}]
[null,null,null,null,null,null,null,"","",{"$f":"IF(B1065=\"\",\"\",IF(COUNTIF($B$4:$B2334,B1065)=1,\"ID Único OK\",\"ID repetido\"))","v":""}]
[null,null,null,null,null,null,null,"","",{"$f":"IF(B1066=\"\",\"\",IF(COUNTIF($B$4:$B2335,B1066)=1,\"ID Único OK\",\"ID repetido\"))","v":""}]
[null,null,null,null,null,null,null,"","",{"$f":"IF(B1067=\"\",\"\",IF(COUNTIF($B$4:$B2336,B1067)=1,\"ID Único OK\",\"ID repetido\"))","v":""}]
[null,null,null,null,null,null,null,"","",{"$f":"IF(B1068=\"\",\"\",IF(COUNTIF($B$4:$B2337,B1068)=1,\"ID Único OK\",\"ID repetido\"))","v":""}]
[null,null,null,null,null,null,null,"","",{"$f":"IF(B1069=\"\",\"\",IF(COUNTIF($B$4:$B2338,B1069)=1,\"ID Único OK\",\"ID repetido\"))","v":""}]
[null,null,null,null,null,null,null,"","",{"$f":"IF(B1070=\"\",\"\",IF(COUNTIF($B$4:$B2339,B1070)=1,\"ID Único OK\",\"ID repetido\"))","v":""}]
[null,null,null,null,null,null,null,"","",{"$f":"IF(B1071=\"\",\"\",IF(COUNTIF($B$4:$B2340,B1071)=1,\"ID Único OK\",\"ID repetido\"))","v":""}]
[null,null,null,null,null,null,null,"","",{"$f":"IF(B1072=\"\",\"\",IF(COUNTIF($B$4:$B2341,B1072)=1,\"ID Único OK\",\"ID repetido\"))","v":""}]
[null,null,null,null,null,null,null,"","",{"$f":"IF(B1073=\"\",\"\",IF(COUNTIF($B$4:$B2342,B1073)=1,\"ID Único OK\",\"ID repetido\"))","v":""}]
[null,null,null,null,null,null,null,"","",{"$f":"IF(B1074=\"\",\"\",IF(COUNTIF($B$4:$B2343,B1074)=1,\"ID Único OK\",\"ID repetido\"))","v":""}]
[null,null,null,null,null,null,null,"","",{"$f":"IF(B1075=\"\",\"\",IF(COUNTIF($B$4:$B2344,B1075)=1,\"ID Único OK\",\"ID repetido\"))","v":""}]
[null,null,null,null,null,null,null,"","",{"$f":"IF(B1076=\"\",\"\",IF(COUNTIF($B$4:$B2345,B1076)=1,\"ID Único OK\",\"ID repetido\"))","v":""}]
[null,null,null,null,null,null,null,"","",{"$f":"IF(B1077=\"\",\"\",IF(COUNTIF($B$4:$B2346,B1077)=1,\"ID Único OK\",\"ID repetido\"))","v":""}]
[null,null,null,null,null,null,null,"","",{"$f":"IF(B1078=\"\",\"\",IF(COUNTIF($B$4:$B2347,B1078)=1,\"ID Único OK\",\"ID repetido\"))","v":""}]
[null,null,null,null,null,null,null,"","",{"$f":"IF(B1079=\"\",\"\",IF(COUNTIF($B$4:$B2348,B1079)=1,\"ID Único OK\",\"ID repetido\"))","v":""}]
[null,null,null,null,null,null,null,"","",{"$f":"IF(B1080=\"\",\"\",IF(COUNTIF($B$4:$B2349,B1080)=1,\"ID Único OK\",\"ID repetido\"))","v":""}]
[null,null,null,null,null,null,null,"","",{"$f":"IF(B1081=\"\",\"\",IF(COUNTIF($B$4:$B2350,B1081)=1,\"ID Único OK\",\"ID repetido\"))","v":""}]
[null,null,null,null,null,null,null,"","",{"$f":"IF(B1082=\"\",\"\",IF(COUNTIF($B$4:$B2351,B1082)=1,\"ID Único OK\",\"ID repetido\"))","v":""}]
[null,null,null,null,null,null,null,"","",{"$f":"IF(B1083=\"\",\"\",IF(COUNTIF($B$4:$B2352,B1083)=1,\"ID Único OK\",\"ID repetido\"))","v":""}]
[null,null,null,null,null,null,null,"","",{"$f":"IF(B1084=\"\",\"\",IF(COUNTIF($B$4:$B2353,B1084)=1,\"ID Único OK\",\"ID repetido\"))","v":""}]
[null,null,null,null,null,null,null,"","",{"$f":"IF(B1085=\"\",\"\",IF(COUNTIF($B$4:$B2354,B1085)=1,\"ID Único OK\",\"ID repetido\"))","v":""}]
[null,null,null,null,null,null,null,"","",{"$f":"IF(B1086=\"\",\"\",IF(COUNTIF($B$4:$B2355,B1086)=1,\"ID Único OK\",\"ID repetido\"))","v":""}]
[null,null,null,null,null,null,null,"","",{"$f":"IF(B1087=\"\",\"\",IF(COUNTIF($B$4:$B2356,B1087)=1,\"ID Único OK\",\"ID repetido\"))","v":""}]
[null,null,null,null,null,null,null,"","",{"$f":"IF(B1088=\"\",\"\",IF(COUNTIF($B$4:$B2357,B1088)=1,\"ID Único OK\",\"ID repetido\"))","v":""}]
[null,null,null,null,null,null,null,"","",{"$f":"IF(B1089=\"\",\"\",IF(COUNTIF($B$4:$B2358,B1089)=1,\"ID Único OK\",\"ID repetido\"))","v":""}]
[null,null,null,null,null,null,null,"","",{"$f":"IF(B1090=\"\",\"\",IF(COUNTIF($B$4:$B2359,B1090)=1,\"ID Único OK\",\"ID repetido\"))","v":""}]
[null,null,null,null,null,null,null,"","",{"$f":"IF(B1091=\"\",\"\",IF(COUNTIF($B$4:$B2360,B1091)=1,\"ID Único OK\",\"ID repetido\"))","v":""}]
[null,null,null,null,null,null,null,"","",{"$f":"IF(B1092=\"\",\"\",IF(COUNTIF($B$4:$B2361,B1092)=1,\"ID Único OK\",\"ID repetido\"))","v":""}]
[null,null,null,null,null,null,null,{"$f":"IF(F1093=\"\",\"\",IF(B1093=F1093,\"Son iguales\",\"Hay error en los números de solicitud\"))","v":""},{"$f":"IF(E1093=\"\",\"\",IF(E1093<D1093,\"Error entre fechas\",\"Fechas correctas\"))","v":""},{"$f":"IF(B1093=\"\",\"\",IF(COUNTIF($B$4:$B2362,B1093)=1,\"ID Único OK\",\"ID repetido\"))","v":""}]
[null,null,null,null,null,null,null,"","",{"$f":"IF(B1094=\"\",\"\",IF(COUNTIF($B$4:$B2363,B1094)=1,\"ID Único OK\",\"ID repetido\"))","v":""}]
[null,null,null,null,null,null,null,"","",{"$f":"IF(B1095=\"\",\"\",IF(COUNTIF($B$4:$B2364,B1095)=1,\"ID Único OK\",\"ID repetido\"))","v":""}]
[null,null,null,null,null,null,null,"","",{"$f":"IF(B1096=\"\",\"\",IF(COUNTIF($B$4:$B2365,B1096)=1,\"ID Único OK\",\"ID repetido\"))","v":""}]
[null,null,null,null,null,null,null,"","",{"$f":"IF(B1097=\"\",\"\",IF(COUNTIF($B$4:$B2366,B1097)=1,\"ID Único OK\",\"ID repetido\"))","v":""}]
[null,null,null,null,null,null,null,"","",{"$f":"IF(B1098=\"\",\"\",IF(COUNTIF($B$4:$B2367,B1098)=1,\"ID Único OK\",\"ID repetido\"))","v":""}]
[null,null,null,null,null,null,null,"","",{"$f":"IF(B1099=\"\",\"\",IF(COUNTIF($B$4:$B2368,B1099)=1,\"ID Único OK\",\"ID repetido\"))","v":""}]
[null,null,null,null,null,null,null,"","",{"$f":"IF(B1100=\"\",\"\",IF(COUNTIF($B$4:$B2369,B1100)=1,\"ID Único OK\",\"ID repetido\"))","v":""}]
[null,null,null,null,null,null,null,"","",{"$f":"IF(B1101=\"\",\"\",IF(COUNTIF($B$4:$B2370,B1101)=1,\"ID Único OK\",\"ID repetido\"))","v":""}]
[null,null,null,null,null,null,null,"","",{"$f":"IF(B1102=\"\",\"\",IF(COUNTIF($B$4:$B2371,B1102)=1,\"ID Único OK\",\"ID repetido\"))","v":""}]
[null,null,null,null,null,null,null,"","",{"$f":"IF(B1103=\"\",\"\",IF(COUNTIF($B$4:$B2372,B1103)=1,\"ID Único OK\",\"ID repetido\"))","v":""}]
[null,null,null,null,null,null,null,"","",{"$f":"IF(B1104=\"\",\"\",IF(COUNTIF($B$4:$B2373,B1104)=1,\"ID Único OK\",\"ID repetido\"))","v":""}]
[null,null,null,null,null,null,null,"","",{"$f":"IF(B1105=\"\",\"\",IF(COUNTIF($B$4:$B2374,B1105)=1,\"ID Único OK\",\"ID repetido\"))","v":""}]
[null,null,null,null,null,null,null,"","",{"$f":"IF(B1106=\"\",\"\",IF(COUNTIF($B$4:$B2375,B1106)=1,\"ID Único OK\",\"ID repetido\"))","v":""}]
[null,null,null,null,null,null,null,"","",{"$f":"IF(B1107=\"\",\"\",IF(COUNTIF($B$4:$B2376,B1107)=1,\"ID Único OK\",\"ID repetido\"))","v":""}]
[null,null,null,null,null,null,null,"","",{"$f":"IF(B1108=\"\",\"\",IF(COUNTIF($B$4:$B2377,B1108)=1,\"ID Único OK\",\"ID repetido\"))","v":""}]
[null,null,null,null,null,null,null,"","",{"$f":"IF(B1109=\"\",\"\",IF(COUNTIF($B$4:$B2378,B1109)=1,\"ID Único OK\",\"ID repetido\"))","v":""}]
[null,null,null,null,null,null,null,"","",{"$f":"IF(B1110=\"\",\"\",IF(COUNTIF($B$4:$B2379,B1110)=1,\"ID Único OK\",\"ID repetido\"))","v":""}]
[null,null,null,null,null,null,null,"","",{"$f":"IF(B1111=\"\",\"\",IF(COUNTIF($B$4:$B2380,B1111)=1,\"ID Único OK\",\"ID repetido\"))","v":""}]
[null,null,null,null,null,null,null,"","",{"$f":"IF(B1112=\"\",\"\",IF(COUNTIF($B$4:$B2381,B1112)=1,\"ID Único OK\",\"ID repetido\"))","v":""}]
[null,null,null,null,null,null,null,"","",{"$f":"IF(B1113=\"\",\"\",IF(COUNTIF($B$4:$B2382,B1113)=1,\"ID Único OK\",\"ID repetido\"))","v":""}]
[null,null,null,null,null,null,null,"","",{"$f":"IF(B1114=\"\",\"\",IF(COUNTIF($B$4:$B2383,B1114)=1,\"ID Único OK\",\"ID repetido\"))","v":""}]
[null,null,null,null,null,null,null,"","",{"$f":"IF(B1115=\"\",\"\",IF(COUNTIF($B$4:$B2384,B1115)=1,\"ID Único OK\",\"ID repetido\"))","v":""}]
[null,null,null,null,null,null,null,"","",{"$f":"IF(B1116=\"\",\"\",IF(COUNTIF($B$4:$B2385,B1116)=1,\"ID Único OK\",\"ID repetido\"))","v":""}]
[null,null,null,null,null,null,null,"","",{"$f":"IF(B1117=\"\",\"\",IF(COUNTIF($B$4:$B2386,B1117)=1,\"ID Único OK\",\"ID repetido\"))","v":""}]
[null,null,null,null,null,null,null,"","",{"$f":"IF(B1118=\"\",\"\",IF(COUNTIF($B$4:$B2387,B1118)=1,\"ID Único OK\",\"ID repetido\"))","v":""}]
[null,null,null,null,null,null,null,"","",{"$f":"IF(B1119=\"\",\"\",IF(COUNTIF($B$4:$B2388,B1119)=1,\"ID Único OK\",\"ID repetido\"))","v":""}]
[null,null,null,null,null,null,null,"","",{"$f":"IF(B1120=\"\",\"\",IF(COUNTIF($B$4:$B2389,B1120)=1,\"ID Único OK\",\"ID repetido\"))","v":""}]
[null,null,null,null,null,null,null,"","",{"$f":"IF(B1121=\"\",\"\",IF(COUNTIF($B$4:$B2390,B1121)=1,\"ID Único OK\",\"ID repetido\"))","v":""}]
[null,null,null,null,null,null,null,"","",{"$f":"IF(B1122=\"\",\"\",IF(COUNTIF($B$4:$B2391,B1122)=1,\"ID Único OK\",\"ID repetido\"))","v":""}]
[null,null,null,null,null,null,null,"","",{"$f":"IF(B1123=\"\",\"\",IF(COUNTIF($B$4:$B2392,B1123)=1,\"ID Único OK\",\"ID repetido\"))","v":""}]
[null,null,null,null,null,null,null,"","",{"$f":"IF(B1124=\"\",\"\",IF(COUNTIF($B$4:$B2393,B1124)=1,\"ID Único OK\",\"ID repetido\"))","v":""}]
[null,null,null,null,null,null,null,"","",{"$f":"IF(B1125=\"\",\"\",IF(COUNTIF($B$4:$B2394,B1125)=1,\"ID Único OK\",\"ID repetido\"))","v":""}]
[null,null,null,null,null,null,null,"","",{"$f":"IF(B1126=\"\",\"\",IF(COUNTIF($B$4:$B2395,B1126)=1,\"ID Único OK\",\"ID repetido\"))","v":""}]
[null,null,null,null,null,null,null,"","",{"$f":"IF(B1127=\"\",\"\",IF(COUNTIF($B$4:$B2396,B1127)=1,\"ID Único OK\",\"ID repetido\"))","v":""}]
[null,null,null,null,null,null,null,"","",{"$f":"IF(B1128=\"\",\"\",IF(COUNTIF($B$4:$B2397,B1128)=1,\"ID Único OK\",\"ID repetido\"))","v":""}]
[null,null,null,null,null,null,null,"","",{"$f":"IF(B1129=\"\",\"\",IF(COUNTIF($B$4:$B2398,B1129)=1,\"ID Único OK\",\"ID repetido\"))","v":""}]
[null,null,null,null,null,null,null,"","",{"$f":"IF(B1130=\"\",\"\",IF(COUNTIF($B$4:$B2399,B1130)=1,\"ID Único OK\",\"ID repetido\"))","v":""}]
[null,null,null,null,null,null,null,"","",{"$f":"IF(B1131=\"\",\"\",IF(COUNTIF($B$4:$B2400,B1131)=1,\"ID Único OK\",\"ID repetido\"))","v":""}]
[null,null,null,null,null,null,null,"","",{"$f":"IF(B1132=\"\",\"\",IF(COUNTIF($B$4:$B2401,B1132)=1,\"ID Único OK\",\"ID repetido\"))","v":""}]
[null,null,null,null,null,null,null,"","",{"$f":"IF(B1133=\"\",\"\",IF(COUNTIF($B$4:$B2402,B1133)=1,\"ID Único OK\",\"ID repetido\"))","v":""}]
[null,null,null,null,null,null,null,"","",{"$f":"IF(B1134=\"\",\"\",IF(COUNTIF($B$4:$B2403,B1134)=1,\"ID Único OK\",\"ID repetido\"))","v":""}]
[null,null,null,null,null,null,null,"","",{"$f":"IF(B1135=\"\",\"\",IF(COUNTIF($B$4:$B2404,B1135)=1,\"ID Único OK\",\"ID repetido\"))","v":""}]
[null,null,null,null,null,null,null,"","",{"$f":"IF(B1136=\"\",\"\",IF(COUNTIF($B$4:$B2405,B1136)=1,\"ID Único OK\",\"ID repetido\"))","v":""}]
[null,null,null,null,null,null,null,"","",{"$f":"IF(B1137=\"\",\"\",IF(COUNTIF($B$4:$B2406,B1137)=1,\"ID Único OK\",\"ID repetido\"))","v":""}]
[null,null,null,null,null,null,null,"","",{"$f":"IF(B1138=\"\",\"\",IF(COUNTIF($B$4:$B2407,B1138)=1,\"ID Único OK\",\"ID repetido\"))","v":""}]
[null,null,null,null,null,null,null,"","",{"$f":"IF(B1139=\"\",\"\",IF(COUNTIF($B$4:$B2408,B1139)=1,\"ID Único OK\",\"ID repetido\"))","v":""}]
[null,null,null,null,null,null,null,"","",{"$f":"IF(B1140=\"\",\"\",IF(COUNTIF($B$4:$B2409,B1140)=1,\"ID Único OK\",\"ID repetido\"))","v":""}]
[null,null,null,null,null,null,null,"","",{"$f":"IF(B1141=\"\",\"\",IF(COUNTIF($B$4:$B2410,B1141)=1,\"ID Único OK\",\"ID repetido\"))","v":""}]
[null,null,null,null,null,null,null,"","",{"$f":"IF(B1142=\"\",\"\",IF(COUNTIF($B$4:$B2411,B1142)=1,\"ID Único OK\",\"ID repetido\"))","v":""}]
[null,null,null,null,null,null,null,"","",{"$f":"IF(B1143=\"\",\"\",IF(COUNTIF($B$4:$B2412,B1143)=1,\"ID Único OK\",\"ID repetido\"))","v":""}]
[null,null,null,null,null,null,null,"","",{"$f":"IF(B1144=\"\",\"\",IF(COUNTIF($B$4:$B2413,B1144)=1,\"ID Único OK\",\"ID repetido\"))","v":""}]
[null,null,null,null,null,null,null,"","",{"$f":"IF(B1145=\"\",\"\",IF(COUNTIF($B$4:$B2414,B1145)=1,\"ID Único OK\",\"ID repetido\"))","v":""}]
[null,null,null,null,null,null,null,"","",{"$f":"IF(B1146=\"\",\"\",IF(COUNTIF($B$4:$B2415,B1146)=1,\"ID Único OK\",\"ID repetido\"))","v":""}]
[null,null,null,null,null,null,null,"","",{"$f":"IF(B1147=\"\",\"\",IF(COUNTIF($B$4:$B2416,B1147)=1,\"ID Único OK\",\"ID repetido\"))","v":""}]
[null,null,null,null,null,null,null,"","",{"$f":"IF(B1148=\"\",\"\",IF(COUNTIF($B$4:$B2417,B1148)=1,\"ID Único OK\",\"ID repetido\"))","v":""}]
[null,null,null,null,null,null,null,"","",{"$f":"IF(B1149=\"\",\"\",IF(COUNTIF($B$4:$B2418,B1149)=1,\"ID Único OK\",\"ID repetido\"))","v":""}]
[null,null,null,null,null,null,null,"","",{"$f":"IF(B1150=\"\",\"\",IF(COUNTIF($B$4:$B2419,B1150)=1,\"ID Único OK\",\"ID repetido\"))","v":""}]
[null,null,null,null,null,null,null,"","",{"$f":"IF(B1151=\"\",\"\",IF(COUNTIF($B$4:$B2420,B1151)=1,\"ID Único OK\",\"ID repetido\"))","v":""}]
[null,null,null,null,null,null,null,"","",{"$f":"IF(B1152=\"\",\"\",IF(COUNTIF($B$4:$B2421,B1152)=1,\"ID Único OK\",\"ID repetido\"))","v":""}]
[null,null,null,null,null,null,null,"","",{"$f":"IF(B1153=\"\",\"\",IF(COUNTIF($B$4:$B2422,B1153)=1,\"ID Único OK\",\"ID repetido\"))","v":""}]
[null,null,null,null,null,null,null,"","",{"$f":"IF(B1154=\"\",\"\",IF(COUNTIF($B$4:$B2423,B1154)=1,\"ID Único OK\",\"ID repetido\"))","v":""}]
[null,null,null,null,null,null,null,"","",{"$f":"IF(B1155=\"\",\"\",IF(COUNTIF($B$4:$B2424,B1155)=1,\"ID Único OK\",\"ID repetido\"))","v":""}]
[null,null,null,null,null,null,null,"","",{"$f":"IF(B1156=\"\",\"\",IF(COUNTIF($B$4:$B2425,B1156)=1,\"ID Único OK\",\"ID repetido\"))","v":""}]
[null,null,null,null,null,null,null,{"$f":"IF(F1157=\"\",\"\",IF(B1157=F1157,\"Son iguales\",\"Hay error en los números de solicitud\"))","v":""},{"$f":"IF(E1157=\"\",\"\",IF(E1157<D1157,\"Error entre fechas\",\"Fechas correctas\"))","v":""},{"$f":"IF(B1157=\"\",\"\",IF(COUNTIF($B$4:$B2426,B1157)=1,\"ID Único OK\",\"ID repetido\"))","v":""}]
[null,null,null,null,null,null,null,"","",{"$f":"IF(B1158=\"\",\"\",IF(COUNTIF($B$4:$B2427,B1158)=1,\"ID Único OK\",\"ID repetido\"))","v":""}]
[null,null,null,null,null,null,null,"","",{"$f":"IF(B1159=\"\",\"\",IF(COUNTIF($B$4:$B2428,B1159)=1,\"ID Único OK\",\"ID repetido\"))","v":""}]
[null,null,null,null,null,null,null,"","",{"$f":"IF(B1160=\"\",\"\",IF(COUNTIF($B$4:$B2429,B1160)=1,\"ID Único OK\",\"ID repetido\"))","v":""}]
[null,null,null,null,null,null,null,"","",{"$f":"IF(B1161=\"\",\"\",IF(COUNTIF($B$4:$B2430,B1161)=1,\"ID Único OK\",\"ID repetido\"))","v":""}]
[null,null,null,null,null,null,null,"","",{"$f":"IF(B1162=\"\",\"\",IF(COUNTIF($B$4:$B2431,B1162)=1,\"ID Único OK\",\"ID repetido\"))","v":""}]
[null,null,null,null,null,null,null,"","",{"$f":"IF(B1163=\"\",\"\",IF(COUNTIF($B$4:$B2432,B1163)=1,\"ID Único OK\",\"ID repetido\"))","v":""}]
[null,null,null,null,null,null,null,"","",{"$f":"IF(B1164=\"\",\"\",IF(COUNTIF($B$4:$B2433,B1164)=1,\"ID Único OK\",\"ID repetido\"))","v":""}]
[null,null,null,null,null,null,null,"","",{"$f":"IF(B1165=\"\",\"\",IF(COUNTIF($B$4:$B2434,B1165)=1,\"ID Único OK\",\"ID repetido\"))","v":""}]
[null,null,null,null,null,null,null,"","",{"$f":"IF(B1166=\"\",\"\",IF(COUNTIF($B$4:$B2435,B1166)=1,\"ID Único OK\",\"ID repetido\"))","v":""}]
[null,null,null,null,null,null,null,"","",{"$f":"IF(B1167=\"\",\"\",IF(COUNTIF($B$4:$B2436,B1167)=1,\"ID Único OK\",\"ID repetido\"))","v":""}]
[null,null,null,null,null,null,null,"","",{"$f":"IF(B1168=\"\",\"\",IF(COUNTIF($B$4:$B2437,B1168)=1,\"ID Único OK\",\"ID repetido\"))","v":""}]
[null,null,null,null,null,null,null,"","",{"$f":"IF(B1169=\"\",\"\",IF(COUNTIF($B$4:$B2438,B1169)=1,\"ID Único OK\",\"ID repetido\"))","v":""}]
[null,null,null,null,null,null,null,"","",{"$f":"IF(B1170=\"\",\"\",IF(COUNTIF($B$4:$B2439,B1170)=1,\"ID Único OK\",\"ID repetido\"))","v":""}]
[null,null,null,null,null,null,null,"","",{"$f":"IF(B1171=\"\",\"\",IF(COUNTIF($B$4:$B2440,B1171)=1,\"ID Único OK\",\"ID repetido\"))","v":""}]
[null,null,null,null,null,null,null,"","",{"$f":"IF(B1172=\"\",\"\",IF(COUNTIF($B$4:$B2441,B1172)=1,\"ID Único OK\",\"ID repetido\"))","v":""}]
[null,null,null,null,null,null,null,"","",{"$f":"IF(B1173=\"\",\"\",IF(COUNTIF($B$4:$B2442,B1173)=1,\"ID Único OK\",\"ID repetido\"))","v":""}]
[null,null,null,null,null,null,null,"","",{"$f":"IF(B1174=\"\",\"\",IF(COUNTIF($B$4:$B2443,B1174)=1,\"ID Único OK\",\"ID repetido\"))","v":""}]
[null,null,null,null,null,null,null,"","",{"$f":"IF(B1175=\"\",\"\",IF(COUNTIF($B$4:$B2444,B1175)=1,\"ID Único OK\",\"ID repetido\"))","v":""}]
[null,null,null,null,null,null,null,"","",{"$f":"IF(B1176=\"\",\"\",IF(COUNTIF($B$4:$B2445,B1176)=1,\"ID Único OK\",\"ID repetido\"))","v":""}]
[null,null,null,null,null,null,null,"","",{"$f":"IF(B1177=\"\",\"\",IF(COUNTIF($B$4:$B2446,B1177)=1,\"ID Único OK\",\"ID repetido\"))","v":""}]
[null,null,null,null,null,null,null,"","",{"$f":"IF(B1178=\"\",\"\",IF(COUNTIF($B$4:$B2447,B1178)=1,\"ID Único OK\",\"ID repetido\"))","v":""}]
[null,null,null,null,null,null,null,"","",{"$f":"IF(B1179=\"\",\"\",IF(COUNTIF($B$4:$B2448,B1179)=1,\"ID Único OK\",\"ID repetido\"))","v":""}]
[null,null,null,null,null,null,null,"","",{"$f":"IF(B1180=\"\",\"\",IF(COUNTIF($B$4:$B2449,B1180)=1,\"ID Único OK\",\"ID repetido\"))","v":""}]
[null,null,null,null,null,null,null,"","",{"$f":"IF(B1181=\"\",\"\",IF(COUNTIF($B$4:$B2450,B1181)=1,\"ID Único OK\",\"ID repetido\"))","v":""}]
[null,null,null,null,null,null,null,"","",{"$f":"IF(B1182=\"\",\"\",IF(COUNTIF($B$4:$B2451,B1182)=1,\"ID Único OK\",\"ID repetido\"))","v":""}]
[null,null,null,null,null,null,null,"","",{"$f":"IF(B1183=\"\",\"\",IF(COUNTIF($B$4:$B2452,B1183)=1,\"ID Único OK\",\"ID repetido\"))","v":""}]
[null,null,null,null,null,null,null,"","",{"$f":"IF(B1184=\"\",\"\",IF(COUNTIF($B$4:$B2453,B1184)=1,\"ID Único OK\",\"ID repetido\"))","v":""}]
[null,null,null,null,null,null,null,"","",{"$f":"IF(B1185=\"\",\"\",IF(COUNTIF($B$4:$B2454,B1185)=1,\"ID Único OK\",\"ID repetido\"))","v":""}]
[null,null,null,null,null,null,null,"","",{"$f":"IF(B1186=\"\",\"\",IF(COUNTIF($B$4:$B2455,B1186)=1,\"ID Único OK\",\"ID repetido\"))","v":""}]
[null,null,null,null,null,null,null,"","",{"$f":"IF(B1187=\"\",\"\",IF(COUNTIF($B$4:$B2456,B1187)=1,\"ID Único OK\",\"ID repetido\"))","v":""}]
[null,null,null,null,null,null,null,"","",{"$f":"IF(B1188=\"\",\"\",IF(COUNTIF($B$4:$B2457,B1188)=1,\"ID Único OK\",\"ID repetido\"))","v":""}]
[null,null,null,null,null,null,null,"","",{"$f":"IF(B1189=\"\",\"\",IF(COUNTIF($B$4:$B2458,B1189)=1,\"ID Único OK\",\"ID repetido\"))","v":""}]
[null,null,null,null,null,null,null,"","",{"$f":"IF(B1190=\"\",\"\",IF(COUNTIF($B$4:$B2459,B1190)=1,\"ID Único OK\",\"ID repetido\"))","v":""}]
[null,null,null,null,null,null,null,"","",{"$f":"IF(B1191=\"\",\"\",IF(COUNTIF($B$4:$B2460,B1191)=1,\"ID Único OK\",\"ID repetido\"))","v":""}]
[null,null,null,null,null,null,null,"","",{"$f":"IF(B1192=\"\",\"\",IF(COUNTIF($B$4:$B2461,B1192)=1,\"ID Único OK\",\"ID repetido\"))","v":""}]
[null,null,null,null,null,null,null,"","",{"$f":"IF(B1193=\"\",\"\",IF(COUNTIF($B$4:$B2462,B1193)=1,\"ID Único OK\",\"ID repetido\"))","v":""}]
[null,null,null,null,null,null,null,"","",{"$f":"IF(B1194=\"\",\"\",IF(COUNTIF($B$4:$B2463,B1194)=1,\"ID Único OK\",\"ID repetido\"))","v":""}]
[null,null,null,null,null,null,null,"","",{"$f":"IF(B1195=\"\",\"\",IF(COUNTIF($B$4:$B2464,B1195)=1,\"ID Único OK\",\"ID repetido\"))","v":""}]
[null,null,null,null,null,null,null,"","",{"$f":"IF(B1196=\"\",\"\",IF(COUNTIF($B$4:$B2465,B1196)=1,\"ID Único OK\",\"ID repetido\"))","v":""}]
[null,null,null,null,null,null,null,"","",{"$f":"IF(B1197=\"\",\"\",IF(COUNTIF($B$4:$B2466,B1197)=1,\"ID Único OK\",\"ID repetido\"))","v":""}]
[null,null,null,null,null,null,null,"","",{"$f":"IF(B1198=\"\",\"\",IF(COUNTIF($B$4:$B2467,B1198)=1,\"ID Único OK\",\"ID repetido\"))","v":""}]
[null,null,null,null,null,null,null,"","",{"$f":"IF(B1199=\"\",\"\",IF(COUNTIF($B$4:$B2468,B1199)=1,\"ID Único OK\",\"ID repetido\"))","v":""}]
[null,null,null,null,null,null,null,"","",{"$f":"IF(B1200=\"\",\"\",IF(COUNTIF($B$4:$B2469,B1200)=1,\"ID Único OK\",\"ID repetido\"))","v":""}]
[null,null,null,null,null,null,null,"","",{"$f":"IF(B1201=\"\",\"\",IF(COUNTIF($B$4:$B2470,B1201)=1,\"ID Único OK\",\"ID repetido\"))","v":""}]
[null,null,null,null,null,null,null,"","",{"$f":"IF(B1202=\"\",\"\",IF(COUNTIF($B$4:$B2471,B1202)=1,\"ID Único OK\",\"ID repetido\"))","v":""}]
[null,null,null,null,null,null,null,"","",{"$f":"IF(B1203=\"\",\"\",IF(COUNTIF($B$4:$B2472,B1203)=1,\"ID Único OK\",\"ID repetido\"))","v":""}]
[null,null,null,null,null,null,null,"","",{"$f":"IF(B1204=\"\",\"\",IF(COUNTIF($B$4:$B2473,B1204)=1,\"ID Único OK\",\"ID repetido\"))","v":""}]
[null,null,null,null,null,null,null,"","",{"$f":"IF(B1205=\"\",\"\",IF(COUNTIF($B$4:$B2474,B1205)=1,\"ID Único OK\",\"ID repetido\"))","v":""}]
[null,null,null,null,null,null,null,"","",{"$f":"IF(B1206=\"\",\"\",IF(COUNTIF($B$4:$B2475,B1206)=1,\"ID Único OK\",\"ID repetido\"))","v":""}]
[null,null,null,null,null,null,null,"","",{"$f":"IF(B1207=\"\",\"\",IF(COUNTIF($B$4:$B2476,B1207)=1,\"ID Único OK\",\"ID repetido\"))","v":""}]
[null,null,null,null,null,null,null,"","",{"$f":"IF(B1208=\"\",\"\",IF(COUNTIF($B$4:$B2477,B1208)=1,\"ID Único OK\",\"ID repetido\"))","v":""}]
[null,null,null,null,null,null,null,"","",{"$f":"IF(B1209=\"\",\"\",IF(COUNTIF($B$4:$B2478,B1209)=1,\"ID Único OK\",\"ID repetido\"))","v":""}]
[null,null,null,null,null,null,null,"","",{"$f":"IF(B1210=\"\",\"\",IF(COUNTIF($B$4:$B2479,B1210)=1,\"ID Único OK\",\"ID repetido\"))","v":""}]
[null,null,null,null,null,null,null,"","",{"$f":"IF(B1211=\"\",\"\",IF(COUNTIF($B$4:$B2480,B1211)=1,\"ID Único OK\",\"ID repetido\"))","v":""}]
[null,null,null,null,null,null,null,"","",{"$f":"IF(B1212=\"\",\"\",IF(COUNTIF($B$4:$B2481,B1212)=1,\"ID Único OK\",\"ID repetido\"))","v":""}]
[null,null,null,null,null,null,null,"","",{"$f":"IF(B1213=\"\",\"\",IF(COUNTIF($B$4:$B2482,B1213)=1,\"ID Único OK\",\"ID repetido\"))","v":""}]
[null,null,null,null,null,null,null,"","",{"$f":"IF(B1214=\"\",\"\",IF(COUNTIF($B$4:$B2483,B1214)=1,\"ID Único OK\",\"ID repetido\"))","v":""}]
[null,null,null,null,null,null,null,"","",{"$f":"IF(B1215=\"\",\"\",IF(COUNTIF($B$4:$B2484,B1215)=1,\"ID Único OK\",\"ID repetido\"))","v":""}]
[null,null,null,null,null,null,null,"","",{"$f":"IF(B1216=\"\",\"\",IF(COUNTIF($B$4:$B2485,B1216)=1,\"ID Único OK\",\"ID repetido\"))","v":""}]
[null,null,null,null,null,null,null,"","",{"$f":"IF(B1217=\"\",\"\",IF(COUNTIF($B$4:$B2486,B1217)=1,\"ID Único OK\",\"ID repetido\"))","v":""}]
[null,null,null,null,null,null,null,"","",{"$f":"IF(B1218=\"\",\"\",IF(COUNTIF($B$4:$B2487,B1218)=1,\"ID Único OK\",\"ID repetido\"))","v":""}]
[null,null,null,null,null,null,null,"","",{"$f":"IF(B1219=\"\",\"\",IF(COUNTIF($B$4:$B2488,B1219)=1,\"ID Único OK\",\"ID repetido\"))","v":""}]
[null,null,null,null,null,null,null,"","",{"$f":"IF(B1220=\"\",\"\",IF(COUNTIF($B$4:$B2489,B1220)=1,\"ID Único OK\",\"ID repetido\"))","v":""}]
[null,null,null,null,null,null,null,{"$f":"IF(F1221=\"\",\"\",IF(B1221=F1221,\"Son iguales\",\"Hay error en los números de solicitud\"))","v":""},{"$f":"IF(E1221=\"\",\"\",IF(E1221<D1221,\"Error entre fechas\",\"Fechas correctas\"))","v":""},{"$f":"IF(B1221=\"\",\"\",IF(COUNTIF($B$4:$B2490,B1221)=1,\"ID Único OK\",\"ID repetido\"))","v":""}]
[null,null,null,null,null,null,null,"","",{"$f":"IF(B1222=\"\",\"\",IF(COUNTIF($B$4:$B2491,B1222)=1,\"ID Único OK\",\"ID repetido\"))","v":""}]
[null,null,null,null,null,null,null,"","",{"$f":"IF(B1223=\"\",\"\",IF(COUNTIF($B$4:$B2492,B1223)=1,\"ID Único OK\",\"ID repetido\"))","v":""}]
[null,null,null,null,null,null,null,"","",{"$f":"IF(B1224=\"\",\"\",IF(COUNTIF($B$4:$B2493,B1224)=1,\"ID Único OK\",\"ID repetido\"))","v":""}]
[null,null,null,null,null,null,null,"","",{"$f":"IF(B1225=\"\",\"\",IF(COUNTIF($B$4:$B2494,B1225)=1,\"ID Único OK\",\"ID repetido\"))","v":""}]
[null,null,null,null,null,null,null,"","",{"$f":"IF(B1226=\"\",\"\",IF(COUNTIF($B$4:$B2495,B1226)=1,\"ID Único OK\",\"ID repetido\"))","v":""}]
[null,null,null,null,null,null,null,"","",{"$f":"IF(B1227=\"\",\"\",IF(COUNTIF($B$4:$B2496,B1227)=1,\"ID Único OK\",\"ID repetido\"))","v":""}]
[null,null,null,null,null,null,null,"","",{"$f":"IF(B1228=\"\",\"\",IF(COUNTIF($B$4:$B2497,B1228)=1,\"ID Único OK\",\"ID repetido\"))","v":""}]
[null,null,null,null,null,null,null,"","",{"$f":"IF(B1229=\"\",\"\",IF(COUNTIF($B$4:$B2498,B1229)=1,\"ID Único OK\",\"ID repetido\"))","v":""}]
[null,null,null,null,null,null,null,"","",{"$f":"IF(B1230=\"\",\"\",IF(COUNTIF($B$4:$B2499,B1230)=1,\"ID Único OK\",\"ID repetido\"))","v":""}]
[null,null,null,null,null,null,null,"","",{"$f":"IF(B1231=\"\",\"\",IF(COUNTIF($B$4:$B2500,B1231)=1,\"ID Único OK\",\"ID repetido\"))","v":""}]
[null,null,null,null,null,null,null,"","",{"$f":"IF(B1232=\"\",\"\",IF(COUNTIF($B$4:$B2501,B1232)=1,\"ID Único OK\",\"ID repetido\"))","v":""}]
[null,null,null,null,null,null,null,"","",{"$f":"IF(B1233=\"\",\"\",IF(COUNTIF($B$4:$B2502,B1233)=1,\"ID Único OK\",\"ID repetido\"))","v":""}]
[null,null,null,null,null,null,null,"","",{"$f":"IF(B1234=\"\",\"\",IF(COUNTIF($B$4:$B2503,B1234)=1,\"ID Único OK\",\"ID repetido\"))","v":""}]
[null,null,null,null,null,null,null,"","",{"$f":"IF(B1235=\"\",\"\",IF(COUNTIF($B$4:$B2504,B1235)=1,\"ID Único OK\",\"ID repetido\"))","v":""}]
[null,null,null,null,null,null,null,"","",{"$f":"IF(B1236=\"\",\"\",IF(COUNTIF($B$4:$B2505,B1236)=1,\"ID Único OK\",\"ID repetido\"))","v":""}]
[null,null,null,null,null,null,null,"","",{"$f":"IF(B1237=\"\",\"\",IF(COUNTIF($B$4:$B2506,B1237)=1,\"ID Único OK\",\"ID repetido\"))","v":""}]
[null,null,null,null,null,null,null,"","",{"$f":"IF(B1238=\"\",\"\",IF(COUNTIF($B$4:$B2507,B1238)=1,\"ID Único OK\",\"ID repetido\"))","v":""}]
[null,null,null,null,null,null,null,"","",{"$f":"IF(B1239=\"\",\"\",IF(COUNTIF($B$4:$B2508,B1239)=1,\"ID Único OK\",\"ID repetido\"))","v":""}]
[null,null,null,null,null,null,null,"","",{"$f":"IF(B1240=\"\",\"\",IF(COUNTIF($B$4:$B2509,B1240)=1,\"ID Único OK\",\"ID repetido\"))","v":""}]
[null,null,null,null,null,null,null,"","",{"$f":"IF(B1241=\"\",\"\",IF(COUNTIF($B$4:$B2510,B1241)=1,\"ID Único OK\",\"ID repetido\"))","v":""}]
[null,null,null,null,null,null,null,"","",{"$f":"IF(B1242=\"\",\"\",IF(COUNTIF($B$4:$B2511,B1242)=1,\"ID Único OK\",\"ID repetido\"))","v":""}]
[null,null,null,null,null,null,null,"","",{"$f":"IF(B1243=\"\",\"\",IF(COUNTIF($B$4:$B2512,B1243)=1,\"ID Único OK\",\"ID repetido\"))","v":""}]
[null,null,null,null,null,null,null,"","",{"$f":"IF(B1244=\"\",\"\",IF(COUNTIF($B$4:$B2513,B1244)=1,\"ID Único OK\",\"ID repetido\"))","v":""}]
[null,null,null,null,null,null,null,"","",{"$f":"IF(B1245=\"\",\"\",IF(COUNTIF($B$4:$B2514,B1245)=1,\"ID Único OK\",\"ID repetido\"))","v":""}]
[null,null,null,null,null,null,null,"","",{"$f":"IF(B1246=\"\",\"\",IF(COUNTIF($B$4:$B2515,B1246)=1,\"ID Único OK\",\"ID repetido\"))","v":""}]
[null,null,null,null,null,null,null,"","",{"$f":"IF(B1247=\"\",\"\",IF(COUNTIF($B$4:$B2516,B1247)=1,\"ID Único OK\",\"ID repetido\"))","v":""}]
[null,null,null,null,null,null,null,"","",{"$f":"IF(B1248=\"\",\"\",IF(COUNTIF($B$4:$B2517,B1248)=1,\"ID Único OK\",\"ID repetido\"))","v":""}]
[null,null,null,null,null,null,null,"","",{"$f":"IF(B1249=\"\",\"\",IF(COUNTIF($B$4:$B2518,B1249)=1,\"ID Único OK\",\"ID repetido\"))","v":""}]
[null,null,null,null,null,null,null,"","",{"$f":"IF(B1250=\"\",\"\",IF(COUNTIF($B$4:$B2519,B1250)=1,\"ID Único OK\",\"ID repetido\"))","v":""}]
[null,null,null,null,null,null,null,"","",{"$f":"IF(B1251=\"\",\"\",IF(COUNTIF($B$4:$B2520,B1251)=1,\"ID Único OK\",\"ID repetido\"))","v":""}]
[null,null,null,null,null,null,null,"","",{"$f":"IF(B1252=\"\",\"\",IF(COUNTIF($B$4:$B2521,B1252)=1,\"ID Único OK\",\"ID repetido\"))","v":""}]
[null,null,null,null,null,null,null,"","",{"$f":"IF(B1253=\"\",\"\",IF(COUNTIF($B$4:$B2522,B1253)=1,\"ID Único OK\",\"ID repetido\"))","v":""}]
[null,null,null,null,null,null,null,"","",{"$f":"IF(B1254=\"\",\"\",IF(COUNTIF($B$4:$B2523,B1254)=1,\"ID Único OK\",\"ID repetido\"))","v":""}]
[null,null,null,null,null,null,null,"","",{"$f":"IF(B1255=\"\",\"\",IF(COUNTIF($B$4:$B2524,B1255)=1,\"ID Único OK\",\"ID repetido\"))","v":""}]
[null,null,null,null,null,null,null,"","",{"$f":"IF(B1256=\"\",\"\",IF(COUNTIF($B$4:$B2525,B1256)=1,\"ID Único OK\",\"ID repetido\"))","v":""}]
[null,null,null,null,null,null,null,"","",{"$f":"IF(B1257=\"\",\"\",IF(COUNTIF($B$4:$B2526,B1257)=1,\"ID Único OK\",\"ID repetido\"))","v":""}]
[null,null,null,null,null,null,null,"","",{"$f":"IF(B1258=\"\",\"\",IF(COUNTIF($B$4:$B2527,B1258)=1,\"ID Único OK\",\"ID repetido\"))","v":""}]
[null,null,null,null,null,null,null,"","",{"$f":"IF(B1259=\"\",\"\",IF(COUNTIF($B$4:$B2528,B1259)=1,\"ID Único OK\",\"ID repetido\"))","v":""}]
[null,null,null,null,null,null,null,"","",{"$f":"IF(B1260=\"\",\"\",IF(COUNTIF($B$4:$B2529,B1260)=1,\"ID Único OK\",\"ID repetido\"))","v":""}]
[null,null,null,null,null,null,null,"","",{"$f":"IF(B1261=\"\",\"\",IF(COUNTIF($B$4:$B2530,B1261)=1,\"ID Único OK\",\"ID repetido\"))","v":""}]
[null,null,null,null,null,null,null,"","",{"$f":"IF(B1262=\"\",\"\",IF(COUNTIF($B$4:$B2531,B1262)=1,\"ID Único OK\",\"ID repetido\"))","v":""}]
[null,null,null,null,null,null,null,"","",{"$f":"IF(B1263=\"\",\"\",IF(COUNTIF($B$4:$B2532,B1263)=1,\"ID Único OK\",\"ID repetido\"))","v":""}]
[null,null,null,null,null,null,null,"","",{"$f":"IF(B1264=\"\",\"\",IF(COUNTIF($B$4:$B2533,B1264)=1,\"ID Único OK\",\"ID repetido\"))","v":""}]
[null,null,null,null,null,null,null,"","",{"$f":"IF(B1265=\"\",\"\",IF(COUNTIF($B$4:$B2534,B1265)=1,\"ID Único OK\",\"ID repetido\"))","v":""}]
[null,null,null,null,null,null,null,"","",{"$f":"IF(B1266=\"\",\"\",IF(COUNTIF($B$4:$B2535,B1266)=1,\"ID Único OK\",\"ID repetido\"))","v":""}]
[null,null,null,null,null,null,null,"","",{"$f":"IF(B1267=\"\",\"\",IF(COUNTIF($B$4:$B2536,B1267)=1,\"ID Único OK\",\"ID repetido\"))","v":""}]
[null,null,null,null,null,null,null,"","",{"$f":"IF(B1268=\"\",\"\",IF(COUNTIF($B$4:$B2537,B1268)=1,\"ID Único OK\",\"ID repetido\"))","v":""}]
[null,null,null,null,null,null,null,"","",{"$f":"IF(B1269=\"\",\"\",IF(COUNTIF($B$4:$B2538,B1269)=1,\"ID Único OK\",\"ID repetido\"))","v":""}]
[null,null,null,null,null,null,null,"","",{"$f":"IF(B1270=\"\",\"\",IF(COUNTIF($B$4:$B2539,B1270)=1,\"ID Único OK\",\"ID repetido\"))","v":""}]
[null,null,null,null,null,null,null,"","",{"$f":"IF(B1271=\"\",\"\",IF(COUNTIF($B$4:$B2540,B1271)=1,\"ID Único OK\",\"ID repetido\"))","v":""}]
[null,null,null,null,null,null,null,"","",{"$f":"IF(B1272=\"\",\"\",IF(COUNTIF($B$4:$B2541,B1272)=1,\"ID Único OK\",\"ID repetido\"))","v":""}]
[null,null,null,null,null,null,null,"","",{"$f":"IF(B1273=\"\",\"\",IF(COUNTIF($B$4:$B2542,B1273)=1,\"ID Único OK\",\"ID repetido\"))","v":""}]
[null,null,null,null,null,null,null,"","",{"$f":"IF(B1274=\"\",\"\",IF(COUNTIF($B$4:$B2543,B1274)=1,\"ID Único OK\",\"ID repetido\"))","v":""}]
[null,null,null,null,null,null,null,"","",{"$f":"IF(B1275=\"\",\"\",IF(COUNTIF($B$4:$B2544,B1275)=1,\"ID Único OK\",\"ID repetido\"))","v":""}]
[null,null,null,null,null,null,null,"","",{"$f":"IF(B1276=\"\",\"\",IF(COUNTIF($B$4:$B2545,B1276)=1,\"ID Único OK\",\"ID repetido\"))","v":""}]
[null,null,null,null,null,null,null,"","",{"$f":"IF(B1277=\"\",\"\",IF(COUNTIF($B$4:$B2546,B1277)=1,\"ID Único OK\",\"ID repetido\"))","v":""}]
[null,null,null,null,null,null,null,"","",{"$f":"IF(B1278=\"\",\"\",IF(COUNTIF($B$4:$B2547,B1278)=1,\"ID Único OK\",\"ID repetido\"))","v":""}]
[null,null,null,null,null,null,null,"","",{"$f":"IF(B1279=\"\",\"\",IF(COUNTIF($B$4:$B2548,B1279)=1,\"ID Único OK\",\"ID repetido\"))","v":""}]
[null,null,null,null,null,null,null,"","",{"$f":"IF(B1280=\"\",\"\",IF(COUNTIF($B$4:$B2549,B1280)=1,\"ID Único OK\",\"ID repetido\"))","v":""}]
[null,null,null,null,null,null,null,"","",{"$f":"IF(B1281=\"\",\"\",IF(COUNTIF($B$4:$B2550,B1281)=1,\"ID Único OK\",\"ID repetido\"))","v":""}]
[null,null,null,null,null,null,null,"","",{"$f":"IF(B1282=\"\",\"\",IF(COUNTIF($B$4:$B2551,B1282)=1,\"ID Único OK\",\"ID repetido\"))","v":""}]
[null,null,null,null,null,null,null,"","",{"$f":"IF(B1283=\"\",\"\",IF(COUNTIF($B$4:$B2552,B1283)=1,\"ID Único OK\",\"ID repetido\"))","v":""}]
[null,null,null,null,null,null,null,"","",{"$f":"IF(B1284=\"\",\"\",IF(COUNTIF($B$4:$B2553,B1284)=1,\"ID Único OK\",\"ID repetido\"))","v":""}]
[null,null,null,null,null,null,null,{"$f":"IF(F1285=\"\",\"\",IF(B1285=F1285,\"Son iguales\",\"Hay error en los números de solicitud\"))","v":""},{"$f":"IF(E1285=\"\",\"\",IF(E1285<D1285,\"Error entre fechas\",\"Fechas correctas\"))","v":""},{"$f":"IF(B1285=\"\",\"\",IF(COUNTIF($B$4:$B2554,B1285)=1,\"ID Único OK\",\"ID repetido\"))","v":""}]
[null,null,null,null,null,null,null,"","",{"$f":"IF(B1286=\"\",\"\",IF(COUNTIF($B$4:$B2555,B1286)=1,\"ID Único OK\",\"ID repetido\"))","v":""}]
[null,null,null,null,null,null,null,"","",{"$f":"IF(B1287=\"\",\"\",IF(COUNTIF($B$4:$B2556,B1287)=1,\"ID Único OK\",\"ID repetido\"))","v":""}]
[null,null,null,null,null,null,null,"","",{"$f":"IF(B1288=\"\",\"\",IF(COUNTIF($B$4:$B2557,B1288)=1,\"ID Único OK\",\"ID repetido\"))","v":""}]
[null,null,null,null,null,null,null,"","",{"$f":"IF(B1289=\"\",\"\",IF(COUNTIF($B$4:$B2558,B1289)=1,\"ID Único OK\",\"ID repetido\"))","v":""}]
[null,null,null,null,null,null,null,"","",{"$f":"IF(B1290=\"\",\"\",IF(COUNTIF($B$4:$B2559,B1290)=1,\"ID Único OK\",\"ID repetido\"))","v":""}]
[null,null,null,null,null,null,null,"","",{"$f":"IF(B1291=\"\",\"\",IF(COUNTIF($B$4:$B2560,B1291)=1,\"ID Único OK\",\"ID repetido\"))","v":""}]
[null,null,null,null,null,null,null,"","",{"$f":"IF(B1292=\"\",\"\",IF(COUNTIF($B$4:$B2561,B1292)=1,\"ID Único OK\",\"ID repetido\"))","v":""}]
[null,null,null,null,null,null,null,"","",{"$f":"IF(B1293=\"\",\"\",IF(COUNTIF($B$4:$B2562,B1293)=1,\"ID Único OK\",\"ID repetido\"))","v":""}]
[null,null,null,null,null,null,null,"","",{"$f":"IF(B1294=\"\",\"\",IF(COUNTIF($B$4:$B2563,B1294)=1,\"ID Único OK\",\"ID repetido\"))","v":""}]
[null,null,null,null,null,null,null,"","",{"$f":"IF(B1295=\"\",\"\",IF(COUNTIF($B$4:$B2564,B1295)=1,\"ID Único OK\",\"ID repetido\"))","v":""}]
[null,null,null,null,null,null,null,"","",{"$f":"IF(B1296=\"\",\"\",IF(COUNTIF($B$4:$B2565,B1296)=1,\"ID Único OK\",\"ID repetido\"))","v":""}]
[null,null,null,null,null,null,null,"","",{"$f":"IF(B1297=\"\",\"\",IF(COUNTIF($B$4:$B2566,B1297)=1,\"ID Único OK\",\"ID repetido\"))","v":""}]
[null,null,null,null,null,null,null,"","",{"$f":"IF(B1298=\"\",\"\",IF(COUNTIF($B$4:$B2567,B1298)=1,\"ID Único OK\",\"ID repetido\"))","v":""}]
[null,null,null,null,null,null,null,"","",{"$f":"IF(B1299=\"\",\"\",IF(COUNTIF($B$4:$B2568,B1299)=1,\"ID Único OK\",\"ID repetido\"))","v":""}]
[null,null,null,null,null,null,null,"","",{"$f":"IF(B1300=\"\",\"\",IF(COUNTIF($B$4:$B2569,B1300)=1,\"ID Único OK\",\"ID repetido\"))","v":""}]
[null,null,null,null,null,null,null,"","",{"$f":"IF(B1301=\"\",\"\",IF(COUNTIF($B$4:$B2570,B1301)=1,\"ID Único OK\",\"ID repetido\"))","v":""}]
[null,null,null,null,null,null,null,"","",{"$f":"IF(B1302=\"\",\"\",IF(COUNTIF($B$4:$B2571,B1302)=1,\"ID Único OK\",\"ID repetido\"))","v":""}]
[null,null,null,null,null,null,null,"","",{"$f":"IF(B1303=\"\",\"\",IF(COUNTIF($B$4:$B2572,B1303)=1,\"ID Único OK\",\"ID repetido\"))","v":""}]
[null,null,null,null,null,null,null,"","",{"$f":"IF(B1304=\"\",\"\",IF(COUNTIF($B$4:$B2573,B1304)=1,\"ID Único OK\",\"ID repetido\"))","v":""}]
[null,null,null,null,null,null,null,"","",{"$f":"IF(B1305=\"\",\"\",IF(COUNTIF($B$4:$B2574,B1305)=1,\"ID Único OK\",\"ID repetido\"))","v":""}]
[null,null,null,null,null,null,null,"","",{"$f":"IF(B1306=\"\",\"\",IF(COUNTIF($B$4:$B2575,B1306)=1,\"ID Único OK\",\"ID repetido\"))","v":""}]
[null,null,null,null,null,null,null,"","",{"$f":"IF(B1307=\"\",\"\",IF(COUNTIF($B$4:$B2576,B1307)=1,\"ID Único OK\",\"ID repetido\"))","v":""}]
[null,null,null,null,null,null,null,"","",{"$f":"IF(B1308=\"\",\"\",IF(COUNTIF($B$4:$B2577,B1308)=1,\"ID Único OK\",\"ID repetido\"))","v":""}]
[null,null,null,null,null,null,null,"","",{"$f":"IF(B1309=\"\",\"\",IF(COUNTIF($B$4:$B2578,B1309)=1,\"ID Único OK\",\"ID repetido\"))","v":""}]
[null,null,null,null,null,null,null,"","",{"$f":"IF(B1310=\"\",\"\",IF(COUNTIF($B$4:$B2579,B1310)=1,\"ID Único OK\",\"ID repetido\"))","v":""}]
[null,null,null,null,null,null,null,"","",{"$f":"IF(B1311=\"\",\"\",IF(COUNTIF($B$4:$B2580,B1311)=1,\"ID Único OK\",\"ID repetido\"))","v":""}]
[null,null,null,null,null,null,null,"","",{"$f":"IF(B1312=\"\",\"\",IF(COUNTIF($B$4:$B2581,B1312)=1,\"ID Único OK\",\"ID repetido\"))","v":""}]
[null,null,null,null,null,null,null,"","",{"$f":"IF(B1313=\"\",\"\",IF(COUNTIF($B$4:$B2582,B1313)=1,\"ID Único OK\",\"ID repetido\"))","v":""}]
[null,null,null,null,null,null,null,"","",{"$f":"IF(B1314=\"\",\"\",IF(COUNTIF($B$4:$B2583,B1314)=1,\"ID Único OK\",\"ID repetido\"))","v":""}]
[null,null,null,null,null,null,null,"","",{"$f":"IF(B1315=\"\",\"\",IF(COUNTIF($B$4:$B2584,B1315)=1,\"ID Único OK\",\"ID repetido\"))","v":""}]
[null,null,null,null,null,null,null,"","",{"$f":"IF(B1316=\"\",\"\",IF(COUNTIF($B$4:$B2585,B1316)=1,\"ID Único OK\",\"ID repetido\"))","v":""}]
[null,null,null,null,null,null,null,"","",{"$f":"IF(B1317=\"\",\"\",IF(COUNTIF($B$4:$B2586,B1317)=1,\"ID Único OK\",\"ID repetido\"))","v":""}]
[null,null,null,null,null,null,null,"","",{"$f":"IF(B1318=\"\",\"\",IF(COUNTIF($B$4:$B2587,B1318)=1,\"ID Único OK\",\"ID repetido\"))","v":""}]
[null,null,null,null,null,null,null,"","",{"$f":"IF(B1319=\"\",\"\",IF(COUNTIF($B$4:$B2588,B1319)=1,\"ID Único OK\",\"ID repetido\"))","v":""}]
[null,null,null,null,null,null,null,"","",{"$f":"IF(B1320=\"\",\"\",IF(COUNTIF($B$4:$B2589,B1320)=1,\"ID Único OK\",\"ID repetido\"))","v":""}]
[null,null,null,null,null,null,null,"","",{"$f":"IF(B1321=\"\",\"\",IF(COUNTIF($B$4:$B2590,B1321)=1,\"ID Único OK\",\"ID repetido\"))","v":""}]
[null,null,null,null,null,null,null,"","",{"$f":"IF(B1322=\"\",\"\",IF(COUNTIF($B$4:$B2591,B1322)=1,\"ID Único OK\",\"ID repetido\"))","v":""}]
[null,null,null,null,null,null,null,"","",{"$f":"IF(B1323=\"\",\"\",IF(COUNTIF($B$4:$B2592,B1323)=1,\"ID Único OK\",\"ID repetido\"))","v":""}]
[null,null,null,null,null,null,null,"","",{"$f":"IF(B1324=\"\",\"\",IF(COUNTIF($B$4:$B2593,B1324)=1,\"ID Único OK\",\"ID repetido\"))","v":""}]
[null,null,null,null,null,null,null,"","",{"$f":"IF(B1325=\"\",\"\",IF(COUNTIF($B$4:$B2594,B1325)=1,\"ID Único OK\",\"ID repetido\"))","v":""}]
[null,null,null,null,null,null,null,"","",{"$f":"IF(B1326=\"\",\"\",IF(COUNTIF($B$4:$B2595,B1326)=1,\"ID Único OK\",\"ID repetido\"))","v":""}]
[null,null,null,null,null,null,null,"","",{"$f":"IF(B1327=\"\",\"\",IF(COUNTIF($B$4:$B2596,B1327)=1,\"ID Único OK\",\"ID repetido\"))","v":""}]
[null,null,null,null,null,null,null,"","",{"$f":"IF(B1328=\"\",\"\",IF(COUNTIF($B$4:$B2597,B1328)=1,\"ID Único OK\",\"ID repetido\"))","v":""}]
[null,null,null,null,null,null,null,"","",{"$f":"IF(B1329=\"\",\"\",IF(COUNTIF($B$4:$B2598,B1329)=1,\"ID Único OK\",\"ID repetido\"))","v":""}]
[null,null,null,null,null,null,null,"","",{"$f":"IF(B1330=\"\",\"\",IF(COUNTIF($B$4:$B2599,B1330)=1,\"ID Único OK\",\"ID repetido\"))","v":""}]
[null,null,null,null,null,null,null,"","",{"$f":"IF(B1331=\"\",\"\",IF(COUNTIF($B$4:$B2600,B1331)=1,\"ID Único OK\",\"ID repetido\"))","v":""}]
[null,null,null,null,null,null,null,"","",{"$f":"IF(B1332=\"\",\"\",IF(COUNTIF($B$4:$B2601,B1332)=1,\"ID Único OK\",\"ID repetido\"))","v":""}]
[null,null,null,null,null,null,null,"","",{"$f":"IF(B1333=\"\",\"\",IF(COUNTIF($B$4:$B2602,B1333)=1,\"ID Único OK\",\"ID repetido\"))","v":""}]
[null,null,null,null,null,null,null,"","",{"$f":"IF(B1334=\"\",\"\",IF(COUNTIF($B$4:$B2603,B1334)=1,\"ID Único OK\",\"ID repetido\"))","v":""}]
[null,null,null,null,null,null,null,"","",{"$f":"IF(B1335=\"\",\"\",IF(COUNTIF($B$4:$B2604,B1335)=1,\"ID Único OK\",\"ID repetido\"))","v":""}]
[null,null,null,null,null,null,null,"","",{"$f":"IF(B1336=\"\",\"\",IF(COUNTIF($B$4:$B2605,B1336)=1,\"ID Único OK\",\"ID repetido\"))","v":""}]
[null,null,null,null,null,null,null,"","",{"$f":"IF(B1337=\"\",\"\",IF(COUNTIF($B$4:$B2606,B1337)=1,\"ID Único OK\",\"ID repetido\"))","v":""}]
[null,null,null,null,null,null,null,"","",{"$f":"IF(B1338=\"\",\"\",IF(COUNTIF($B$4:$B2607,B1338)=1,\"ID Único OK\",\"ID repetido\"))","v":""}]
[null,null,null,null,null,null,null,"","",{"$f":"IF(B1339=\"\",\"\",IF(COUNTIF($B$4:$B2608,B1339)=1,\"ID Único OK\",\"ID repetido\"))","v":""}]
[null,null,null,null,null,null,null,"","",{"$f":"IF(B1340=\"\",\"\",IF(COUNTIF($B$4:$B2609,B1340)=1,\"ID Único OK\",\"ID repetido\"))","v":""}]
[null,null,null,null,null,null,null,"","",{"$f":"IF(B1341=\"\",\"\",IF(COUNTIF($B$4:$B2610,B1341)=1,\"ID Único OK\",\"ID repetido\"))","v":""}]
[null,null,null,null,null,null,null,"","",{"$f":"IF(B1342=\"\",\"\",IF(COUNTIF($B$4:$B2611,B1342)=1,\"ID Único OK\",\"ID repetido\"))","v":""}]
[null,null,null,null,null,null,null,"","",{"$f":"IF(B1343=\"\",\"\",IF(COUNTIF($B$4:$B2612,B1343)=1,\"ID Único OK\",\"ID repetido\"))","v":""}]
[null,null,null,null,null,null,null,"","",{"$f":"IF(B1344=\"\",\"\",IF(COUNTIF($B$4:$B2613,B1344)=1,\"ID Único OK\",\"ID repetido\"))","v":""}]
[null,null,null,null,null,null,null,"","",{"$f":"IF(B1345=\"\",\"\",IF(COUNTIF($B$4:$B2614,B1345)=1,\"ID Único OK\",\"ID repetido\"))","v":""}]
[null,null,null,null,null,null,null,"","",{"$f":"IF(B1346=\"\",\"\",IF(COUNTIF($B$4:$B2615,B1346)=1,\"ID Único OK\",\"ID repetido\"))","v":""}]
[null,null,null,null,null,null,null,"","",{"$f":"IF(B1347=\"\",\"\",IF(COUNTIF($B$4:$B2616,B1347)=1,\"ID Único OK\",\"ID repetido\"))","v":""}]
[null,null,null,null,null,null,null,"","",{"$f":"IF(B1348=\"\",\"\",IF(COUNTIF($B$4:$B2617,B1348)=1,\"ID Único OK\",\"ID repetido\"))","v":""}]
[null,null,null,null,null,null,null,{"$f":"IF(F1349=\"\",\"\",IF(B1349=F1349,\"Son iguales\",\"Hay error en los números de solicitud\"))","v":""},{"$f":"IF(E1349=\"\",\"\",IF(E1349<D1349,\"Error entre fechas\",\"Fechas correctas\"))","v":""},{"$f":"IF(B1349=\"\",\"\",IF(COUNTIF($B$4:$B2618,B1349)=1,\"ID Único OK\",\"ID repetido\"))","v":""}]
[null,null,null,null,null,null,null,"","",{"$f":"IF(B1350=\"\",\"\",IF(COUNTIF($B$4:$B2619,B1350)=1,\"ID Único OK\",\"ID repetido\"))","v":""}]
[null,null,null,null,null,null,null,"","",{"$f":"IF(B1351=\"\",\"\",IF(COUNTIF($B$4:$B2620,B1351)=1,\"ID Único OK\",\"ID repetido\"))","v":""}]
[null,null,null,null,null,null,null,"","",{"$f":"IF(B1352=\"\",\"\",IF(COUNTIF($B$4:$B2621,B1352)=1,\"ID Único OK\",\"ID repetido\"))","v":""}]
[null,null,null,null,null,null,null,"","",{"$f":"IF(B1353=\"\",\"\",IF(COUNTIF($B$4:$B2622,B1353)=1,\"ID Único OK\",\"ID repetido\"))","v":""}]
[null,null,null,null,null,null,null,"","",{"$f":"IF(B1354=\"\",\"\",IF(COUNTIF($B$4:$B2623,B1354)=1,\"ID Único OK\",\"ID repetido\"))","v":""}]
[null,null,null,null,null,null,null,"","",{"$f":"IF(B1355=\"\",\"\",IF(COUNTIF($B$4:$B2624,B1355)=1,\"ID Único OK\",\"ID repetido\"))","v":""}]
[null,null,null,null,null,null,null,"","",{"$f":"IF(B1356=\"\",\"\",IF(COUNTIF($B$4:$B2625,B1356)=1,\"ID Único OK\",\"ID repetido\"))","v":""}]
[null,null,null,null,null,null,null,"","",{"$f":"IF(B1357=\"\",\"\",IF(COUNTIF($B$4:$B2626,B1357)=1,\"ID Único OK\",\"ID repetido\"))","v":""}]
[null,null,null,null,null,null,null,"","",{"$f":"IF(B1358=\"\",\"\",IF(COUNTIF($B$4:$B2627,B1358)=1,\"ID Único OK\",\"ID repetido\"))","v":""}]
[null,null,null,null,null,null,null,"","",{"$f":"IF(B1359=\"\",\"\",IF(COUNTIF($B$4:$B2628,B1359)=1,\"ID Único OK\",\"ID repetido\"))","v":""}]
[null,null,null,null,null,null,null,"","",{"$f":"IF(B1360=\"\",\"\",IF(COUNTIF($B$4:$B2629,B1360)=1,\"ID Único OK\",\"ID repetido\"))","v":""}]
[null,null,null,null,null,null,null,"","",{"$f":"IF(B1361=\"\",\"\",IF(COUNTIF($B$4:$B2630,B1361)=1,\"ID Único OK\",\"ID repetido\"))","v":""}]
[null,null,null,null,null,null,null,"","",{"$f":"IF(B1362=\"\",\"\",IF(COUNTIF($B$4:$B2631,B1362)=1,\"ID Único OK\",\"ID repetido\"))","v":""}]
[null,null,null,null,null,null,null,"","",{"$f":"IF(B1363=\"\",\"\",IF(COUNTIF($B$4:$B2632,B1363)=1,\"ID Único OK\",\"ID repetido\"))","v":""}]
[null,null,null,null,null,null,null,"","",{"$f":"IF(B1364=\"\",\"\",IF(COUNTIF($B$4:$B2633,B1364)=1,\"ID Único OK\",\"ID repetido\"))","v":""}]
[null,null,null,null,null,null,null,"","",{"$f":"IF(B1365=\"\",\"\",IF(COUNTIF($B$4:$B2634,B1365)=1,\"ID Único OK\",\"ID repetido\"))","v":""}]
[null,null,null,null,null,null,null,"","",{"$f":"IF(B1366=\"\",\"\",IF(COUNTIF($B$4:$B2635,B1366)=1,\"ID Único OK\",\"ID repetido\"))","v":""}]
[null,null,null,null,null,null,null,"","",{"$f":"IF(B1367=\"\",\"\",IF(COUNTIF($B$4:$B2636,B1367)=1,\"ID Único OK\",\"ID repetido\"))","v":""}]
[null,null,null,null,null,null,null,"","",{"$f":"IF(B1368=\"\",\"\",IF(COUNTIF($B$4:$B2637,B1368)=1,\"ID Único OK\",\"ID repetido\"))","v":""}]
[null,null,null,null,null,null,null,"","",{"$f":"IF(B1369=\"\",\"\",IF(COUNTIF($B$4:$B2638,B1369)=1,\"ID Único OK\",\"ID repetido\"))","v":""}]
[null,null,null,null,null,null,null,"","",{"$f":"IF(B1370=\"\",\"\",IF(COUNTIF($B$4:$B2639,B1370)=1,\"ID Único OK\",\"ID repetido\"))","v":""}]
[null,null,null,null,null,null,null,"","",{"$f":"IF(B1371=\"\",\"\",IF(COUNTIF($B$4:$B2640,B1371)=1,\"ID Único OK\",\"ID repetido\"))","v":""}]
[null,null,null,null,null,null,null,"","",{"$f":"IF(B1372=\"\",\"\",IF(COUNTIF($B$4:$B2641,B1372)=1,\"ID Único OK\",\"ID repetido\"))","v":""}]
[null,null,null,null,null,null,null,"","",{"$f":"IF(B1373=\"\",\"\",IF(COUNTIF($B$4:$B2642,B1373)=1,\"ID Único OK\",\"ID repetido\"))","v":""}]
[null,null,null,null,null,null,null,"","",{"$f":"IF(B1374=\"\",\"\",IF(COUNTIF($B$4:$B2643,B1374)=1,\"ID Único OK\",\"ID repetido\"))","v":""}]
[null,null,null,null,null,null,null,"","",{"$f":"IF(B1375=\"\",\"\",IF(COUNTIF($B$4:$B2644,B1375)=1,\"ID Único OK\",\"ID repetido\"))","v":""}]
[null,null,null,null,null,null,null,"","",{"$f":"IF(B1376=\"\",\"\",IF(COUNTIF($B$4:$B2645,B1376)=1,\"ID Único OK\",\"ID repetido\"))","v":""}]
[null,null,null,null,null,null,null,"","",{"$f":"IF(B1377=\"\",\"\",IF(COUNTIF($B$4:$B2646,B1377)=1,\"ID Único OK\",\"ID repetido\"))","v":""}]
[null,null,null,null,null,null,null,"","",{"$f":"IF(B1378=\"\",\"\",IF(COUNTIF($B$4:$B2647,B1378)=1,\"ID Único OK\",\"ID repetido\"))","v":""}]
[null,null,null,null,null,null,null,"","",{"$f":"IF(B1379=\"\",\"\",IF(COUNTIF($B$4:$B2648,B1379)=1,\"ID Único OK\",\"ID repetido\"))","v":""}]
[null,null,null,null,null,null,null,"","",{"$f":"IF(B1380=\"\",\"\",IF(COUNTIF($B$4:$B2649,B1380)=1,\"ID Único OK\",\"ID repetido\"))","v":""}]
[null,null,null,null,null,null,null,"","",{"$f":"IF(B1381=\"\",\"\",IF(COUNTIF($B$4:$B2650,B1381)=1,\"ID Único OK\",\"ID repetido\"))","v":""}]
[null,null,null,null,null,null,null,"","",{"$f":"IF(B1382=\"\",\"\",IF(COUNTIF($B$4:$B2651,B1382)=1,\"ID Único OK\",\"ID repetido\"))","v":""}]
[null,null,null,null,null,null,null,"","",{"$f":"IF(B1383=\"\",\"\",IF(COUNTIF($B$4:$B2652,B1383)=1,\"ID Único OK\",\"ID repetido\"))","v":""}]
[null,null,null,null,null,null,null,"","",{"$f":"IF(B1384=\"\",\"\",IF(COUNTIF($B$4:$B2653,B1384)=1,\"ID Único OK\",\"ID repetido\"))","v":""}]
[null,null,null,null,null,null,null,"","",{"$f":"IF(B1385=\"\",\"\",IF(COUNTIF($B$4:$B2654,B1385)=1,\"ID Único OK\",\"ID repetido\"))","v":""}]
[null,null,null,null,null,null,null,"","",{"$f":"IF(B1386=\"\",\"\",IF(COUNTIF($B$4:$B2655,B1386)=1,\"ID Único OK\",\"ID repetido\"))","v":""}]
[null,null,null,null,null,null,null,"","",{"$f":"IF(B1387=\"\",\"\",IF(COUNTIF($B$4:$B2656,B1387)=1,\"ID Único OK\",\"ID repetido\"))","v":""}]
[null,null,null,null,null,null,null,"","",{"$f":"IF(B1388=\"\",\"\",IF(COUNTIF($B$4:$B2657,B1388)=1,\"ID Único OK\",\"ID repetido\"))","v":""}]
[null,null,null,null,null,null,null,"","",{"$f":"IF(B1389=\"\",\"\",IF(COUNTIF($B$4:$B2658,B1389)=1,\"ID Único OK\",\"ID repetido\"))","v":""}]
[null,null,null,null,null,null,null,"","",{"$f":"IF(B1390=\"\",\"\",IF(COUNTIF($B$4:$B2659,B1390)=1,\"ID Único OK\",\"ID repetido\"))","v":""}]
[null,null,null,null,null,null,null,"","",{"$f":"IF(B1391=\"\",\"\",IF(COUNTIF($B$4:$B2660,B1391)=1,\"ID Único OK\",\"ID repetido\"))","v":""}]
[null,null,null,null,null,null,null,"","",{"$f":"IF(B1392=\"\",\"\",IF(COUNTIF($B$4:$B2661,B1392)=1,\"ID Único OK\",\"ID repetido\"))","v":""}]
[null,null,null,null,null,null,null,"","",{"$f":"IF(B1393=\"\",\"\",IF(COUNTIF($B$4:$B2662,B1393)=1,\"ID Único OK\",\"ID repetido\"))","v":""}]
[null,null,null,null,null,null,null,"","",{"$f":"IF(B1394=\"\",\"\",IF(COUNTIF($B$4:$B2663,B1394)=1,\"ID Único OK\",\"ID repetido\"))","v":""}]
[null,null,null,null,null,null,null,"","",{"$f":"IF(B1395=\"\",\"\",IF(COUNTIF($B$4:$B2664,B1395)=1,\"ID Único OK\",\"ID repetido\"))","v":""}]
[null,null,null,null,null,null,null,"","",{"$f":"IF(B1396=\"\",\"\",IF(COUNTIF($B$4:$B2665,B1396)=1,\"ID Único OK\",\"ID repetido\"))","v":""}]
[null,null,null,null,null,null,null,"","",{"$f":"IF(B1397=\"\",\"\",IF(COUNTIF($B$4:$B2666,B1397)=1,\"ID Único OK\",\"ID repetido\"))","v":""}]
[null,null,null,null,null,null,null,"","",{"$f":"IF(B1398=\"\",\"\",IF(COUNTIF($B$4:$B2667,B1398)=1,\"ID Único OK\",\"ID repetido\"))","v":""}]
[null,null,null,null,null,null,null,"","",{"$f":"IF(B1399=\"\",\"\",IF(COUNTIF($B$4:$B2668,B1399)=1,\"ID Único OK\",\"ID repetido\"))","v":""}]
[null,null,null,null,null,null,null,"","",{"$f":"IF(B1400=\"\",\"\",IF(COUNTIF($B$4:$B2669,B1400)=1,\"ID Único OK\",\"ID repetido\"))","v":""}]
[null,null,null,null,null,null,null,"","",{"$f":"IF(B1401=\"\",\"\",IF(COUNTIF($B$4:$B2670,B1401)=1,\"ID Único OK\",\"ID repetido\"))","v":""}]
[null,null,null,null,null,null,null,"","",{"$f":"IF(B1402=\"\",\"\",IF(COUNTIF($B$4:$B2671,B1402)=1,\"ID Único OK\",\"ID repetido\"))","v":""}]
[null,null,null,null,null,null,null,"","",{"$f":"IF(B1403=\"\",\"\",IF(COUNTIF($B$4:$B2672,B1403)=1,\"ID Único OK\",\"ID repetido\"))","v":""}]
[null,null,null,null,null,null,null,"","",{"$f":"IF(B1404=\"\",\"\",IF(COUNTIF($B$4:$B2673,B1404)=1,\"ID Único OK\",\"ID repetido\"))","v":""}]
[null,null,null,null,null,null,null,"","",{"$f":"IF(B1405=\"\",\"\",IF(COUNTIF($B$4:$B2674,B1405)=1,\"ID Único OK\",\"ID repetido\"))","v":""}]
[null,null,null,null,null,null,null,"","",{"$f":"IF(B1406=\"\",\"\",IF(COUNTIF($B$4:$B2675,B1406)=1,\"ID Único OK\",\"ID repetido\"))","v":""}]
[null,null,null,null,null,null,null,"","",{"$f":"IF(B1407=\"\",\"\",IF(COUNTIF($B$4:$B2676,B1407)=1,\"ID Único OK\",\"ID repetido\"))","v":""}]
[null,null,null,null,null,null,null,"","",{"$f":"IF(B1408=\"\",\"\",IF(COUNTIF($B$4:$B2677,B1408)=1,\"ID Único OK\",\"ID repetido\"))","v":""}]
[null,null,null,null,null,null,null,"","",{"$f":"IF(B1409=\"\",\"\",IF(COUNTIF($B$4:$B2678,B1409)=1,\"ID Único OK\",\"ID repetido\"))","v":""}]
[null,null,null,null,null,null,null,"","",{"$f":"IF(B1410=\"\",\"\",IF(COUNTIF($B$4:$B2679,B1410)=1,\"ID Único OK\",\"ID repetido\"))","v":""}]
[null,null,null,null,null,null,null,"","",{"$f":"IF(B1411=\"\",\"\",IF(COUNTIF($B$4:$B2680,B1411)=1,\"ID Único OK\",\"ID repetido\"))","v":""}]
[null,null,null,null,null,null,null,"","",{"$f":"IF(B1412=\"\",\"\",IF(COUNTIF($B$4:$B2681,B1412)=1,\"ID Único OK\",\"ID repetido\"))","v":""}]
[null,null,null,null,null,null,null,{"$f":"IF(F1413=\"\",\"\",IF(B1413=F1413,\"Son iguales\",\"Hay error en los números de solicitud\"))","v":""},{"$f":"IF(E1413=\"\",\"\",IF(E1413<D1413,\"Error entre fechas\",\"Fechas correctas\"))","v":""},{"$f":"IF(B1413=\"\",\"\",IF(COUNTIF($B$4:$B2682,B1413)=1,\"ID Único OK\",\"ID repetido\"))","v":""}]
[null,null,null,null,null,null,null,"","",{"$f":"IF(B1414=\"\",\"\",IF(COUNTIF($B$4:$B2683,B1414)=1,\"ID Único OK\",\"ID repetido\"))","v":""}]
[null,null,null,null,null,null,null,"","",{"$f":"IF(B1415=\"\",\"\",IF(COUNTIF($B$4:$B2684,B1415)=1,\"ID Único OK\",\"ID repetido\"))","v":""}]
[null,null,null,null,null,null,null,"","",{"$f":"IF(B1416=\"\",\"\",IF(COUNTIF($B$4:$B2685,B1416)=1,\"ID Único OK\",\"ID repetido\"))","v":""}]
[null,null,null,null,null,null,null,"","",{"$f":"IF(B1417=\"\",\"\",IF(COUNTIF($B$4:$B2686,B1417)=1,\"ID Único OK\",\"ID repetido\"))","v":""}]
[null,null,null,null,null,null,null,"","",{"$f":"IF(B1418=\"\",\"\",IF(COUNTIF($B$4:$B2687,B1418)=1,\"ID Único OK\",\"ID repetido\"))","v":""}]
[null,null,null,null,null,null,null,"","",{"$f":"IF(B1419=\"\",\"\",IF(COUNTIF($B$4:$B2688,B1419)=1,\"ID Único OK\",\"ID repetido\"))","v":""}]
[null,null,null,null,null,null,null,"","",{"$f":"IF(B1420=\"\",\"\",IF(COUNTIF($B$4:$B2689,B1420)=1,\"ID Único OK\",\"ID repetido\"))","v":""}]
[null,null,null,null,null,null,null,"","",{"$f":"IF(B1421=\"\",\"\",IF(COUNTIF($B$4:$B2690,B1421)=1,\"ID Único OK\",\"ID repetido\"))","v":""}]
[null,null,null,null,null,null,null,"","",{"$f":"IF(B1422=\"\",\"\",IF(COUNTIF($B$4:$B2691,B1422)=1,\"ID Único OK\",\"ID repetido\"))","v":""}]
[null,null,null,null,null,null,null,"","",{"$f":"IF(B1423=\"\",\"\",IF(COUNTIF($B$4:$B2692,B1423)=1,\"ID Único OK\",\"ID repetido\"))","v":""}]
[null,null,null,null,null,null,null,"","",{"$f":"IF(B1424=\"\",\"\",IF(COUNTIF($B$4:$B2693,B1424)=1,\"ID Único OK\",\"ID repetido\"))","v":""}]
[null,null,null,null,null,null,null,"","",{"$f":"IF(B1425=\"\",\"\",IF(COUNTIF($B$4:$B2694,B1425)=1,\"ID Único OK\",\"ID repetido\"))","v":""}]
[null,null,null,null,null,null,null,"","",{"$f":"IF(B1426=\"\",\"\",IF(COUNTIF($B$4:$B2695,B1426)=1,\"ID Único OK\",\"ID repetido\"))","v":""}]
[null,null,null,null,null,null,null,"","",{"$f":"IF(B1427=\"\",\"\",IF(COUNTIF($B$4:$B2696,B1427)=1,\"ID Único OK\",\"ID repetido\"))","v":""}]
[null,null,null,null,null,null,null,"","",{"$f":"IF(B1428=\"\",\"\",IF(COUNTIF($B$4:$B2697,B1428)=1,\"ID Único OK\",\"ID repetido\"))","v":""}]
[null,null,null,null,null,null,null,"","",{"$f":"IF(B1429=\"\",\"\",IF(COUNTIF($B$4:$B2698,B1429)=1,\"ID Único OK\",\"ID repetido\"))","v":""}]
[null,null,null,null,null,null,null,"","",{"$f":"IF(B1430=\"\",\"\",IF(COUNTIF($B$4:$B2699,B1430)=1,\"ID Único OK\",\"ID repetido\"))","v":""}]
[null,null,null,null,null,null,null,"","",{"$f":"IF(B1431=\"\",\"\",IF(COUNTIF($B$4:$B2700,B1431)=1,\"ID Único OK\",\"ID repetido\"))","v":""}]
[null,null,null,null,null,null,null,"","",{"$f":"IF(B1432=\"\",\"\",IF(COUNTIF($B$4:$B2701,B1432)=1,\"ID Único OK\",\"ID repetido\"))","v":""}]
[null,null,null,null,null,null,null,"","",{"$f":"IF(B1433=\"\",\"\",IF(COUNTIF($B$4:$B2702,B1433)=1,\"ID Único OK\",\"ID repetido\"))","v":""}]
[null,null,null,null,null,null,null,"","",{"$f":"IF(B1434=\"\",\"\",IF(COUNTIF($B$4:$B2703,B1434)=1,\"ID Único OK\",\"ID repetido\"))","v":""}]
[null,null,null,null,null,null,null,"","",{"$f":"IF(B1435=\"\",\"\",IF(COUNTIF($B$4:$B2704,B1435)=1,\"ID Único OK\",\"ID repetido\"))","v":""}]
[null,null,null,null,null,null,null,"","",{"$f":"IF(B1436=\"\",\"\",IF(COUNTIF($B$4:$B2705,B1436)=1,\"ID Único OK\",\"ID repetido\"))","v":""}]
[null,null,null,null,null,null,null,"","",{"$f":"IF(B1437=\"\",\"\",IF(COUNTIF($B$4:$B2706,B1437)=1,\"ID Único OK\",\"ID repetido\"))","v":""}]
[null,null,null,null,null,null,null,"","",{"$f":"IF(B1438=\"\",\"\",IF(COUNTIF($B$4:$B2707,B1438)=1,\"ID Único OK\",\"ID repetido\"))","v":""}]
[null,null,null,null,null,null,null,"","",{"$f":"IF(B1439=\"\",\"\",IF(COUNTIF($B$4:$B2708,B1439)=1,\"ID Único OK\",\"ID repetido\"))","v":""}]
[null,null,null,null,null,null,null,"","",{"$f":"IF(B1440=\"\",\"\",IF(COUNTIF($B$4:$B2709,B1440)=1,\"ID Único OK\",\"ID repetido\"))","v":""}]
[null,null,null,null,null,null,null,"","",{"$f":"IF(B1441=\"\",\"\",IF(COUNTIF($B$4:$B2710,B1441)=1,\"ID Único OK\",\"ID repetido\"))","v":""}]
[null,null,null,null,null,null,null,"","",{"$f":"IF(B1442=\"\",\"\",IF(COUNTIF($B$4:$B2711,B1442)=1,\"ID Único OK\",\"ID repetido\"))","v":""}]
[null,null,null,null,null,null,null,"","",{"$f":"IF(B1443=\"\",\"\",IF(COUNTIF($B$4:$B2712,B1443)=1,\"ID Único OK\",\"ID repetido\"))","v":""}]
[null,null,null,null,null,null,null,"","",{"$f":"IF(B1444=\"\",\"\",IF(COUNTIF($B$4:$B2713,B1444)=1,\"ID Único OK\",\"ID repetido\"))","v":""}]
[null,null,null,null,null,null,null,"","",{"$f":"IF(B1445=\"\",\"\",IF(COUNTIF($B$4:$B2714,B1445)=1,\"ID Único OK\",\"ID repetido\"))","v":""}]
[null,null,null,null,null,null,null,"","",{"$f":"IF(B1446=\"\",\"\",IF(COUNTIF($B$4:$B2715,B1446)=1,\"ID Único OK\",\"ID repetido\"))","v":""}]
[null,null,null,null,null,null,null,"","",{"$f":"IF(B1447=\"\",\"\",IF(COUNTIF($B$4:$B2716,B1447)=1,\"ID Único OK\",\"ID repetido\"))","v":""}]
[null,null,null,null,null,null,null,"","",{"$f":"IF(B1448=\"\",\"\",IF(COUNTIF($B$4:$B2717,B1448)=1,\"ID Único OK\",\"ID repetido\"))","v":""}]
[null,null,null,null,null,null,null,"","",{"$f":"IF(B1449=\"\",\"\",IF(COUNTIF($B$4:$B2718,B1449)=1,\"ID Único OK\",\"ID repetido\"))","v":""}]
[null,null,null,null,null,null,null,"","",{"$f":"IF(B1450=\"\",\"\",IF(COUNTIF($B$4:$B2719,B1450)=1,\"ID Único OK\",\"ID repetido\"))","v":""}]
[null,null,null,null,null,null,null,"","",{"$f":"IF(B1451=\"\",\"\",IF(COUNTIF($B$4:$B2720,B1451)=1,\"ID Único OK\",\"ID repetido\"))","v":""}]
[null,null,null,null,null,null,null,"","",{"$f":"IF(B1452=\"\",\"\",IF(COUNTIF($B$4:$B2721,B1452)=1,\"ID Único OK\",\"ID repetido\"))","v":""}]
[null,null,null,null,null,null,null,"","",{"$f":"IF(B1453=\"\",\"\",IF(COUNTIF($B$4:$B2722,B1453)=1,\"ID Único OK\",\"ID repetido\"))","v":""}]
[null,null,null,null,null,null,null,"","",{"$f":"IF(B1454=\"\",\"\",IF(COUNTIF($B$4:$B2723,B1454)=1,\"ID Único OK\",\"ID repetido\"))","v":""}]
[null,null,null,null,null,null,null,"","",{"$f":"IF(B1455=\"\",\"\",IF(COUNTIF($B$4:$B2724,B1455)=1,\"ID Único OK\",\"ID repetido\"))","v":""}]
[null,null,null,null,null,null,null,"","",{"$f":"IF(B1456=\"\",\"\",IF(COUNTIF($B$4:$B2725,B1456)=1,\"ID Único OK\",\"ID repetido\"))","v":""}]
[null,null,null,null,null,null,null,"","",{"$f":"IF(B1457=\"\",\"\",IF(COUNTIF($B$4:$B2726,B1457)=1,\"ID Único OK\",\"ID repetido\"))","v":""}]
[null,null,null,null,null,null,null,"","",{"$f":"IF(B1458=\"\",\"\",IF(COUNTIF($B$4:$B2727,B1458)=1,\"ID Único OK\",\"ID repetido\"))","v":""}]
[null,null,null,null,null,null,null,"","",{"$f":"IF(B1459=\"\",\"\",IF(COUNTIF($B$4:$B2728,B1459)=1,\"ID Único OK\",\"ID repetido\"))","v":""}]
[null,null,null,null,null,null,null,"","",{"$f":"IF(B1460=\"\",\"\",IF(COUNTIF($B$4:$B2729,B1460)=1,\"ID Único OK\",\"ID repetido\"))","v":""}]
[null,null,null,null,null,null,null,"","",{"$f":"IF(B1461=\"\",\"\",IF(COUNTIF($B$4:$B2730,B1461)=1,\"ID Único OK\",\"ID repetido\"))","v":""}]
[null,null,null,null,null,null,null,"","",{"$f":"IF(B1462=\"\",\"\",IF(COUNTIF($B$4:$B2731,B1462)=1,\"ID Único OK\",\"ID repetido\"))","v":""}]
[null,null,null,null,null,null,null,"","",{"$f":"IF(B1463=\"\",\"\",IF(COUNTIF($B$4:$B2732,B1463)=1,\"ID Único OK\",\"ID repetido\"))","v":""}]
[null,null,null,null,null,null,null,"","",{"$f":"IF(B1464=\"\",\"\",IF(COUNTIF($B$4:$B2733,B1464)=1,\"ID Único OK\",\"ID repetido\"))","v":""}]
[null,null,null,null,null,null,null,"","",{"$f":"IF(B1465=\"\",\"\",IF(COUNTIF($B$4:$B2734,B1465)=1,\"ID Único OK\",\"ID repetido\"))","v":""}]
[null,null,null,null,null,null,null,"","",{"$f":"IF(B1466=\"\",\"\",IF(COUNTIF($B$4:$B2735,B1466)=1,\"ID Único OK\",\"ID repetido\"))","v":""}]
[null,null,null,null,null,null,null,"","",{"$f":"IF(B1467=\"\",\"\",IF(COUNTIF($B$4:$B2736,B1467)=1,\"ID Único OK\",\"ID repetido\"))","v":""}]
[null,null,null,null,null,null,null,"","",{"$f":"IF(B1468=\"\",\"\",IF(COUNTIF($B$4:$B2737,B1468)=1,\"ID Único OK\",\"ID repetido\"))","v":""}]
[null,null,null,null,null,null,null,"","",{"$f":"IF(B1469=\"\",\"\",IF(COUNTIF($B$4:$B2738,B1469)=1,\"ID Único OK\",\"ID repetido\"))","v":""}]
[null,null,null,null,null,null,null,"","",{"$f":"IF(B1470=\"\",\"\",IF(COUNTIF($B$4:$B2739,B1470)=1,\"ID Único OK\",\"ID repetido\"))","v":""}]
[null,null,null,null,null,null,null,"","",{"$f":"IF(B1471=\"\",\"\",IF(COUNTIF($B$4:$B2740,B1471)=1,\"ID Único OK\",\"ID repetido\"))","v":""}]
[null,null,null,null,null,null,null,"","",{"$f":"IF(B1472=\"\",\"\",IF(COUNTIF($B$4:$B2741,B1472)=1,\"ID Único OK\",\"ID repetido\"))","v":""}]
[null,null,null,null,null,null,null,"","",{"$f":"IF(B1473=\"\",\"\",IF(COUNTIF($B$4:$B2742,B1473)=1,\"ID Único OK\",\"ID repetido\"))","v":""}]
[null,null,null,null,null,null,null,"","",{"$f":"IF(B1474=\"\",\"\",IF(COUNTIF($B$4:$B2743,B1474)=1,\"ID Único OK\",\"ID repetido\"))","v":""}]
[null,null,null,null,null,null,null,"","",{"$f":"IF(B1475=\"\",\"\",IF(COUNTIF($B$4:$B2744,B1475)=1,\"ID Único OK\",\"ID repetido\"))","v":""}]
[null,null,null,null,null,null,null,"","",{"$f":"IF(B1476=\"\",\"\",IF(COUNTIF($B$4:$B2745,B1476)=1,\"ID Único OK\",\"ID repetido\"))","v":""}]
[null,null,null,null,null,null,null,{"$f":"IF(F1477=\"\",\"\",IF(B1477=F1477,\"Son iguales\",\"Hay error en los números de solicitud\"))","v":""},{"$f":"IF(E1477=\"\",\"\",IF(E1477<D1477,\"Error entre fechas\",\"Fechas correctas\"))","v":""},{"$f":"IF(B1477=\"\",\"\",IF(COUNTIF($B$4:$B2746,B1477)=1,\"ID Único OK\",\"ID repetido\"))","v":""}]
[null,null,null,null,null,null,null,"","",{"$f":"IF(B1478=\"\",\"\",IF(COUNTIF($B$4:$B2747,B1478)=1,\"ID Único OK\",\"ID repetido\"))","v":""}]
[null,null,null,null,null,null,null,"","",{"$f":"IF(B1479=\"\",\"\",IF(COUNTIF($B$4:$B2748,B1479)=1,\"ID Único OK\",\"ID repetido\"))","v":""}]
[null,null,null,null,null,null,null,"","",{"$f":"IF(B1480=\"\",\"\",IF(COUNTIF($B$4:$B2749,B1480)=1,\"ID Único OK\",\"ID repetido\"))","v":""}]
[null,null,null,null,null,null,null,"","",{"$f":"IF(B1481=\"\",\"\",IF(COUNTIF($B$4:$B2750,B1481)=1,\"ID Único OK\",\"ID repetido\"))","v":""}]
[null,null,null,null,null,null,null,"","",{"$f":"IF(B1482=\"\",\"\",IF(COUNTIF($B$4:$B2751,B1482)=1,\"ID Único OK\",\"ID repetido\"))","v":""}]
[null,null,null,null,null,null,null,"","",{"$f":"IF(B1483=\"\",\"\",IF(COUNTIF($B$4:$B2752,B1483)=1,\"ID Único OK\",\"ID repetido\"))","v":""}]
[null,null,null,null,null,null,null,"","",{"$f":"IF(B1484=\"\",\"\",IF(COUNTIF($B$4:$B2753,B1484)=1,\"ID Único OK\",\"ID repetido\"))","v":""}]
[null,null,null,null,null,null,null,"","",{"$f":"IF(B1485=\"\",\"\",IF(COUNTIF($B$4:$B2754,B1485)=1,\"ID Único OK\",\"ID repetido\"))","v":""}]
[null,null,null,null,null,null,null,"","",{"$f":"IF(B1486=\"\",\"\",IF(COUNTIF($B$4:$B2755,B1486)=1,\"ID Único OK\",\"ID repetido\"))","v":""}]
[null,null,null,null,null,null,null,"","",{"$f":"IF(B1487=\"\",\"\",IF(COUNTIF($B$4:$B2756,B1487)=1,\"ID Único OK\",\"ID repetido\"))","v":""}]
[null,null,null,null,null,null,null,"","",{"$f":"IF(B1488=\"\",\"\",IF(COUNTIF($B$4:$B2757,B1488)=1,\"ID Único OK\",\"ID repetido\"))","v":""}]
[null,null,null,null,null,null,null,"","",{"$f":"IF(B1489=\"\",\"\",IF(COUNTIF($B$4:$B2758,B1489)=1,\"ID Único OK\",\"ID repetido\"))","v":""}]
[null,null,null,null,null,null,null,"","",{"$f":"IF(B1490=\"\",\"\",IF(COUNTIF($B$4:$B2759,B1490)=1,\"ID Único OK\",\"ID repetido\"))","v":""}]
[null,null,null,null,null,null,null,"","",{"$f":"IF(B1491=\"\",\"\",IF(COUNTIF($B$4:$B2760,B1491)=1,\"ID Único OK\",\"ID repetido\"))","v":""}]
[null,null,null,null,null,null,null,"","",{"$f":"IF(B1492=\"\",\"\",IF(COUNTIF($B$4:$B2761,B1492)=1,\"ID Único OK\",\"ID repetido\"))","v":""}]
[null,null,null,null,null,null,null,"","",{"$f":"IF(B1493=\"\",\"\",IF(COUNTIF($B$4:$B2762,B1493)=1,\"ID Único OK\",\"ID repetido\"))","v":""}]
[null,null,null,null,null,null,null,"","",{"$f":"IF(B1494=\"\",\"\",IF(COUNTIF($B$4:$B2763,B1494)=1,\"ID Único OK\",\"ID repetido\"))","v":""}]
[null,null,null,null,null,null,null,"","",{"$f":"IF(B1495=\"\",\"\",IF(COUNTIF($B$4:$B2764,B1495)=1,\"ID Único OK\",\"ID repetido\"))","v":""}]
[null,null,null,null,null,null,null,"","",{"$f":"IF(B1496=\"\",\"\",IF(COUNTIF($B$4:$B2765,B1496)=1,\"ID Único OK\",\"ID repetido\"))","v":""}]
[null,null,null,null,null,null,null,"","",{"$f":"IF(B1497=\"\",\"\",IF(COUNTIF($B$4:$B2766,B1497)=1,\"ID Único OK\",\"ID repetido\"))","v":""}]
[null,null,null,null,null,null,null,"","",{"$f":"IF(B1498=\"\",\"\",IF(COUNTIF($B$4:$B2767,B1498)=1,\"ID Único OK\",\"ID repetido\"))","v":""}]
[null,null,null,null,null,null,null,"","",{"$f":"IF(B1499=\"\",\"\",IF(COUNTIF($B$4:$B2768,B1499)=1,\"ID Único OK\",\"ID repetido\"))","v":""}]
[null,null,null,null,null,null,null,"","",{"$f":"IF(B1500=\"\",\"\",IF(COUNTIF($B$4:$B2769,B1500)=1,\"ID Único OK\",\"ID repetido\"))","v":""}]
[null,null,null,null,null,null,null,"","",{"$f":"IF(B1501=\"\",\"\",IF(COUNTIF($B$4:$B2770,B1501)=1,\"ID Único OK\",\"ID repetido\"))","v":""}]
[null,null,null,null,null,null,null,"","",{"$f":"IF(B1502=\"\",\"\",IF(COUNTIF($B$4:$B2771,B1502)=1,\"ID Único OK\",\"ID repetido\"))","v":""}]
[null,null,null,null,null,null,null,"","",{"$f":"IF(B1503=\"\",\"\",IF(COUNTIF($B$4:$B2772,B1503)=1,\"ID Único OK\",\"ID repetido\"))","v":""}]
[null,null,null,null,null,null,null,"","",{"$f":"IF(B1504=\"\",\"\",IF(COUNTIF($B$4:$B2773,B1504)=1,\"ID Único OK\",\"ID repetido\"))","v":""}]
[null,null,null,null,null,null,null,"","",{"$f":"IF(B1505=\"\",\"\",IF(COUNTIF($B$4:$B2774,B1505)=1,\"ID Único OK\",\"ID repetido\"))","v":""}]
[null,null,null,null,null,null,null,"","",{"$f":"IF(B1506=\"\",\"\",IF(COUNTIF($B$4:$B2775,B1506)=1,\"ID Único OK\",\"ID repetido\"))","v":""}]
[null,null,null,null,null,null,null,"","",{"$f":"IF(B1507=\"\",\"\",IF(COUNTIF($B$4:$B2776,B1507)=1,\"ID Único OK\",\"ID repetido\"))","v":""}]
[null,null,null,null,null,null,null,"","",{"$f":"IF(B1508=\"\",\"\",IF(COUNTIF($B$4:$B2777,B1508)=1,\"ID Único OK\",\"ID repetido\"))","v":""}]
[null,null,null,null,null,null,null,"","",{"$f":"IF(B1509=\"\",\"\",IF(COUNTIF($B$4:$B2778,B1509)=1,\"ID Único OK\",\"ID repetido\"))","v":""}]
[null,null,null,null,null,null,null,"","",{"$f":"IF(B1510=\"\",\"\",IF(COUNTIF($B$4:$B2779,B1510)=1,\"ID Único OK\",\"ID repetido\"))","v":""}]
[null,null,null,null,null,null,null,"","",{"$f":"IF(B1511=\"\",\"\",IF(COUNTIF($B$4:$B2780,B1511)=1,\"ID Único OK\",\"ID repetido\"))","v":""}]
[null,null,null,null,null,null,null,"","",{"$f":"IF(B1512=\"\",\"\",IF(COUNTIF($B$4:$B2781,B1512)=1,\"ID Único OK\",\"ID repetido\"))","v":""}]
[null,null,null,null,null,null,null,"","",{"$f":"IF(B1513=\"\",\"\",IF(COUNTIF($B$4:$B2782,B1513)=1,\"ID Único OK\",\"ID repetido\"))","v":""}]
[null,null,null,null,null,null,null,"","",{"$f":"IF(B1514=\"\",\"\",IF(COUNTIF($B$4:$B2783,B1514)=1,\"ID Único OK\",\"ID repetido\"))","v":""}]
[null,null,null,null,null,null,null,"","",{"$f":"IF(B1515=\"\",\"\",IF(COUNTIF($B$4:$B2784,B1515)=1,\"ID Único OK\",\"ID repetido\"))","v":""}]
[null,null,null,null,null,null,null,"","",{"$f":"IF(B1516=\"\",\"\",IF(COUNTIF($B$4:$B2785,B1516)=1,\"ID Único OK\",\"ID repetido\"))","v":""}]
[null,null,null,null,null,null,null,"","",{"$f":"IF(B1517=\"\",\"\",IF(COUNTIF($B$4:$B2786,B1517)=1,\"ID Único OK\",\"ID repetido\"))","v":""}]
[null,null,null,null,null,null,null,"","",{"$f":"IF(B1518=\"\",\"\",IF(COUNTIF($B$4:$B2787,B1518)=1,\"ID Único OK\",\"ID repetido\"))","v":""}]
[null,null,null,null,null,null,null,"","",{"$f":"IF(B1519=\"\",\"\",IF(COUNTIF($B$4:$B2788,B1519)=1,\"ID Único OK\",\"ID repetido\"))","v":""}]
[null,null,null,null,null,null,null,"","",{"$f":"IF(B1520=\"\",\"\",IF(COUNTIF($B$4:$B2789,B1520)=1,\"ID Único OK\",\"ID repetido\"))","v":""}]
[null,null,null,null,null,null,null,"","",{"$f":"IF(B1521=\"\",\"\",IF(COUNTIF($B$4:$B2790,B1521)=1,\"ID Único OK\",\"ID repetido\"))","v":""}]
[null,null,null,null,null,null,null,"","",{"$f":"IF(B1522=\"\",\"\",IF(COUNTIF($B$4:$B2791,B1522)=1,\"ID Único OK\",\"ID repetido\"))","v":""}]
[null,null,null,null,null,null,null,"","",{"$f":"IF(B1523=\"\",\"\",IF(COUNTIF($B$4:$B2792,B1523)=1,\"ID Único OK\",\"ID repetido\"))","v":""}]
[null,null,null,null,null,null,null,"","",{"$f":"IF(B1524=\"\",\"\",IF(COUNTIF($B$4:$B2793,B1524)=1,\"ID Único OK\",\"ID repetido\"))","v":""}]
[null,null,null,null,null,null,null,"","",{"$f":"IF(B1525=\"\",\"\",IF(COUNTIF($B$4:$B2794,B1525)=1,\"ID Único OK\",\"ID repetido\"))","v":""}]
[null,null,null,null,null,null,null,"","",{"$f":"IF(B1526=\"\",\"\",IF(COUNTIF($B$4:$B2795,B1526)=1,\"ID Único OK\",\"ID repetido\"))","v":""}]
[null,null,null,null,null,null,null,"","",{"$f":"IF(B1527=\"\",\"\",IF(COUNTIF($B$4:$B2796,B1527)=1,\"ID Único OK\",\"ID repetido\"))","v":""}]
[null,null,null,null,null,null,null,"","",{"$f":"IF(B1528=\"\",\"\",IF(COUNTIF($B$4:$B2797,B1528)=1,\"ID Único OK\",\"ID repetido\"))","v":""}]
[null,null,null,null,null,null,null,"","",{"$f":"IF(B1529=\"\",\"\",IF(COUNTIF($B$4:$B2798,B1529)=1,\"ID Único OK\",\"ID repetido\"))","v":""}]
[null,null,null,null,null,null,null,"","",{"$f":"IF(B1530=\"\",\"\",IF(COUNTIF($B$4:$B2799,B1530)=1,\"ID Único OK\",\"ID repetido\"))","v":""}]
[null,null,null,null,null,null,null,"","",{"$f":"IF(B1531=\"\",\"\",IF(COUNTIF($B$4:$B2800,B1531)=1,\"ID Único OK\",\"ID repetido\"))","v":""}]
[null,null,null,null,null,null,null,"","",{"$f":"IF(B1532=\"\",\"\",IF(COUNTIF($B$4:$B2801,B1532)=1,\"ID Único OK\",\"ID repetido\"))","v":""}]
[null,null,null,null,null,null,null,"","",{"$f":"IF(B1533=\"\",\"\",IF(COUNTIF($B$4:$B2802,B1533)=1,\"ID Único OK\",\"ID repetido\"))","v":""}]
[null,null,null,null,null,null,null,"","",{"$f":"IF(B1534=\"\",\"\",IF(COUNTIF($B$4:$B2803,B1534)=1,\"ID Único OK\",\"ID repetido\"))","v":""}]
[null,null,null,null,null,null,null,"","",{"$f":"IF(B1535=\"\",\"\",IF(COUNTIF($B$4:$B2804,B1535)=1,\"ID Único OK\",\"ID repetido\"))","v":""}]
[null,null,null,null,null,null,null,"","",{"$f":"IF(B1536=\"\",\"\",IF(COUNTIF($B$4:$B2805,B1536)=1,\"ID Único OK\",\"ID repetido\"))","v":""}]
[null,null,null,null,null,null,null,"","",{"$f":"IF(B1537=\"\",\"\",IF(COUNTIF($B$4:$B2806,B1537)=1,\"ID Único OK\",\"ID repetido\"))","v":""}]
[null,null,null,null,null,null,null,"","",{"$f":"IF(B1538=\"\",\"\",IF(COUNTIF($B$4:$B2807,B1538)=1,\"ID Único OK\",\"ID repetido\"))","v":""}]
[null,null,null,null,null,null,null,"","",{"$f":"IF(B1539=\"\",\"\",IF(COUNTIF($B$4:$B2808,B1539)=1,\"ID Único OK\",\"ID repetido\"))","v":""}]
[null,null,null,null,null,null,null,"","",{"$f":"IF(B1540=\"\",\"\",IF(COUNTIF($B$4:$B2809,B1540)=1,\"ID Único OK\",\"ID repetido\"))","v":""}]
[null,null,null,null,null,null,null,{"$f":"IF(F1541=\"\",\"\",IF(B1541=F1541,\"Son iguales\",\"Hay error en los números de solicitud\"))","v":""},{"$f":"IF(E1541=\"\",\"\",IF(E1541<D1541,\"Error entre fechas\",\"Fechas correctas\"))","v":""},{"$f":"IF(B1541=\"\",\"\",IF(COUNTIF($B$4:$B2810,B1541)=1,\"ID Único OK\",\"ID repetido\"))","v":""}]
[null,null,null,null,null,null,null,"","",{"$f":"IF(B1542=\"\",\"\",IF(COUNTIF($B$4:$B2811,B1542)=1,\"ID Único OK\",\"ID repetido\"))","v":""}]
[null,null,null,null,null,null,null,"","",{"$f":"IF(B1543=\"\",\"\",IF(COUNTIF($B$4:$B2812,B1543)=1,\"ID Único OK\",\"ID repetido\"))","v":""}]
[null,null,null,null,null,null,null,"","",{"$f":"IF(B1544=\"\",\"\",IF(COUNTIF($B$4:$B2813,B1544)=1,\"ID Único OK\",\"ID repetido\"))","v":""}]
[null,null,null,null,null,null,null,"","",{"$f":"IF(B1545=\"\",\"\",IF(COUNTIF($B$4:$B2814,B1545)=1,\"ID Único OK\",\"ID repetido\"))","v":""}]
[null,null,null,null,null,null,null,"","",{"$f":"IF(B1546=\"\",\"\",IF(COUNTIF($B$4:$B2815,B1546)=1,\"ID Único OK\",\"ID repetido\"))","v":""}]
[null,null,null,null,null,null,null,"","",{"$f":"IF(B1547=\"\",\"\",IF(COUNTIF($B$4:$B2816,B1547)=1,\"ID Único OK\",\"ID repetido\"))","v":""}]
[null,null,null,null,null,null,null,"","",{"$f":"IF(B1548=\"\",\"\",IF(COUNTIF($B$4:$B2817,B1548)=1,\"ID Único OK\",\"ID repetido\"))","v":""}]
[null,null,null,null,null,null,null,"","",{"$f":"IF(B1549=\"\",\"\",IF(COUNTIF($B$4:$B2818,B1549)=1,\"ID Único OK\",\"ID repetido\"))","v":""}]
[null,null,null,null,null,null,null,"","",{"$f":"IF(B1550=\"\",\"\",IF(COUNTIF($B$4:$B2819,B1550)=1,\"ID Único OK\",\"ID repetido\"))","v":""}]
[null,null,null,null,null,null,null,"","",{"$f":"IF(B1551=\"\",\"\",IF(COUNTIF($B$4:$B2820,B1551)=1,\"ID Único OK\",\"ID repetido\"))","v":""}]
[null,null,null,null,null,null,null,"","",{"$f":"IF(B1552=\"\",\"\",IF(COUNTIF($B$4:$B2821,B1552)=1,\"ID Único OK\",\"ID repetido\"))","v":""}]
[null,null,null,null,null,null,null,"","",{"$f":"IF(B1553=\"\",\"\",IF(COUNTIF($B$4:$B2822,B1553)=1,\"ID Único OK\",\"ID repetido\"))","v":""}]
[null,null,null,null,null,null,null,"","",{"$f":"IF(B1554=\"\",\"\",IF(COUNTIF($B$4:$B2823,B1554)=1,\"ID Único OK\",\"ID repetido\"))","v":""}]
[null,null,null,null,null,null,null,"","",{"$f":"IF(B1555=\"\",\"\",IF(COUNTIF($B$4:$B2824,B1555)=1,\"ID Único OK\",\"ID repetido\"))","v":""}]
[null,null,null,null,null,null,null,"","",{"$f":"IF(B1556=\"\",\"\",IF(COUNTIF($B$4:$B2825,B1556)=1,\"ID Único OK\",\"ID repetido\"))","v":""}]
[null,null,null,null,null,null,null,"","",{"$f":"IF(B1557=\"\",\"\",IF(COUNTIF($B$4:$B2826,B1557)=1,\"ID Único OK\",\"ID repetido\"))","v":""}]
[null,null,null,null,null,null,null,"","",{"$f":"IF(B1558=\"\",\"\",IF(COUNTIF($B$4:$B2827,B1558)=1,\"ID Único OK\",\"ID repetido\"))","v":""}]
[null,null,null,null,null,null,null,"","",{"$f":"IF(B1559=\"\",\"\",IF(COUNTIF($B$4:$B2828,B1559)=1,\"ID Único OK\",\"ID repetido\"))","v":""}]
[null,null,null,null,null,null,null,"","",{"$f":"IF(B1560=\"\",\"\",IF(COUNTIF($B$4:$B2829,B1560)=1,\"ID Único OK\",\"ID repetido\"))","v":""}]
[null,null,null,null,null,null,null,"","",{"$f":"IF(B1561=\"\",\"\",IF(COUNTIF($B$4:$B2830,B1561)=1,\"ID Único OK\",\"ID repetido\"))","v":""}]
[null,null,null,null,null,null,null,"","",{"$f":"IF(B1562=\"\",\"\",IF(COUNTIF($B$4:$B2831,B1562)=1,\"ID Único OK\",\"ID repetido\"))","v":""}]
[null,null,null,null,null,null,null,"","",{"$f":"IF(B1563=\"\",\"\",IF(COUNTIF($B$4:$B2832,B1563)=1,\"ID Único OK\",\"ID repetido\"))","v":""}]
[null,null,null,null,null,null,null,"","",{"$f":"IF(B1564=\"\",\"\",IF(COUNTIF($B$4:$B2833,B1564)=1,\"ID Único OK\",\"ID repetido\"))","v":""}]
[null,null,null,null,null,null,null,"","",{"$f":"IF(B1565=\"\",\"\",IF(COUNTIF($B$4:$B2834,B1565)=1,\"ID Único OK\",\"ID repetido\"))","v":""}]
[null,null,null,null,null,null,null,"","",{"$f":"IF(B1566=\"\",\"\",IF(COUNTIF($B$4:$B2835,B1566)=1,\"ID Único OK\",\"ID repetido\"))","v":""}]
[null,null,null,null,null,null,null,"","",{"$f":"IF(B1567=\"\",\"\",IF(COUNTIF($B$4:$B2836,B1567)=1,\"ID Único OK\",\"ID repetido\"))","v":""}]
[null,null,null,null,null,null,null,"","",{"$f":"IF(B1568=\"\",\"\",IF(COUNTIF($B$4:$B2837,B1568)=1,\"ID Único OK\",\"ID repetido\"))","v":""}]
[null,null,null,null,null,null,null,"","",{"$f":"IF(B1569=\"\",\"\",IF(COUNTIF($B$4:$B2838,B1569)=1,\"ID Único OK\",\"ID repetido\"))","v":""}]
[null,null,null,null,null,null,null,"","",{"$f":"IF(B1570=\"\",\"\",IF(COUNTIF($B$4:$B2839,B1570)=1,\"ID Único OK\",\"ID repetido\"))","v":""}]
[null,null,null,null,null,null,null,"","",{"$f":"IF(B1571=\"\",\"\",IF(COUNTIF($B$4:$B2840,B1571)=1,\"ID Único OK\",\"ID repetido\"))","v":""}]
[null,null,null,null,null,null,null,"","",{"$f":"IF(B1572=\"\",\"\",IF(COUNTIF($B$4:$B2841,B1572)=1,\"ID Único OK\",\"ID repetido\"))","v":""}]
[null,null,null,null,null,null,null,"","",{"$f":"IF(B1573=\"\",\"\",IF(COUNTIF($B$4:$B2842,B1573)=1,\"ID Único OK\",\"ID repetido\"))","v":""}]
[null,null,null,null,null,null,null,"","",{"$f":"IF(B1574=\"\",\"\",IF(COUNTIF($B$4:$B2843,B1574)=1,\"ID Único OK\",\"ID repetido\"))","v":""}]
[null,null,null,null,null,null,null,"","",{"$f":"IF(B1575=\"\",\"\",IF(COUNTIF($B$4:$B2844,B1575)=1,\"ID Único OK\",\"ID repetido\"))","v":""}]
[null,null,null,null,null,null,null,"","",{"$f":"IF(B1576=\"\",\"\",IF(COUNTIF($B$4:$B2845,B1576)=1,\"ID Único OK\",\"ID repetido\"))","v":""}]
[null,null,null,null,null,null,null,"","",{"$f":"IF(B1577=\"\",\"\",IF(COUNTIF($B$4:$B2846,B1577)=1,\"ID Único OK\",\"ID repetido\"))","v":""}]
[null,null,null,null,null,null,null,"","",{"$f":"IF(B1578=\"\",\"\",IF(COUNTIF($B$4:$B2847,B1578)=1,\"ID Único OK\",\"ID repetido\"))","v":""}]
[null,null,null,null,null,null,null,"","",{"$f":"IF(B1579=\"\",\"\",IF(COUNTIF($B$4:$B2848,B1579)=1,\"ID Único OK\",\"ID repetido\"))","v":""}]
[null,null,null,null,null,null,null,"","",{"$f":"IF(B1580=\"\",\"\",IF(COUNTIF($B$4:$B2849,B1580)=1,\"ID Único OK\",\"ID repetido\"))","v":""}]
[null,null,null,null,null,null,null,"","",{"$f":"IF(B1581=\"\",\"\",IF(COUNTIF($B$4:$B2850,B1581)=1,\"ID Único OK\",\"ID repetido\"))","v":""}]
[null,null,null,null,null,null,null,"","",{"$f":"IF(B1582=\"\",\"\",IF(COUNTIF($B$4:$B2851,B1582)=1,\"ID Único OK\",\"ID repetido\"))","v":""}]
[null,null,null,null,null,null,null,"","",{"$f":"IF(B1583=\"\",\"\",IF(COUNTIF($B$4:$B2852,B1583)=1,\"ID Único OK\",\"ID repetido\"))","v":""}]
[null,null,null,null,null,null,null,"","",{"$f":"IF(B1584=\"\",\"\",IF(COUNTIF($B$4:$B2853,B1584)=1,\"ID Único OK\",\"ID repetido\"))","v":""}]
[null,null,null,null,null,null,null,"","",{"$f":"IF(B1585=\"\",\"\",IF(COUNTIF($B$4:$B2854,B1585)=1,\"ID Único OK\",\"ID repetido\"))","v":""}]
[null,null,null,null,null,null,null,"","",{"$f":"IF(B1586=\"\",\"\",IF(COUNTIF($B$4:$B2855,B1586)=1,\"ID Único OK\",\"ID repetido\"))","v":""}]
[null,null,null,null,null,null,null,"","",{"$f":"IF(B1587=\"\",\"\",IF(COUNTIF($B$4:$B2856,B1587)=1,\"ID Único OK\",\"ID repetido\"))","v":""}]
[null,null,null,null,null,null,null,"","",{"$f":"IF(B1588=\"\",\"\",IF(COUNTIF($B$4:$B2857,B1588)=1,\"ID Único OK\",\"ID repetido\"))","v":""}]
[null,null,null,null,null,null,null,"","",{"$f":"IF(B1589=\"\",\"\",IF(COUNTIF($B$4:$B2858,B1589)=1,\"ID Único OK\",\"ID repetido\"))","v":""}]
[null,null,null,null,null,null,null,"","",{"$f":"IF(B1590=\"\",\"\",IF(COUNTIF($B$4:$B2859,B1590)=1,\"ID Único OK\",\"ID repetido\"))","v":""}]
[null,null,null,null,null,null,null,"","",{"$f":"IF(B1591=\"\",\"\",IF(COUNTIF($B$4:$B2860,B1591)=1,\"ID Único OK\",\"ID repetido\"))","v":""}]
[null,null,null,null,null,null,null,"","",{"$f":"IF(B1592=\"\",\"\",IF(COUNTIF($B$4:$B2861,B1592)=1,\"ID Único OK\",\"ID repetido\"))","v":""}]
[null,null,null,null,null,null,null,"","",{"$f":"IF(B1593=\"\",\"\",IF(COUNTIF($B$4:$B2862,B1593)=1,\"ID Único OK\",\"ID repetido\"))","v":""}]
[null,null,null,null,null,null,null,"","",{"$f":"IF(B1594=\"\",\"\",IF(COUNTIF($B$4:$B2863,B1594)=1,\"ID Único OK\",\"ID repetido\"))","v":""}]
[null,null,null,null,null,null,null,"","",{"$f":"IF(B1595=\"\",\"\",IF(COUNTIF($B$4:$B2864,B1595)=1,\"ID Único OK\",\"ID repetido\"))","v":""}]
[null,null,null,null,null,null,null,"","",{"$f":"IF(B1596=\"\",\"\",IF(COUNTIF($B$4:$B2865,B1596)=1,\"ID Único OK\",\"ID repetido\"))","v":""}]
[null,null,null,null,null,null,null,"","",{"$f":"IF(B1597=\"\",\"\",IF(COUNTIF($B$4:$B2866,B1597)=1,\"ID Único OK\",\"ID repetido\"))","v":""}]
[null,null,null,null,null,null,null,"","",{"$f":"IF(B1598=\"\",\"\",IF(COUNTIF($B$4:$B2867,B1598)=1,\"ID Único OK\",\"ID repetido\"))","v":""}]
[null,null,null,null,null,null,null,"","",{"$f":"IF(B1599=\"\",\"\",IF(COUNTIF($B$4:$B2868,B1599)=1,\"ID Único OK\",\"ID repetido\"))","v":""}]
[null,null,null,null,null,null,null,"","",{"$f":"IF(B1600=\"\",\"\",IF(COUNTIF($B$4:$B2869,B1600)=1,\"ID Único OK\",\"ID repetido\"))","v":""}]
[null,null,null,null,null,null,null,"","",{"$f":"IF(B1601=\"\",\"\",IF(COUNTIF($B$4:$B2870,B1601)=1,\"ID Único OK\",\"ID repetido\"))","v":""}]
[null,null,null,null,null,null,null,"","",{"$f":"IF(B1602=\"\",\"\",IF(COUNTIF($B$4:$B2871,B1602)=1,\"ID Único OK\",\"ID repetido\"))","v":""}]
[null,null,null,null,null,null,null,"","",{"$f":"IF(B1603=\"\",\"\",IF(COUNTIF($B$4:$B2872,B1603)=1,\"ID Único OK\",\"ID repetido\"))","v":""}]
[null,null,null,null,null,null,null,"","",{"$f":"IF(B1604=\"\",\"\",IF(COUNTIF($B$4:$B2873,B1604)=1,\"ID Único OK\",\"ID repetido\"))","v":""}]
[null,null,null,null,null,null,null,{"$f":"IF(F1605=\"\",\"\",IF(B1605=F1605,\"Son iguales\",\"Hay error en los números de solicitud\"))","v":""},{"$f":"IF(E1605=\"\",\"\",IF(E1605<D1605,\"Error entre fechas\",\"Fechas correctas\"))","v":""},{"$f":"IF(B1605=\"\",\"\",IF(COUNTIF($B$4:$B2874,B1605)=1,\"ID Único OK\",\"ID repetido\"))","v":""}]
[null,null,null,null,null,null,null,"","",{"$f":"IF(B1606=\"\",\"\",IF(COUNTIF($B$4:$B2875,B1606)=1,\"ID Único OK\",\"ID repetido\"))","v":""}]
[null,null,null,null,null,null,null,"","",{"$f":"IF(B1607=\"\",\"\",IF(COUNTIF($B$4:$B2876,B1607)=1,\"ID Único OK\",\"ID repetido\"))","v":""}]
[null,null,null,null,null,null,null,"","",{"$f":"IF(B1608=\"\",\"\",IF(COUNTIF($B$4:$B2877,B1608)=1,\"ID Único OK\",\"ID repetido\"))","v":""}]
[null,null,null,null,null,null,null,"","",{"$f":"IF(B1609=\"\",\"\",IF(COUNTIF($B$4:$B2878,B1609)=1,\"ID Único OK\",\"ID repetido\"))","v":""}]
[null,null,null,null,null,null,null,"","",{"$f":"IF(B1610=\"\",\"\",IF(COUNTIF($B$4:$B2879,B1610)=1,\"ID Único OK\",\"ID repetido\"))","v":""}]
[null,null,null,null,null,null,null,"","",{"$f":"IF(B1611=\"\",\"\",IF(COUNTIF($B$4:$B2880,B1611)=1,\"ID Único OK\",\"ID repetido\"))","v":""}]
[null,null,null,null,null,null,null,"","",{"$f":"IF(B1612=\"\",\"\",IF(COUNTIF($B$4:$B2881,B1612)=1,\"ID Único OK\",\"ID repetido\"))","v":""}]
[null,null,null,null,null,null,null,"","",{"$f":"IF(B1613=\"\",\"\",IF(COUNTIF($B$4:$B2882,B1613)=1,\"ID Único OK\",\"ID repetido\"))","v":""}]
[null,null,null,null,null,null,null,"","",{"$f":"IF(B1614=\"\",\"\",IF(COUNTIF($B$4:$B2883,B1614)=1,\"ID Único OK\",\"ID repetido\"))","v":""}]
[null,null,null,null,null,null,null,"","",{"$f":"IF(B1615=\"\",\"\",IF(COUNTIF($B$4:$B2884,B1615)=1,\"ID Único OK\",\"ID repetido\"))","v":""}]
[null,null,null,null,null,null,null,"","",{"$f":"IF(B1616=\"\",\"\",IF(COUNTIF($B$4:$B2885,B1616)=1,\"ID Único OK\",\"ID repetido\"))","v":""}]
[null,null,null,null,null,null,null,"","",{"$f":"IF(B1617=\"\",\"\",IF(COUNTIF($B$4:$B2886,B1617)=1,\"ID Único OK\",\"ID repetido\"))","v":""}]
[null,null,null,null,null,null,null,"","",{"$f":"IF(B1618=\"\",\"\",IF(COUNTIF($B$4:$B2887,B1618)=1,\"ID Único OK\",\"ID repetido\"))","v":""}]
[null,null,null,null,null,null,null,"","",{"$f":"IF(B1619=\"\",\"\",IF(COUNTIF($B$4:$B2888,B1619)=1,\"ID Único OK\",\"ID repetido\"))","v":""}]
[null,null,null,null,null,null,null,"","",{"$f":"IF(B1620=\"\",\"\",IF(COUNTIF($B$4:$B2889,B1620)=1,\"ID Único OK\",\"ID repetido\"))","v":""}]
[null,null,null,null,null,null,null,"","",{"$f":"IF(B1621=\"\",\"\",IF(COUNTIF($B$4:$B2890,B1621)=1,\"ID Único OK\",\"ID repetido\"))","v":""}]
[null,null,null,null,null,null,null,"","",{"$f":"IF(B1622=\"\",\"\",IF(COUNTIF($B$4:$B2891,B1622)=1,\"ID Único OK\",\"ID repetido\"))","v":""}]
[null,null,null,null,null,null,null,"","",{"$f":"IF(B1623=\"\",\"\",IF(COUNTIF($B$4:$B2892,B1623)=1,\"ID Único OK\",\"ID repetido\"))","v":""}]
[null,null,null,null,null,null,null,"","",{"$f":"IF(B1624=\"\",\"\",IF(COUNTIF($B$4:$B2893,B1624)=1,\"ID Único OK\",\"ID repetido\"))","v":""}]
[null,null,null,null,null,null,null,"","",{"$f":"IF(B1625=\"\",\"\",IF(COUNTIF($B$4:$B2894,B1625)=1,\"ID Único OK\",\"ID repetido\"))","v":""}]
[null,null,null,null,null,null,null,"","",{"$f":"IF(B1626=\"\",\"\",IF(COUNTIF($B$4:$B2895,B1626)=1,\"ID Único OK\",\"ID repetido\"))","v":""}]
[null,null,null,null,null,null,null,"","",{"$f":"IF(B1627=\"\",\"\",IF(COUNTIF($B$4:$B2896,B1627)=1,\"ID Único OK\",\"ID repetido\"))","v":""}]
[null,null,null,null,null,null,null,"","",{"$f":"IF(B1628=\"\",\"\",IF(COUNTIF($B$4:$B2897,B1628)=1,\"ID Único OK\",\"ID repetido\"))","v":""}]
[null,null,null,null,null,null,null,"","",{"$f":"IF(B1629=\"\",\"\",IF(COUNTIF($B$4:$B2898,B1629)=1,\"ID Único OK\",\"ID repetido\"))","v":""}]
[null,null,null,null,null,null,null,"","",{"$f":"IF(B1630=\"\",\"\",IF(COUNTIF($B$4:$B2899,B1630)=1,\"ID Único OK\",\"ID repetido\"))","v":""}]
[null,null,null,null,null,null,null,"","",{"$f":"IF(B1631=\"\",\"\",IF(COUNTIF($B$4:$B2900,B1631)=1,\"ID Único OK\",\"ID repetido\"))","v":""}]
[null,null,null,null,null,null,null,"","",{"$f":"IF(B1632=\"\",\"\",IF(COUNTIF($B$4:$B2901,B1632)=1,\"ID Único OK\",\"ID repetido\"))","v":""}]
[null,null,null,null,null,null,null,"","",{"$f":"IF(B1633=\"\",\"\",IF(COUNTIF($B$4:$B2902,B1633)=1,\"ID Único OK\",\"ID repetido\"))","v":""}]
[null,null,null,null,null,null,null,"","",{"$f":"IF(B1634=\"\",\"\",IF(COUNTIF($B$4:$B2903,B1634)=1,\"ID Único OK\",\"ID repetido\"))","v":""}]
[null,null,null,null,null,null,null,"","",{"$f":"IF(B1635=\"\",\"\",IF(COUNTIF($B$4:$B2904,B1635)=1,\"ID Único OK\",\"ID repetido\"))","v":""}]
[null,null,null,null,null,null,null,"","",{"$f":"IF(B1636=\"\",\"\",IF(COUNTIF($B$4:$B2905,B1636)=1,\"ID Único OK\",\"ID repetido\"))","v":""}]
[null,null,null,null,null,null,null,"","",{"$f":"IF(B1637=\"\",\"\",IF(COUNTIF($B$4:$B2906,B1637)=1,\"ID Único OK\",\"ID repetido\"))","v":""}]
[null,null,null,null,null,null,null,"","",{"$f":"IF(B1638=\"\",\"\",IF(COUNTIF($B$4:$B2907,B1638)=1,\"ID Único OK\",\"ID repetido\"))","v":""}]
[null,null,null,null,null,null,null,"","",{"$f":"IF(B1639=\"\",\"\",IF(COUNTIF($B$4:$B2908,B1639)=1,\"ID Único OK\",\"ID repetido\"))","v":""}]
[null,null,null,null,null,null,null,"","",{"$f":"IF(B1640=\"\",\"\",IF(COUNTIF($B$4:$B2909,B1640)=1,\"ID Único OK\",\"ID repetido\"))","v":""}]
[null,null,null,null,null,null,null,"","",{"$f":"IF(B1641=\"\",\"\",IF(COUNTIF($B$4:$B2910,B1641)=1,\"ID Único OK\",\"ID repetido\"))","v":""}]
[null,null,null,null,null,null,null,"","",{"$f":"IF(B1642=\"\",\"\",IF(COUNTIF($B$4:$B2911,B1642)=1,\"ID Único OK\",\"ID repetido\"))","v":""}]
[null,null,null,null,null,null,null,"","",{"$f":"IF(B1643=\"\",\"\",IF(COUNTIF($B$4:$B2912,B1643)=1,\"ID Único OK\",\"ID repetido\"))","v":""}]
[null,null,null,null,null,null,null,"","",{"$f":"IF(B1644=\"\",\"\",IF(COUNTIF($B$4:$B2913,B1644)=1,\"ID Único OK\",\"ID repetido\"))","v":""}]
[null,null,null,null,null,null,null,"","",{"$f":"IF(B1645=\"\",\"\",IF(COUNTIF($B$4:$B2914,B1645)=1,\"ID Único OK\",\"ID repetido\"))","v":""}]
[null,null,null,null,null,null,null,"","",{"$f":"IF(B1646=\"\",\"\",IF(COUNTIF($B$4:$B2915,B1646)=1,\"ID Único OK\",\"ID repetido\"))","v":""}]
[null,null,null,null,null,null,null,"","",{"$f":"IF(B1647=\"\",\"\",IF(COUNTIF($B$4:$B2916,B1647)=1,\"ID Único OK\",\"ID repetido\"))","v":""}]
[null,null,null,null,null,null,null,"","",{"$f":"IF(B1648=\"\",\"\",IF(COUNTIF($B$4:$B2917,B1648)=1,\"ID Único OK\",\"ID repetido\"))","v":""}]
[null,null,null,null,null,null,null,"","",{"$f":"IF(B1649=\"\",\"\",IF(COUNTIF($B$4:$B2918,B1649)=1,\"ID Único OK\",\"ID repetido\"))","v":""}]
[null,null,null,null,null,null,null,"","",{"$f":"IF(B1650=\"\",\"\",IF(COUNTIF($B$4:$B2919,B1650)=1,\"ID Único OK\",\"ID repetido\"))","v":""}]
[null,null,null,null,null,null,null,"","",{"$f":"IF(B1651=\"\",\"\",IF(COUNTIF($B$4:$B2920,B1651)=1,\"ID Único OK\",\"ID repetido\"))","v":""}]
[null,null,null,null,null,null,null,"","",{"$f":"IF(B1652=\"\",\"\",IF(COUNTIF($B$4:$B2921,B1652)=1,\"ID Único OK\",\"ID repetido\"))","v":""}]
[null,null,null,null,null,null,null,"","",{"$f":"IF(B1653=\"\",\"\",IF(COUNTIF($B$4:$B2922,B1653)=1,\"ID Único OK\",\"ID repetido\"))","v":""}]
[null,null,null,null,null,null,null,"","",{"$f":"IF(B1654=\"\",\"\",IF(COUNTIF($B$4:$B2923,B1654)=1,\"ID Único OK\",\"ID repetido\"))","v":""}]
[null,null,null,null,null,null,null,"","",{"$f":"IF(B1655=\"\",\"\",IF(COUNTIF($B$4:$B2924,B1655)=1,\"ID Único OK\",\"ID repetido\"))","v":""}]
[null,null,null,null,null,null,null,"","",{"$f":"IF(B1656=\"\",\"\",IF(COUNTIF($B$4:$B2925,B1656)=1,\"ID Único OK\",\"ID repetido\"))","v":""}]
[null,null,null,null,null,null,null,"","",{"$f":"IF(B1657=\"\",\"\",IF(COUNTIF($B$4:$B2926,B1657)=1,\"ID Único OK\",\"ID repetido\"))","v":""}]
[null,null,null,null,null,null,null,"","",{"$f":"IF(B1658=\"\",\"\",IF(COUNTIF($B$4:$B2927,B1658)=1,\"ID Único OK\",\"ID repetido\"))","v":""}]
[null,null,null,null,null,null,null,"","",{"$f":"IF(B1659=\"\",\"\",IF(COUNTIF($B$4:$B2928,B1659)=1,\"ID Único OK\",\"ID repetido\"))","v":""}]
[null,null,null,null,null,null,null,"","",{"$f":"IF(B1660=\"\",\"\",IF(COUNTIF($B$4:$B2929,B1660)=1,\"ID Único OK\",\"ID repetido\"))","v":""}]
[null,null,null,null,null,null,null,"","",{"$f":"IF(B1661=\"\",\"\",IF(COUNTIF($B$4:$B2930,B1661)=1,\"ID Único OK\",\"ID repetido\"))","v":""}]
[null,null,null,null,null,null,null,"","",{"$f":"IF(B1662=\"\",\"\",IF(COUNTIF($B$4:$B2931,B1662)=1,\"ID Único OK\",\"ID repetido\"))","v":""}]
[null,null,null,null,null,null,null,"","",{"$f":"IF(B1663=\"\",\"\",IF(COUNTIF($B$4:$B2932,B1663)=1,\"ID Único OK\",\"ID repetido\"))","v":""}]
[null,null,null,null,null,null,null,"","",{"$f":"IF(B1664=\"\",\"\",IF(COUNTIF($B$4:$B2933,B1664)=1,\"ID Único OK\",\"ID repetido\"))","v":""}]
[null,null,null,null,null,null,null,"","",{"$f":"IF(B1665=\"\",\"\",IF(COUNTIF($B$4:$B2934,B1665)=1,\"ID Único OK\",\"ID repetido\"))","v":""}]
[null,null,null,null,null,null,null,"","",{"$f":"IF(B1666=\"\",\"\",IF(COUNTIF($B$4:$B2935,B1666)=1,\"ID Único OK\",\"ID repetido\"))","v":""}]
[null,null,null,null,null,null,null,"","",{"$f":"IF(B1667=\"\",\"\",IF(COUNTIF($B$4:$B2936,B1667)=1,\"ID Único OK\",\"ID repetido\"))","v":""}]
[null,null,null,null,null,null,null,"","",{"$f":"IF(B1668=\"\",\"\",IF(COUNTIF($B$4:$B2937,B1668)=1,\"ID Único OK\",\"ID repetido\"))","v":""}]
[null,null,null,null,null,null,null,{"$f":"IF(F1669=\"\",\"\",IF(B1669=F1669,\"Son iguales\",\"Hay error en los números de solicitud\"))","v":""},{"$f":"IF(E1669=\"\",\"\",IF(E1669<D1669,\"Error entre fechas\",\"Fechas correctas\"))","v":""},{"$f":"IF(B1669=\"\",\"\",IF(COUNTIF($B$4:$B2938,B1669)=1,\"ID Único OK\",\"ID repetido\"))","v":""}]
[null,null,null,null,null,null,null,"","",{"$f":"IF(B1670=\"\",\"\",IF(COUNTIF($B$4:$B2939,B1670)=1,\"ID Único OK\",\"ID repetido\"))","v":""}]
[null,null,null,null,null,null,null,"","",{"$f":"IF(B1671=\"\",\"\",IF(COUNTIF($B$4:$B2940,B1671)=1,\"ID Único OK\",\"ID repetido\"))","v":""}]
[null,null,null,null,null,null,null,"","",{"$f":"IF(B1672=\"\",\"\",IF(COUNTIF($B$4:$B2941,B1672)=1,\"ID Único OK\",\"ID repetido\"))","v":""}]
[null,null,null,null,null,null,null,"","",{"$f":"IF(B1673=\"\",\"\",IF(COUNTIF($B$4:$B2942,B1673)=1,\"ID Único OK\",\"ID repetido\"))","v":""}]
[null,null,null,null,null,null,null,"","",{"$f":"IF(B1674=\"\",\"\",IF(COUNTIF($B$4:$B2943,B1674)=1,\"ID Único OK\",\"ID repetido\"))","v":""}]
[null,null,null,null,null,null,null,"","",{"$f":"IF(B1675=\"\",\"\",IF(COUNTIF($B$4:$B2944,B1675)=1,\"ID Único OK\",\"ID repetido\"))","v":""}]
[null,null,null,null,null,null,null,"","",{"$f":"IF(B1676=\"\",\"\",IF(COUNTIF($B$4:$B2945,B1676)=1,\"ID Único OK\",\"ID repetido\"))","v":""}]
[null,null,null,null,null,null,null,"","",{"$f":"IF(B1677=\"\",\"\",IF(COUNTIF($B$4:$B2946,B1677)=1,\"ID Único OK\",\"ID repetido\"))","v":""}]
[null,null,null,null,null,null,null,"","",{"$f":"IF(B1678=\"\",\"\",IF(COUNTIF($B$4:$B2947,B1678)=1,\"ID Único OK\",\"ID repetido\"))","v":""}]
[null,null,null,null,null,null,null,"","",{"$f":"IF(B1679=\"\",\"\",IF(COUNTIF($B$4:$B2948,B1679)=1,\"ID Único OK\",\"ID repetido\"))","v":""}]
[null,null,null,null,null,null,null,"","",{"$f":"IF(B1680=\"\",\"\",IF(COUNTIF($B$4:$B2949,B1680)=1,\"ID Único OK\",\"ID repetido\"))","v":""}]
[null,null,null,null,null,null,null,"","",{"$f":"IF(B1681=\"\",\"\",IF(COUNTIF($B$4:$B2950,B1681)=1,\"ID Único OK\",\"ID repetido\"))","v":""}]
[null,null,null,null,null,null,null,"","",{"$f":"IF(B1682=\"\",\"\",IF(COUNTIF($B$4:$B2951,B1682)=1,\"ID Único OK\",\"ID repetido\"))","v":""}]
[null,null,null,null,null,null,null,"","",{"$f":"IF(B1683=\"\",\"\",IF(COUNTIF($B$4:$B2952,B1683)=1,\"ID Único OK\",\"ID repetido\"))","v":""}]
[null,null,null,null,null,null,null,"","",{"$f":"IF(B1684=\"\",\"\",IF(COUNTIF($B$4:$B2953,B1684)=1,\"ID Único OK\",\"ID repetido\"))","v":""}]
[null,null,null,null,null,null,null,"","",{"$f":"IF(B1685=\"\",\"\",IF(COUNTIF($B$4:$B2954,B1685)=1,\"ID Único OK\",\"ID repetido\"))","v":""}]
[null,null,null,null,null,null,null,"","",{"$f":"IF(B1686=\"\",\"\",IF(COUNTIF($B$4:$B2955,B1686)=1,\"ID Único OK\",\"ID repetido\"))","v":""}]
[null,null,null,null,null,null,null,"","",{"$f":"IF(B1687=\"\",\"\",IF(COUNTIF($B$4:$B2956,B1687)=1,\"ID Único OK\",\"ID repetido\"))","v":""}]
[null,null,null,null,null,null,null,"","",{"$f":"IF(B1688=\"\",\"\",IF(COUNTIF($B$4:$B2957,B1688)=1,\"ID Único OK\",\"ID repetido\"))","v":""}]
[null,null,null,null,null,null,null,"","",{"$f":"IF(B1689=\"\",\"\",IF(COUNTIF($B$4:$B2958,B1689)=1,\"ID Único OK\",\"ID repetido\"))","v":""}]
[null,null,null,null,null,null,null,"","",{"$f":"IF(B1690=\"\",\"\",IF(COUNTIF($B$4:$B2959,B1690)=1,\"ID Único OK\",\"ID repetido\"))","v":""}]
[null,null,null,null,null,null,null,"","",{"$f":"IF(B1691=\"\",\"\",IF(COUNTIF($B$4:$B2960,B1691)=1,\"ID Único OK\",\"ID repetido\"))","v":""}]
[null,null,null,null,null,null,null,"","",{"$f":"IF(B1692=\"\",\"\",IF(COUNTIF($B$4:$B2961,B1692)=1,\"ID Único OK\",\"ID repetido\"))","v":""}]
[null,null,null,null,null,null,null,"","",{"$f":"IF(B1693=\"\",\"\",IF(COUNTIF($B$4:$B2962,B1693)=1,\"ID Único OK\",\"ID repetido\"))","v":""}]
[null,null,null,null,null,null,null,"","",{"$f":"IF(B1694=\"\",\"\",IF(COUNTIF($B$4:$B2963,B1694)=1,\"ID Único OK\",\"ID repetido\"))","v":""}]
[null,null,null,null,null,null,null,"","",{"$f":"IF(B1695=\"\",\"\",IF(COUNTIF($B$4:$B2964,B1695)=1,\"ID Único OK\",\"ID repetido\"))","v":""}]
[null,null,null,null,null,null,null,"","",{"$f":"IF(B1696=\"\",\"\",IF(COUNTIF($B$4:$B2965,B1696)=1,\"ID Único OK\",\"ID repetido\"))","v":""}]
[null,null,null,null,null,null,null,"","",{"$f":"IF(B1697=\"\",\"\",IF(COUNTIF($B$4:$B2966,B1697)=1,\"ID Único OK\",\"ID repetido\"))","v":""}]
[null,null,null,null,null,null,null,"","",{"$f":"IF(B1698=\"\",\"\",IF(COUNTIF($B$4:$B2967,B1698)=1,\"ID Único OK\",\"ID repetido\"))","v":""}]
[null,null,null,null,null,null,null,"","",{"$f":"IF(B1699=\"\",\"\",IF(COUNTIF($B$4:$B2968,B1699)=1,\"ID Único OK\",\"ID repetido\"))","v":""}]
[null,null,null,null,null,null,null,"","",{"$f":"IF(B1700=\"\",\"\",IF(COUNTIF($B$4:$B2969,B1700)=1,\"ID Único OK\",\"ID repetido\"))","v":""}]
[null,null,null,null,null,null,null,"","",{"$f":"IF(B1701=\"\",\"\",IF(COUNTIF($B$4:$B2970,B1701)=1,\"ID Único OK\",\"ID repetido\"))","v":""}]
[null,null,null,null,null,null,null,"","",{"$f":"IF(B1702=\"\",\"\",IF(COUNTIF($B$4:$B2971,B1702)=1,\"ID Único OK\",\"ID repetido\"))","v":""}]
[null,null,null,null,null,null,null,"","",{"$f":"IF(B1703=\"\",\"\",IF(COUNTIF($B$4:$B2972,B1703)=1,\"ID Único OK\",\"ID repetido\"))","v":""}]
[null,null,null,null,null,null,null,"","",{"$f":"IF(B1704=\"\",\"\",IF(COUNTIF($B$4:$B2973,B1704)=1,\"ID Único OK\",\"ID repetido\"))","v":""}]
[null,null,null,null,null,null,null,"","",{"$f":"IF(B1705=\"\",\"\",IF(COUNTIF($B$4:$B2974,B1705)=1,\"ID Único OK\",\"ID repetido\"))","v":""}]
[null,null,null,null,null,null,null,"","",{"$f":"IF(B1706=\"\",\"\",IF(COUNTIF($B$4:$B2975,B1706)=1,\"ID Único OK\",\"ID repetido\"))","v":""}]
[null,null,null,null,null,null,null,"","",{"$f":"IF(B1707=\"\",\"\",IF(COUNTIF($B$4:$B2976,B1707)=1,\"ID Único OK\",\"ID repetido\"))","v":""}]
[null,null,null,null,null,null,null,"","",{"$f":"IF(B1708=\"\",\"\",IF(COUNTIF($B$4:$B2977,B1708)=1,\"ID Único OK\",\"ID repetido\"))","v":""}]
[null,null,null,null,null,null,null,"","",{"$f":"IF(B1709=\"\",\"\",IF(COUNTIF($B$4:$B2978,B1709)=1,\"ID Único OK\",\"ID repetido\"))","v":""}]
[null,null,null,null,null,null,null,"","",{"$f":"IF(B1710=\"\",\"\",IF(COUNTIF($B$4:$B2979,B1710)=1,\"ID Único OK\",\"ID repetido\"))","v":""}]
[null,null,null,null,null,null,null,"","",{"$f":"IF(B1711=\"\",\"\",IF(COUNTIF($B$4:$B2980,B1711)=1,\"ID Único OK\",\"ID repetido\"))","v":""}]
[null,null,null,null,null,null,null,"","",{"$f":"IF(B1712=\"\",\"\",IF(COUNTIF($B$4:$B2981,B1712)=1,\"ID Único OK\",\"ID repetido\"))","v":""}]
[null,null,null,null,null,null,null,"","",{"$f":"IF(B1713=\"\",\"\",IF(COUNTIF($B$4:$B2982,B1713)=1,\"ID Único OK\",\"ID repetido\"))","v":""}]
[null,null,null,null,null,null,null,"","",{"$f":"IF(B1714=\"\",\"\",IF(COUNTIF($B$4:$B2983,B1714)=1,\"ID Único OK\",\"ID repetido\"))","v":""}]
[null,null,null,null,null,null,null,"","",{"$f":"IF(B1715=\"\",\"\",IF(COUNTIF($B$4:$B2984,B1715)=1,\"ID Único OK\",\"ID repetido\"))","v":""}]
[null,null,null,null,null,null,null,"","",{"$f":"IF(B1716=\"\",\"\",IF(COUNTIF($B$4:$B2985,B1716)=1,\"ID Único OK\",\"ID repetido\"))","v":""}]
[null,null,null,null,null,null,null,"","",{"$f":"IF(B1717=\"\",\"\",IF(COUNTIF($B$4:$B2986,B1717)=1,\"ID Único OK\",\"ID repetido\"))","v":""}]
[null,null,null,null,null,null,null,"","",{"$f":"IF(B1718=\"\",\"\",IF(COUNTIF($B$4:$B2987,B1718)=1,\"ID Único OK\",\"ID repetido\"))","v":""}]
[null,null,null,null,null,null,null,"","",{"$f":"IF(B1719=\"\",\"\",IF(COUNTIF($B$4:$B2988,B1719)=1,\"ID Único OK\",\"ID repetido\"))","v":""}]
[null,null,null,null,null,null,null,"","",{"$f":"IF(B1720=\"\",\"\",IF(COUNTIF($B$4:$B2989,B1720)=1,\"ID Único OK\",\"ID repetido\"))","v":""}]
[null,null,null,null,null,null,null,"","",{"$f":"IF(B1721=\"\",\"\",IF(COUNTIF($B$4:$B2990,B1721)=1,\"ID Único OK\",\"ID repetido\"))","v":""}]
[null,null,null,null,null,null,null,"","",{"$f":"IF(B1722=\"\",\"\",IF(COUNTIF($B$4:$B2991,B1722)=1,\"ID Único OK\",\"ID repetido\"))","v":""}]
[null,null,null,null,null,null,null,"","",{"$f":"IF(B1723=\"\",\"\",IF(COUNTIF($B$4:$B2992,B1723)=1,\"ID Único OK\",\"ID repetido\"))","v":""}]
[null,null,null,null,null,null,null,"","",{"$f":"IF(B1724=\"\",\"\",IF(COUNTIF($B$4:$B2993,B1724)=1,\"ID Único OK\",\"ID repetido\"))","v":""}]
[null,null,null,null,null,null,null,"","",{"$f":"IF(B1725=\"\",\"\",IF(COUNTIF($B$4:$B2994,B1725)=1,\"ID Único OK\",\"ID repetido\"))","v":""}]
[null,null,null,null,null,null,null,"","",{"$f":"IF(B1726=\"\",\"\",IF(COUNTIF($B$4:$B2995,B1726)=1,\"ID Único OK\",\"ID repetido\"))","v":""}]
[null,null,null,null,null,null,null,"","",{"$f":"IF(B1727=\"\",\"\",IF(COUNTIF($B$4:$B2996,B1727)=1,\"ID Único OK\",\"ID repetido\"))","v":""}]
[null,null,null,null,null,null,null,"","",{"$f":"IF(B1728=\"\",\"\",IF(COUNTIF($B$4:$B2997,B1728)=1,\"ID Único OK\",\"ID repetido\"))","v":""}]
[null,null,null,null,null,null,null,"","",{"$f":"IF(B1729=\"\",\"\",IF(COUNTIF($B$4:$B2998,B1729)=1,\"ID Único OK\",\"ID repetido\"))","v":""}]
[null,null,null,null,null,null,null,"","",{"$f":"IF(B1730=\"\",\"\",IF(COUNTIF($B$4:$B2999,B1730)=1,\"ID Único OK\",\"ID repetido\"))","v":""}]
[null,null,null,null,null,null,null,"","",{"$f":"IF(B1731=\"\",\"\",IF(COUNTIF($B$4:$B3000,B1731)=1,\"ID Único OK\",\"ID repetido\"))","v":""}]
[null,null,null,null,null,null,null,"","",{"$f":"IF(B1732=\"\",\"\",IF(COUNTIF($B$4:$B3001,B1732)=1,\"ID Único OK\",\"ID repetido\"))","v":""}]
[null,null,null,null,null,null,null,{"$f":"IF(F1733=\"\",\"\",IF(B1733=F1733,\"Son iguales\",\"Hay error en los números de solicitud\"))","v":""},{"$f":"IF(E1733=\"\",\"\",IF(E1733<D1733,\"Error entre fechas\",\"Fechas correctas\"))","v":""},{"$f":"IF(B1733=\"\",\"\",IF(COUNTIF($B$4:$B3002,B1733)=1,\"ID Único OK\",\"ID repetido\"))","v":""}]
[null,null,null,null,null,null,null,"","",{"$f":"IF(B1734=\"\",\"\",IF(COUNTIF($B$4:$B3003,B1734)=1,\"ID Único OK\",\"ID repetido\"))","v":""}]
[null,null,null,null,null,null,null,"","",{"$f":"IF(B1735=\"\",\"\",IF(COUNTIF($B$4:$B3004,B1735)=1,\"ID Único OK\",\"ID repetido\"))","v":""}]
[null,null,null,null,null,null,null,"","",{"$f":"IF(B1736=\"\",\"\",IF(COUNTIF($B$4:$B3005,B1736)=1,\"ID Único OK\",\"ID repetido\"))","v":""}]
[null,null,null,null,null,null,null,"","",{"$f":"IF(B1737=\"\",\"\",IF(COUNTIF($B$4:$B3006,B1737)=1,\"ID Único OK\",\"ID repetido\"))","v":""}]
[null,null,null,null,null,null,null,"","",{"$f":"IF(B1738=\"\",\"\",IF(COUNTIF($B$4:$B3007,B1738)=1,\"ID Único OK\",\"ID repetido\"))","v":""}]
[null,null,null,null,null,null,null,"","",{"$f":"IF(B1739=\"\",\"\",IF(COUNTIF($B$4:$B3008,B1739)=1,\"ID Único OK\",\"ID repetido\"))","v":""}]
[null,null,null,null,null,null,null,"","",{"$f":"IF(B1740=\"\",\"\",IF(COUNTIF($B$4:$B3009,B1740)=1,\"ID Único OK\",\"ID repetido\"))","v":""}]
[null,null,null,null,null,null,null,"","",{"$f":"IF(B1741=\"\",\"\",IF(COUNTIF($B$4:$B3010,B1741)=1,\"ID Único OK\",\"ID repetido\"))","v":""}]
[null,null,null,null,null,null,null,"","",{"$f":"IF(B1742=\"\",\"\",IF(COUNTIF($B$4:$B3011,B1742)=1,\"ID Único OK\",\"ID repetido\"))","v":""}]
[null,null,null,null,null,null,null,"","",{"$f":"IF(B1743=\"\",\"\",IF(COUNTIF($B$4:$B3012,B1743)=1,\"ID Único OK\",\"ID repetido\"))","v":""}]
[null,null,null,null,null,null,null,"","",{"$f":"IF(B1744=\"\",\"\",IF(COUNTIF($B$4:$B3013,B1744)=1,\"ID Único OK\",\"ID repetido\"))","v":""}]
[null,null,null,null,null,null,null,"","",{"$f":"IF(B1745=\"\",\"\",IF(COUNTIF($B$4:$B3014,B1745)=1,\"ID Único OK\",\"ID repetido\"))","v":""}]
[null,null,null,null,null,null,null,"","",{"$f":"IF(B1746=\"\",\"\",IF(COUNTIF($B$4:$B3015,B1746)=1,\"ID Único OK\",\"ID repetido\"))","v":""}]
[null,null,null,null,null,null,null,"","",{"$f":"IF(B1747=\"\",\"\",IF(COUNTIF($B$4:$B3016,B1747)=1,\"ID Único OK\",\"ID repetido\"))","v":""}]
[null,null,null,null,null,null,null,"","",{"$f":"IF(B1748=\"\",\"\",IF(COUNTIF($B$4:$B3017,B1748)=1,\"ID Único OK\",\"ID repetido\"))","v":""}]
[null,null,null,null,null,null,null,"","",{"$f":"IF(B1749=\"\",\"\",IF(COUNTIF($B$4:$B3018,B1749)=1,\"ID Único OK\",\"ID repetido\"))","v":""}]
[null,null,null,null,null,null,null,"","",{"$f":"IF(B1750=\"\",\"\",IF(COUNTIF($B$4:$B3019,B1750)=1,\"ID Único OK\",\"ID repetido\"))","v":""}]
[null,null,null,null,null,null,null,"","",{"$f":"IF(B1751=\"\",\"\",IF(COUNTIF($B$4:$B3020,B1751)=1,\"ID Único OK\",\"ID repetido\"))","v":""}]
[null,null,null,null,null,null,null,"","",{"$f":"IF(B1752=\"\",\"\",IF(COUNTIF($B$4:$B3021,B1752)=1,\"ID Único OK\",\"ID repetido\"))","v":""}]
[null,null,null,null,null,null,null,"","",{"$f":"IF(B1753=\"\",\"\",IF(COUNTIF($B$4:$B3022,B1753)=1,\"ID Único OK\",\"ID repetido\"))","v":""}]
[null,null,null,null,null,null,null,"","",{"$f":"IF(B1754=\"\",\"\",IF(COUNTIF($B$4:$B3023,B1754)=1,\"ID Único OK\",\"ID repetido\"))","v":""}]
[null,null,null,null,null,null,null,"","",{"$f":"IF(B1755=\"\",\"\",IF(COUNTIF($B$4:$B3024,B1755)=1,\"ID Único OK\",\"ID repetido\"))","v":""}]
[null,null,null,null,null,null,null,"","",{"$f":"IF(B1756=\"\",\"\",IF(COUNTIF($B$4:$B3025,B1756)=1,\"ID Único OK\",\"ID repetido\"))","v":""}]
[null,null,null,null,null,null,null,"","",{"$f":"IF(B1757=\"\",\"\",IF(COUNTIF($B$4:$B3026,B1757)=1,\"ID Único OK\",\"ID repetido\"))","v":""}]
[null,null,null,null,null,null,null,"","",{"$f":"IF(B1758=\"\",\"\",IF(COUNTIF($B$4:$B3027,B1758)=1,\"ID Único OK\",\"ID repetido\"))","v":""}]
[null,null,null,null,null,null,null,"","",{"$f":"IF(B1759=\"\",\"\",IF(COUNTIF($B$4:$B3028,B1759)=1,\"ID Único OK\",\"ID repetido\"))","v":""}]
[null,null,null,null,null,null,null,"","",{"$f":"IF(B1760=\"\",\"\",IF(COUNTIF($B$4:$B3029,B1760)=1,\"ID Único OK\",\"ID repetido\"))","v":""}]
[null,null,null,null,null,null,null,"","",{"$f":"IF(B1761=\"\",\"\",IF(COUNTIF($B$4:$B3030,B1761)=1,\"ID Único OK\",\"ID repetido\"))","v":""}]
[null,null,null,null,null,null,null,"","",{"$f":"IF(B1762=\"\",\"\",IF(COUNTIF($B$4:$B3031,B1762)=1,\"ID Único OK\",\"ID repetido\"))","v":""}]
[null,null,null,null,null,null,null,"","",{"$f":"IF(B1763=\"\",\"\",IF(COUNTIF($B$4:$B3032,B1763)=1,\"ID Único OK\",\"ID repetido\"))","v":""}]
[null,null,null,null,null,null,null,"","",{"$f":"IF(B1764=\"\",\"\",IF(COUNTIF($B$4:$B3033,B1764)=1,\"ID Único OK\",\"ID repetido\"))","v":""}]
[null,null,null,null,null,null,null,"","",{"$f":"IF(B1765=\"\",\"\",IF(COUNTIF($B$4:$B3034,B1765)=1,\"ID Único OK\",\"ID repetido\"))","v":""}]
[null,null,null,null,null,null,null,"","",{"$f":"IF(B1766=\"\",\"\",IF(COUNTIF($B$4:$B3035,B1766)=1,\"ID Único OK\",\"ID repetido\"))","v":""}]
[null,null,null,null,null,null,null,"","",{"$f":"IF(B1767=\"\",\"\",IF(COUNTIF($B$4:$B3036,B1767)=1,\"ID Único OK\",\"ID repetido\"))","v":""}]
[null,null,null,null,null,null,null,"","",{"$f":"IF(B1768=\"\",\"\",IF(COUNTIF($B$4:$B3037,B1768)=1,\"ID Único OK\",\"ID repetido\"))","v":""}]
[null,null,null,null,null,null,null,"","",{"$f":"IF(B1769=\"\",\"\",IF(COUNTIF($B$4:$B3038,B1769)=1,\"ID Único OK\",\"ID repetido\"))","v":""}]
[null,null,null,null,null,null,null,"","",{"$f":"IF(B1770=\"\",\"\",IF(COUNTIF($B$4:$B3039,B1770)=1,\"ID Único OK\",\"ID repetido\"))","v":""}]
[null,null,null,null,null,null,null,"","",{"$f":"IF(B1771=\"\",\"\",IF(COUNTIF($B$4:$B3040,B1771)=1,\"ID Único OK\",\"ID repetido\"))","v":""}]
[null,null,null,null,null,null,null,"","",{"$f":"IF(B1772=\"\",\"\",IF(COUNTIF($B$4:$B3041,B1772)=1,\"ID Único OK\",\"ID repetido\"))","v":""}]
[null,null,null,null,null,null,null,"","",{"$f":"IF(B1773=\"\",\"\",IF(COUNTIF($B$4:$B3042,B1773)=1,\"ID Único OK\",\"ID repetido\"))","v":""}]
[null,null,null,null,null,null,null,"","",{"$f":"IF(B1774=\"\",\"\",IF(COUNTIF($B$4:$B3043,B1774)=1,\"ID Único OK\",\"ID repetido\"))","v":""}]
[null,null,null,null,null,null,null,"","",{"$f":"IF(B1775=\"\",\"\",IF(COUNTIF($B$4:$B3044,B1775)=1,\"ID Único OK\",\"ID repetido\"))","v":""}]
[null,null,null,null,null,null,null,"","",{"$f":"IF(B1776=\"\",\"\",IF(COUNTIF($B$4:$B3045,B1776)=1,\"ID Único OK\",\"ID repetido\"))","v":""}]
[null,null,null,null,null,null,null,"","",{"$f":"IF(B1777=\"\",\"\",IF(COUNTIF($B$4:$B3046,B1777)=1,\"ID Único OK\",\"ID repetido\"))","v":""}]
[null,null,null,null,null,null,null,"","",{"$f":"IF(B1778=\"\",\"\",IF(COUNTIF($B$4:$B3047,B1778)=1,\"ID Único OK\",\"ID repetido\"))","v":""}]
[null,null,null,null,null,null,null,"","",{"$f":"IF(B1779=\"\",\"\",IF(COUNTIF($B$4:$B3048,B1779)=1,\"ID Único OK\",\"ID repetido\"))","v":""}]
[null,null,null,null,null,null,null,"","",{"$f":"IF(B1780=\"\",\"\",IF(COUNTIF($B$4:$B3049,B1780)=1,\"ID Único OK\",\"ID repetido\"))","v":""}]
[null,null,null,null,null,null,null,"","",{"$f":"IF(B1781=\"\",\"\",IF(COUNTIF($B$4:$B3050,B1781)=1,\"ID Único OK\",\"ID repetido\"))","v":""}]
[null,null,null,null,null,null,null,"","",{"$f":"IF(B1782=\"\",\"\",IF(COUNTIF($B$4:$B3051,B1782)=1,\"ID Único OK\",\"ID repetido\"))","v":""}]
[null,null,null,null,null,null,null,"","",{"$f":"IF(B1783=\"\",\"\",IF(COUNTIF($B$4:$B3052,B1783)=1,\"ID Único OK\",\"ID repetido\"))","v":""}]
[null,null,null,null,null,null,null,"","",{"$f":"IF(B1784=\"\",\"\",IF(COUNTIF($B$4:$B3053,B1784)=1,\"ID Único OK\",\"ID repetido\"))","v":""}]
[null,null,null,null,null,null,null,"","",{"$f":"IF(B1785=\"\",\"\",IF(COUNTIF($B$4:$B3054,B1785)=1,\"ID Único OK\",\"ID repetido\"))","v":""}]

{"sheet":"PE MOP","index":2,"n_rows":130,"n_cols":4,"rows_kept":130,"cut":false,"hidden":true,"merged":[]}
["SERVICIO","PRODUCTO ESTRATÉGICO","SERVICIOS","ESTADO BD MOP"]
["SOP","Asesoría Jurídica para la toma de decisiones de las autoridades del Ministerio","SOP","INGRESADO"]
["SOP","Políticas, planes y programas en el ámbito desarrollo y gestión de las personas a nivel MOP.","DGC","POR RESPONDER"]
["SOP","Política y gestión del gasto corriente, Abastecimiento de Bienes y Servicios y Recursos Físicos a nivel MOP","DV","RESPONDIDO"]
["SOP","Instrumentos de comunicación interna y externa","DOH","SUBSANACIÓN"]
["SOP","Sistema de Planificación, Monitoreo y Control de Gestión Ministerial","ARQUITECTURA","DESISTIDO"]
["SOP","Sistema Integral de Infraestructura Computacional, Informática y Telecomunicaciones del MOP","SISS","RESPONDIDO (DERIVADO EXTERNO)"]
["SOP","Otros","DGA"]
["SOP","Atención telefónica","DOP"]
["SOP","Atención presencial"]
["SOP","Atención digital"]
["SOP","No es competencia del Servicio"]
["DGC","Servicios de Infraestructura Concesionada de Vialidad Interurbana."]
["DGC","Servicios de Infraestructura Concesionada de Vialidad Urbana."]
["DGC","Servicios de Infraestructura Concesionada Aeroportuaria."]
["DGC","Servicios de Infraestructura Concesionada para Movilidad Urbana e Interurbana."]
["DGC","Servicios de Infraestructura Concesionada Urbana, Productiva y de Edificación Pública."]
["DGC","Otros"]
["DGC","Atención telefónica"]
["DGC","Atención presencial"]
["DGC","Atención digital"]
["DGC","No es competencia del Servicio"]
["FISCALÍA","Asesoría Jurídica"]
["FISCALÍA","Gestión de terrenos necesarios para la ejecución de obra pública"]
["FISCALÍA","Otros"]
["FISCALÍA","Atención telefónica"]
["FISCALÍA","Atención presencial"]
["FISCALÍA","Atención digital"]
["FISCALÍA","No es competencia del Servicio"]
["DOH","Servicios de Infraestructura Hidráulica de Riego"]
["DOH","Servicios de Infraestructura Hidráulica de Evacuación y Drenaje de Aguas Lluvias"]
["DOH","Servicios de Infraestructura Hidráulica de Control Aluvional y de Manejo de Cauces"]
["DOH","Servicio de Infraestructura Hidráulica de Agua Potable Rural"]
["DOH","Otros"]
["DOH","Atención telefónica"]
["DOH","Atención presencial"]
["DOH","Atención digital"]
["DOH","No es competencia del Servicio"]
["DV","Infraestructura vial interurbana"]
["DV","Infraestructura vial de integración externa"]
["DV","Infraestructura vial urbana"]
["DV","Mantenimiento y explotación de infraestructura vial"]
["DV","Otros"]
["DV","Atención telefónica"]
["DV","Atención presencial"]
["DV","Atención digital"]
["DV","No es competencia del Servicio"]
["DGA","Expedientes resueltos de Derechos de aprovechamiento de aguas"]
["DGA","Sistema Nacional de Información del Agua"]
["DGA","Fiscalizaciones de Denuncias"]
["DGA","Pronunciamientos y Fiscalizaciones ambientales"]
["DGA","Investigaciones y evaluaciones del Recurso Hídrico"]
["DGA","Otros"]
["DGA","Atención telefónica"]
["DGA","Atención presencial"]
["DGA","Atención digital"]
["DGA","No es competencia del Servicio"]
["DOP","SERVICIOS DE INFRAESTRUCTURA PORTUARIA PESQUERA ARTESANAL"]
["DOP","SERVICIOS DE INFRAESTRUCTURA PORTUARIA DE CONECTIVIDAD"]
["DOP","SERVICIOS DE INFRAESTRUCTURA PORTUARIA DE RIBERA"]
["DOP","SERVICIOS DE INFRAESTRUCTURA DE MEJORAMIENTO DE BORDE COSTERO"]
["DOP","CONSERVACION DE INFRAESTRUCTURA PORTUARIA Y COSTERA"]
["DOP","SERVICIOS DE INFRAESTRUCTURA PORTUARIA PARA EL TURISMO Y DEPORTES NÁUTICOS"]
["DOP","Otros"]
["DOP","Atención telefónica"]
["DOP","Atención presencial"]
["DOP","Atención digital"]
["DOP","No es competencia del Servicio"]
["DCYF","Servicio de pago a contratistas, proveedores y personal del Ministerio de Obras Públicas."]
["DCYF","Servicio de asesoría transversal al MOP en los ámbitos financieros, contables, presupuestarios y de gestión en materias de administración."]
["DCYF","Propuesta de anteproyecto de presupuesto anual de gasto en personal y de bienes y servicios para el MOP."]
["DCYF","Servicio de contabilidad e información financiera, contable y presupuestaria"]
["DCYF","Otros"]
["DCYF","Atención telefónica"]
["DCYF","Atención presencial"]
["DCYF","Atención digital"]
["DCYF","No es competencia del Servicio"]
["DIRPLAN","Estudios, y Políticas Públicas asociadas a la provisión de servicios de infraestructura orientados al desarrollo nacional y regional."]
["DIRPLAN","Planes integrados de servicios de infraestructura."]
["DIRPLAN","Gestión Presupuestaria y de Inversiones MOP."]
["DIRPLAN","Información y Análisis Territorial "]
["DIRPLAN","Otros"]
["DIRPLAN","Atención telefónica"]
["DIRPLAN","Atención presencial"]
["DIRPLAN","Atención digital"]
["DIRPLAN","No es competencia del Servicio"]
["ARQUITECTURA","Servicios de Edificación Pública."]
["ARQUITECTURA","Obras de Arte asociadas a la infraestructura pública."]
["ARQUITECTURA","Servicios de Edificación Pública Patrimonial."]
["ARQUITECTURA","Otros"]
["ARQUITECTURA","Atención telefónica"]
["ARQUITECTURA","Atención presencial"]
["ARQUITECTURA","Atención digital"]
["ARQUITECTURA","No es competencia del Servicio"]
["SISS","Proposición de Decretos Tarifarios al Ministerio de Economía"]
["SISS","Proposición de Decretos de Concesión Urbana de Servicios Sanitarios al Ministerio de Obras Públicas"]
["SISS","Fiscalización de empresas sanitarias"]
["SISS","Otros"]
["SISS","Atención telefónica"]
["SISS","Atención presencial"]
["SISS","Atención digital"]
["SISS","No es competencia del Servicio"]
["DAP","Infraestructura Aeroportuaria en la Red Primaria."]
["DAP","Infraestructura Aeroportuaria en la Red Secundaria."]
["DAP","Infraestructura Aeroportuaria en la Red de Pequeños Aeródromos."]
["DAP","Otros"]
["DAP","Atención telefónica"]
["DAP","Atención presencial"]
["DAP","Atención digital"]
["DAP","No es competencia del Servicio"]
["INH","Estudios y Proyectos"]
["INH","Investigación Aplicada"]
["INH","Mediciones de Campo y Calibraciones"]
["INH","Difusión del Conocimiento"]
["INH","Otros"]
["INH","Atención telefónica"]
["INH","Atención presencial"]
["INH","Atención digital"]
["INH","No es competencia del Servicio"]
["DGOP","Sistema de gestión y control en la eficiencia y probidad del gasto en infraestructura pública"]
["DGOP","Dirigir y Asesorar a través de lineamientos, criterios y metodologías de Infraestructura Pública."]
["DGOP","Sistema de Contratación y Registro de Contratistas y Consultores MOP"]
["DGOP","Gestión de la Innovación en desafíos MOP."]
["DGOP","Sistema de gestión de la información y Desarrollo de herramientas digitales"]
["DGOP","Fiscalización de Obras de Infraestructura Pública"]
["DGOP","Otros"]
["DGOP","Atención telefónica"]
["DGOP","Atención presencial"]
["DGOP","Atención digital"]
["DGOP","No es competencia del Servicio"]

{"sheet":"Hoja1","index":3,"n_rows":15,"n_cols":7,"rows_kept":15,"cut":false,"hidden":true,"merged":[]}
["SERVICIO",1,2,3,4,5,6]
["SOP","Asesoría Jurídica para la toma de decisiones de las autoridades del Ministerio","Políticas, planes y programas en el ámbito desarrollo y gestión de las personas a nivel MOP.","Política y gestión del gasto corriente, Abastecimiento de Bienes y Servicios y Recursos Físicos a nivel MOP","Instrumentos de comunicación interna y externa","Sistema de Planificación, Monitoreo y Control de Gestión Ministerial","Sistema Integral de Infraestructura Computacional, Informática y Telecomunicaciones del MOP"]
["DGC","Servicios de Infraestructura Concesionada de Vialidad Interurbana.","Servicios de Infraestructura Concesionada de Vialidad Urbana.","Servicios de Infraestructura Concesionada Aeroportuaria.","Servicios de Infraestructura Concesionada para Movilidad Urbana e Interurbana.","Servicios de Infraestructura Concesionada Urbana, Productiva y de Edificación Pública."]
["FISCALÍA","Gestión de terrenos necesarios para la ejecución de obra pública","Asesoría Jurídica"]
["DOH","Servicios de Infraestructura Hidráulica de Riego","Servicios de Infraestructura Hidráulica de Evacuación y Drenaje de Aguas Lluvias","Servicios de Infraestructura Hidráulica de Control Aluvional y de Manejo de Cauces","Servicio de Infraestructura Hidráulica de Agua Potable Rural"]
["DV","Infraestructura vial interurbana","Infraestructura vial de integración externa","Infraestructura vial urbana","Mantenimiento y explotación de infraestructura vial"]
["DGA","Expedientes resueltos de Derechos de aprovechamiento de aguas","Sistema Nacional de Información del Agua","Fiscalizaciones de Denuncias","Pronunciamientos y Fiscalizaciones ambientales","Investigaciones y evaluaciones del Recurso Hídrico"]
["DOP","SERVICIOS DE INFRAESTRUCTURA PORTUARIA PESQUERA ARTESANAL","SERVICIOS DE INFRAESTRUCTURA PORTUARIA DE CONECTIVIDAD","SERVICIOS DE INFRAESTRUCTURA PORTUARIA DE RIBERA","SERVICIOS DE INFRAESTRUCTURA DE MEJORAMIENTO DE BORDE COSTERO","CONSERVACION DE INFRAESTRUCTURA PORTUARIA Y COSTERA","SERVICIOS DE INFRAESTRUCTURA PORTUARIA PARA EL TURISMO Y DEPORTES NÁUTICOS"]
["DCYF","Servicio de pago a contratistas, proveedores y personal del Ministerio de Obras Públicas.","Servicio de asesoría transversal al MOP en los ámbitos financieros, contables, presupuestarios y de gestión en materias de administración.","Propuesta de anteproyecto de presupuesto anual de gasto en personal y de bienes y servicios para el MOP.","Servicio de contabilidad e información financiera, contable y presupuestaria"]
["DIRPLAN","Estudios, y Políticas Públicas asociadas a la provisión de servicios de infraestructura orientados al desarrollo nacional y regional.","Planes integrados de servicios de infraestructura.","Gestión Presupuestaria y de Inversiones MOP.","Información y Análisis Territorial "]
["ARQUITECTURA","Servicios de Edificación Pública.","Obras de Arte asociadas a la infraestructura pública.","Servicios de Edificación Pública Patrimonial."]
["SISS","Proposición de Decretos Tarifarios al Ministerio de Economía","Proposición de Decretos de Concesión Urbana de Servicios Sanitarios al Ministerio de Obras Públicas","Fiscalización de empresas sanitarias"]
["DAP","Infraestructura Aeroportuaria en la Red Primaria.","Infraestructura Aeroportuaria en la Red Secundaria.","Infraestructura Aeroportuaria en la Red de Pequeños Aeródromos."]
["INH","Estudios y Proyectos","Investigación Aplicada","Mediciones de Campo y Calibraciones","Difusión del Conocimiento"]
["DGOP","Sistema de gestión y control en la eficiencia y probidad del gasto en infraestructura pública","Dirigir y Asesorar a través de lineamientos, criterios y metodologías de Infraestructura Pública.","Sistema de Contratación y Registro de Contratistas y Consultores MOP","Gestión de la Innovación en desafíos MOP.","Sistema de gestión de la información y Desarrollo de herramientas digitales","Fiscalización de Obras de Infraestructura Pública"]

{"sheet":"BDD","index":4,"n_rows":38,"n_cols":39,"rows_kept":38,"cut":false,"hidden":false,"merged":[[1,2,1,3]]}
[]
[null,null,"SERVICIO",null,"SOP"]
["N° CORRELATIVO ","NÚMERO DE SOLICITUD","PRODUCTO ESTRATÉGICO","FECHA INGRESO FORMULARIO","FECHA ENVÍO DE RESPUESTA","NÚMERO DE SOLICITUD","ESTADO"]
[1,"AM001W0083533","Instrumentos de comunicación interna y externa","2022-02-25","2022-03-07","AM001W0083533","RESPONDIDO"]
[2,"AM001W0085488","Instrumentos de comunicación interna y externa","2022-02-28","2022-03-07","AM001W0085488","RESPONDIDO"]
[3,"AM001W0086565","No es competencia del Servicio","2022-03-13","2022-03-14","AM001W0086565","RESPONDIDO (DERIVADO EXTERNO)"]
[4,"AM001W0087036","Instrumentos de comunicación interna y externa","2022-03-17","2022-03-28","AM001W0087036","RESPONDIDO",null,null,null,null,null,null,null,null,null,null,null,null,null,null,null,null,null,null,null,null,null,null,null,null,null,null,null,null,null,null,null,"INGRESADO"]
[5,"AM001D0087081","Instrumentos de comunicación interna y externa","2022-03-17","2022-03-22","AM001D0087081","RESPONDIDO",null,null,null,null,null,null,null,null,null,null,null,null,null,null,null,null,null,null,null,null,null,null,null,null,null,null,null,null,null,null,null,"EN ANÁLISIS"]
[6,"AM001W0087615","No es competencia del Servicio","2022-03-24","2022-03-28","AM001W0087615","RESPONDIDO (DERIVADO EXTERNO)",null,null,null,null,null,null,null,null,null,null,null,null,null,null,null,null,null,null,null,null,null,null,null,null,null,null,null,null,null,null,null,"RESPONDIDO"]
[7,"AM001P0088164","Instrumentos de comunicación interna y externa","2022-03-31","2022-04-11","AM001P0088164","RESPONDIDO"]
[8,"AM001W0088224","No es competencia del Servicio","2022-04-01","2022-04-11","AM001W0088224","RESPONDIDO (DERIVADO EXTERNO)"]
[9,"AM001W0088444","No es competencia del Servicio","2022-04-05","2022-04-11","AM001W0088444","RESPONDIDO (DERIVADO EXTERNO)"]
[10,"AM001W0088460","Instrumentos de comunicación interna y externa","2022-04-05","2022-04-13","AM001W0088460","RESPONDIDO"]
[11,"AM001W0089325","Instrumentos de comunicación interna y externa","2022-04-17","2022-04-25","AM001W0089325","RESPONDIDO"]
[12,"AM001W0089339","Instrumentos de comunicación interna y externa","2022-04-18","2022-04-19","AM001W0089339","RESPONDIDO"]
[13,"AM001W0089825","Instrumentos de comunicación interna y externa","2022-04-21","2022-04-25","AM001W0089825","RESPONDIDO"]
[14,"AM001W0090880","Instrumentos de comunicación interna y externa","2022-05-04","2022-05-12","AM001W0090880","RESPONDIDO"]
[15,"AM001W0091269","Instrumentos de comunicación interna y externa","2022-05-10","2022-05-24","AM001W0091269","RESPONDIDO"]
[16,"AM001W0091508","Instrumentos de comunicación interna y externa","2022-05-12","2022-05-17","AM001W0091508","RESPONDIDO"]
[17,"AM001W0091828","Instrumentos de comunicación interna y externa","2022-05-17","2022-05-30","AM001W0091828","RESPONDIDO"]
[18,"AM001W0092044","Instrumentos de comunicación interna y externa","2022-05-19","2022-05-26","AM001W0092044","RESPONDIDO"]
[19,"AM001P0092592","Instrumentos de comunicación interna y externa","2022-05-25","2022-06-08","AM001P0092592","RESPONDIDO"]
[20,"AM001W0092668","Instrumentos de comunicación interna y externa","2022-05-25","2022-06-07","AM001W0092668","RESPONDIDO"]
[21,"AM001W0093534","Instrumentos de comunicación interna y externa","2022-06-07","2022-06-15","AM001W0093534","RESPONDIDO"]
[22,"AM001W0094612","No es competencia del Servicio","2022-06-18","2022-06-20","AM001W0094612","RESPONDIDO (DERIVADO EXTERNO)"]
[23,"AM001W0094669","Instrumentos de comunicación interna y externa","2022-06-20","2022-06-28","AM001W0094669","RESPONDIDO"]
[24,"AM001W0094750","No es competencia del Servicio","2022-06-21","2022-06-28","AM001W0094750","RESPONDIDO (DERIVADO EXTERNO)"]
[25,"AM001W0095181","Instrumentos de comunicación interna y externa","2022-07-01","2022-07-06","AM001W0095181","RESPONDIDO"]
[26,"AM001W0097407","Instrumentos de comunicación interna y externa","2022-07-24","2022-07-27","AM001W0097407","RESPONDIDO"]
[27,"AM001W0099719","Instrumentos de comunicación interna y externa","2022-08-23","2022-08-29","AM001W0099719","RESPONDIDO"]
[28,"AM001W0100571","Instrumentos de comunicación interna y externa","2022-09-02","2022-09-07","AM001W0100571","RESPONDIDO"]
[29,"AM001P0100826","Instrumentos de comunicación interna y externa","2022-09-22","2022-09-26","AM001P0100826","RESPONDIDO"]
[30,"AM001W0102112","Instrumentos de comunicación interna y externa","2022-09-28","2022-09-28","AM001W0102112","RESPONDIDO"]
[31,"AM001W0102521","Instrumentos de comunicación interna y externa","2022-10-03","2022-10-05","AM001W0102521","RESPONDIDO"]
[32,"AM001P0104767","Instrumentos de comunicación interna y externa","2022-10-28","2022-11-10","AM001P0104767","RESPONDIDO"]
[33,"AM001W0107063","Instrumentos de comunicación interna y externa","2022-11-28","2022-12-05","AM001W0107063","RESPONDIDO"]
[34,"AM001P0108670","Instrumentos de comunicación interna y externa","2022-12-22","2022-12-28","AM001P0108670","RESPONDIDO"]
[35,"AM001W0108843","Instrumentos de comunicación interna y externa","2022-12-22","2022-12-29","AM001W0108843","RESPONDIDO"]

{"sheet":"Datos","index":5,"n_rows":33,"n_cols":4,"rows_kept":33,"cut":false,"hidden":false,"merged":[]}
["Mes","Número de reclamos recibidos al año t","Número de reclamos respondidos en año t","% de Reclamos respondidos en año t "]
["Años anteriores",{"$f":"COUNTIFS(BDD!$D$4:$D$36,\">=\"&Datos!$B$21,BDD!$D$4:$D$36,\"<=\"&Datos!$C21)","v":0},{"$f":"COUNTIFS(BDD!$E$4:$E$36,\">=\"&Datos!$B$21,BDD!$E$4:$E$36,\"<=\"&Datos!$C21)","v":0},{"$f":"IFERROR(C2/B2,0)","v":0}]
["Enero",{"$f":"COUNTIFS(BDD!$D$4:$D$36,\">=\"&Datos!$B$21,BDD!$D$4:$D$36,\"<=\"&Datos!$C22)","v":0},{"$f":"COUNTIFS(BDD!$E$4:$E$36,\">=\"&Datos!$B$21,BDD!$E$4:$E$36,\"<=\"&Datos!$C22)","v":0},{"$f":"IFERROR(C3/B3,0)","v":0}]
["Febrero",{"$f":"COUNTIFS(BDD!$D$4:$D$36,\">=\"&Datos!$B$21,BDD!$D$4:$D$36,\"<=\"&Datos!$C23)","v":2},{"$f":"COUNTIFS(BDD!$E$4:$E$36,\">=\"&Datos!$B$21,BDD!$E$4:$E$36,\"<=\"&Datos!$C23)","v":0},0]
["Marzo",{"$f":"COUNTIFS(BDD!$D$4:$D$36,\">=\"&Datos!$B$21,BDD!$D$4:$D$36,\"<=\"&Datos!$C24)-(COUNTIF(BDD!G4:G10,\"Respondido (derivado externo)\"))","v":5},{"$f":"COUNTIFS(BDD!$E$4:$E$36,\">=\"&Datos!$B$21,BDD!$E$4:$E$36,\"<=\"&Datos!$C24)-COUNTIF(BDD!G4:G9,\"respondido (derivado externo)\")","v":4},{"$f":"IFERROR(C5/B5,0)","v":0.8}]
["Abril",{"$f":"COUNTIFS(BDD!$D$4:$D$36,\">=\"&Datos!$B$21,BDD!$D$4:$D$36,\"<=\"&Datos!$C25)-(COUNTIF(BDD!$G$4:$G$16,\"respondido (derivado externo)\"))","v":9},{"$f":"COUNTIFS(BDD!$E$4:$E$36,\">=\"&Datos!$B$21,BDD!$E$4:$E$36,\"<=\"&Datos!$C25)-(COUNTIF(BDD!$G$4:$G$16,\"respondido (derivado externo)\"))","v":9},1]
["Mayo",{"$f":"COUNTIFS(BDD!$D$4:$D$36,\">=\"&Datos!$B$21,BDD!$D$4:$D$36,\"<=\"&Datos!$C26)-(COUNTIF(BDD!$G$4:$G$20,\"respondido (derivado externo)\"))","v":16},{"$f":"COUNTIFS(BDD!$E$4:$E$36,\">=\"&Datos!$B$21,BDD!$E$4:$E$36,\"<=\"&Datos!$C26)-(COUNTIF(BDD!$G$4:$G$20,\"respondido (derivado externo)\"))","v":14},0.875]
["Junio",{"$f":"COUNTIFS(BDD!$D$4:$D$36,\">=\"&Datos!$B$21,BDD!$D$4:$D$36,\"<=\"&Datos!$C27)-(COUNTIF(BDD!$G$4:$G$29,\"respondido (derivado externo)\"))","v":18},{"$f":"COUNTIFS(BDD!$E$4:$E$36,\">=\"&Datos!$B$21,BDD!$E$4:$E$36,\"<=\"&Datos!$C27)-(COUNTIF(BDD!$G$4:$G$29,\"respondido (derivado externo)\"))","v":18},1]
["Julio",{"$f":"COUNTIFS(BDD!$D$4:$D$36,\">=\"&Datos!$B$21,BDD!$D$4:$D$36,\"<=\"&Datos!$C28)-(COUNTIF(BDD!$G$4:$G$29,\"respondido (derivado externo)\"))","v":20},{"$f":"COUNTIFS(BDD!$E$4:$E$36,\">=\"&Datos!$B$21,BDD!$E$4:$E$36,\"<=\"&Datos!$C28)-(COUNTIF(BDD!$G$4:$G$29,\"respondido (derivado externo)\"))","v":20},1]
["Agosto",{"$f":"COUNTIFS(BDD!$D$4:$D$36,\">=\"&Datos!$B$21,BDD!$D$4:$D$36,\"<=\"&Datos!$C29)-(COUNTIF(BDD!$G$4:$G$29,\"respondido (derivado externo)\"))","v":21},{"$f":"COUNTIFS(BDD!$E$4:$E$36,\">=\"&Datos!$B$21,BDD!$E$4:$E$36,\"<=\"&Datos!$C29)-(COUNTIF(BDD!$G$4:$G$29,\"respondido (derivado externo)\"))","v":21},1]
["Septiembre",{"$f":"COUNTIFS(BDD!$D$4:$D$36,\">=\"&Datos!$B$21,BDD!$D$4:$D$36,\"<=\"&Datos!$C30)-(COUNTIF(BDD!$G$4:$G$29,\"respondido (derivado externo)\"))","v":24},{"$f":"COUNTIFS(BDD!$E$4:$E$36,\">=\"&Datos!$B$21,BDD!$E$4:$E$36,\"<=\"&Datos!$C30)-(COUNTIF(BDD!$G$4:$G$29,\"respondido (derivado externo)\"))","v":24},1]
["Octubre",{"$f":"COUNTIFS(BDD!$D$4:$D$36,\">=\"&Datos!$B$21,BDD!$D$4:$D$36,\"<=\"&Datos!$C31)-(COUNTIF(BDD!$G$4:$G$29,\"respondido (derivado externo)\"))","v":26},{"$f":"COUNTIFS(BDD!$E$4:$E$36,\">=\"&Datos!$B$21,BDD!$E$4:$E$36,\"<=\"&Datos!$C31)-(COUNTIF(BDD!$G$4:$G$29,\"respondido (derivado externo)\"))","v":25},0.96153846153846156]
["Noviembre",{"$f":"COUNTIFS(BDD!$D$4:$D$39,\">=\"&Datos!$B$21,BDD!$D$4:$D$39,\"<=\"&Datos!$C32)-(COUNTIF(BDD!$G$4:$G$39,\"respondido (derivado externo)\"))","v":27},{"$f":"COUNTIFS(BDD!$E$4:$E$39,\">=\"&Datos!$B$21,BDD!$E$4:$E$39,\"<=\"&Datos!$C32)-(COUNTIF(BDD!$G$4:$G$39,\"respondido (derivado externo)\"))","v":26},0.96296296296296291]
["Diciembre",{"$f":"COUNTIFS(BDD!$D$4:$D$39,\">=\"&Datos!$B$21,BDD!$D$4:$D$39,\"<=\"&Datos!$C33)-(COUNTIF(BDD!$G$4:$G$39,\"respondido (derivado externo)\"))","v":29},{"$f":"COUNTIFS(BDD!$E$4:$E$39,\">=\"&Datos!$B$21,BDD!$E$4:$E$39,\"<=\"&Datos!$C33)-(COUNTIF(BDD!$G$4:$G$39,\"respondido (derivado externo)\"))","v":29},1]
["TOTAL",{"$f":"COUNTIFS(BDD!$D$4:$D$38,\">=\"&Datos!$B$21,BDD!$D$4:$D$38,\"<=\"&Datos!$C33)-(COUNTIF(BDD!$G$4:$G$29,\"respondido (derivado externo)\"))","v":29},{"$f":"COUNTIFS(BDD!$E$4:$E$38,\">=\"&Datos!$B$21,BDD!$E$4:$E$38,\"<=\"&Datos!$C33)-(COUNTIF(BDD!$G$4:$G$29,\"respondido (derivado externo)\"))","v":29},{"$f":"IFERROR(C15/B15,0)","v":1}]
[]
[]
[]
[]
[]
["Diciembre","2021-12-01","2021-12-31"]
["Enero","2022-01-01","2022-01-31"]
["Febrero","2022-02-01","2022-02-28"]
["Marzo","2022-03-01","2022-03-31"]
["Abril","2022-04-01","2022-04-30"]
["Mayo","2022-05-01","2022-05-31"]
["Junio","2022-06-01","2022-06-30"]
["Julio","2022-07-01","2022-07-31"]
["Agosto","2022-08-01","2022-08-31"]
["Septiembre","2022-09-01","2022-09-30"]
["Octubre","2022-10-01","2022-10-31"]
["Noviembre","2022-11-01","2022-11-30"]
["Diciembre","2022-12-01","2022-12-31"]

{"sheet":"Hoja2","index":6,"n_rows":0,"n_cols":0,"rows_kept":0,"cut":false,"hidden":true,"merged":[]}